Workbook

Sheet Data Details
A1: This data was compiled by Hedin Environmental for the 2025 Upper Two Lick Creek Watershed Assessment and Restoration Plan
A3: Sheet Name | B3: Notes
A4: Sampling Locations | B4: Sampling locations (latitude and longitude)
A5: Property Owners | B5: Property owners of discharge locations and potential treatment areas.
A6: Chemical data | B6: All field and lab data collected during the sampling.
A7: Dixon Run | B7: Field and lab data collected during sampling in Dixon Run.
A8: Sample Run | B8: Field and lab data collected during sampling in Sample Run.
A9: Penn Run | B9: Field and lab data collected during sampling in Penn Run.
A10: Instream Data | B10: Field and lab data collected during sampling at instream locations on UTLC.

Sheet Sampling Locations
C1: Sampling location
A2: ID | B2: Description | C2: Lattitude | D2: Longitude | E2: Sample Type
A3: UTLC Instream
A4: KBLTL3 | B4: Two Lick above Penn Run | C4: 40.6453 | D4: -79.03676 | E4: Instream
A5: S2 | B5: Two Lick above Sample Run | C5: 40.658344 | D5: -79.024439 | E5: Instream
A6: S3 | B6: Two Lick above Dixon Run | C6: 40.669035 | D6: -79.013498 | E6: Instream
A7: S4 | B7: Two Lick above Buck Run | C7: 40.672022 | D7: -79.0026 | E7: Instream
A8: S5 | B8: Two Lick downstream of Diamondville | C8: 40.65778 | D8: -78.97507 | E8: Instream
A9: S6 | B9: Two Lick upstream of Diamondville | C9: 40.66272 | D9: -78.96882 | E9: Instream
A10: S7 | B10: Two Lick upstream South Branch | C10: 40.67557 | D10: -78.96301 | E10: Instream
A11: S8 | B11: Two Lick downstream of Starford | C11: 40.69773 | D11: -78.9583 | E11: Instream
A12: S9 | B12: Two Lick upstream T11 | C12: 40.70712 | D12: -78.95569 | E12: Instream
A13: S10 | B13: Two Lick upstream T12 | C13: 40.71125 | D13: -78.94383 | E13: Instream
A14: S11 | B14: Two Lick headwaters | C14: 40.71473 | D14: -78.92442 | E14: Instream
A15: Misc. and Richards Area
A16: KBLBUC | B16: Buck Run Mouth | C16: 40.672997 | D16: -79.002889 | E16: Tributary
A17: T6 | B17: South Branch Mouth | C17: 40.67466 | D17: -78.96223 | E17: Tributary
A18: D2 | B18: Diamondville borehole | C18: 40.66521 | D18: -78.97201 | E18: Discharge
A19: T11 | B19: UNT to Two Lick | C19: 40.70732 | D19: -78.95738 | E19: Tributary
A20: T12 | B20: UNT to Two Lick | C20: 40.71169 | D20: -78.94461 | E20: Tributary
A21: T5 | B21: UNT to Two Lick | C21: 40.67235 | D21: -78.99234 | E21: Tributary
A22: D1 | B22: Mack mine discharge | C22: 40.66497 | D22: -78.98022 | E22: Discharge
A23: KBLRS6 | B23: Richards system out | C23: 40.66316 | D23: -78.97872 | E23: Treatment system
A24: T1 | B24: Trib across from bare spot on opp. side of rd | C24: 40.66859 | D24: -78.99071 | E24: Discharge
A25: T5.5 | B25: Left trib source from mine dump | C25: 40.67119 | D25: -78.99543 | E25: Discharge
A26: T5.25 | B26: Right trib source from mine dump | C26: 40.67119 | D26: -78.99543 | E26: Discharge
A27: Seep 1 | B27: Richards system seepage | C27: 40.66332 | D27: -78.978949 | E27: Discharge
... A33: T14 | B33: UNT to Two Lick | C33: 40.70977 | D33: -78.92971 | E33: Tributary
A34: Penn Run
A35: KBLPEN | B35: Mouth of Penn Run | C35: 40.63754 | D35: -79.03631 | E35: Tributary
A36: MP14.5 | B36: Mouth of trib to Penn Run | C36: 40.63642 | D36: -79.03165 | E36: Tributary
A37: MP 14.25 | B37: Penn Run Mid | C37: 40.637988 | D37: -79.025632 | E37: Tributary
A38: MP14 | B38: Mouth of trib to Penn Run | C38: 40.63914 | D38: -79.01811 | E38: Tributary
A39: MP 12 | B39: Penn Run US of MP13 | C39: 40.635556 | D39: -79.012578 | E39: Tributary
A40: MP13 | B40: Mouth of trib to Penn Run | C40: 40.63382 | D40: -79.01358 | E40: Tributary
A41: MP7 | B41: Mouth of trib to Penn Run | C41: 40.63926 | D41: -79.00915 | E41: Tributary
A42: MP 1.5 | B42: Downstream of instream seepage (US PD1) | C42: 40.63872 | D42: -79.00731 | E42: Tributary
A43: MP1 | B43: Penn Run upstream of AMD, Penn Run upstream TMDL | C43: 40.63799 | D43: -79.00465 | E43: Tributary
A44: PR1 | B44: Penn Run refuse seepage | C44: 40.63875 | D44: -79.00708 | E44: Discharge
A45: PD1 | B45: AMD discharge. Upstream most discharge on north | C45: 40.63876 | D45: -79.00748 | E45: Discharge
...

Sheet Property Owners
A1: Property ownership as of November 2023
A2: ID | B2: Description | C2: Lattitude | D2: Longitude | E2: Acres | F2: Parcel Number | G2: Parcel | H2: ID | I2: Last Name | J2: Address | K2: City | L2: Combined | M2: State | N2: Zipcode | O2: Lot Type | P2: Terrain | Q2: Sewer | R2: Water | S2: Road | T2: Dwelling Type
A3: D2 | B3: Diamondville borehole | C3: 40.66521 | D3: -78.97201 | E3: 66.51 | F3: 107 | G3: 13-004-107 | H3: 13801 | I3: WANCHISN, JOHN A AL | J3: 1565 ROUTE 553 HWY | K3: PENN RUN | L3: DIAMONDVILLE RD | M3: PA | N3: 15765-8204 | O3: Rural | P3: Rollng | Q3: Unknown | R3: None | S3: Paved
A4: D1 | B4: Mack mine discharge | C4: 40.66497 | D4: -78.98022 | E4: 39 | F4: 120.01 | G4: 13-010-120.01 | H4: 14161 | I4: MYERS, TODD A UX | J4: 776 RAILROAD AVE | K4: CLYMER | L4: 776 RAILROAD AVE | M4: PA | N4: 15728-8239 | O4: Rural | P4: Steep | Q4: Septic | R4: Spring | S4: Dirt/Grv | T4: MODULR
A5: KBLRS6 | B5: Richards system out | C5: 40.66316 | D5: -78.97872 | E5: 21.43 | F5: 100.01A | G5: 13-005-100.01A | H5: 13814 | I5: RICHARDS, DENNIS J AL | J5: 116 PINE VALE RD | K5: MARION CENTER | M5: PA | N5: 15759-3701 | O5: Rural | P5: Rollng | Q5: Unknown | R5: None | S5: Paved
A6: T1 | B6: Trib across from bare spot on opp. side of rd | C6: 40.66859 | D6: -78.99071 | E6: 82.24 | F6: 100.01B | G6: 13-005-100.01B | H6: 13815 | I6: WHITTINGTON, LORI E | J6: 113 MCBRIDE HILL RD | K6: BUTLER | L6: RTE 403 HWY | M6: PA | N6: 16002 | O6: Rural | P6: Steep | Q6: Unknown | R6: None | S6: Paved
A7: T5.5 | B7: Left trib source from mine dump | C7: 40.67119 | D7: -78.99543 | E7: 12.08 | F7: 005-114.04 | G7: 13-005-114.04 | H7: 13866 | I7: US ENERGY EXPLORATION CORP | J7: PO BOX 237 | K7: RURAL VALLEY | L7: 13646 RTE 403 HWY N | M7: PA | N7: 15249 | O7: Rural | P7: Level | Q7: Public | R7: Public | S7: Paved
A8: T5.25 | B8: Right trib source from mine dump | C8: 40.67119 | D8: -78.99543 | E8: 12.08 | F8: 005-114.04 | G8: 13-005-114.04 | H8: 13866 | I8: US ENERGY EXPLORATION CORP | J8: PO BOX 237 | K8: RURAL VALLEY | L8: 13646 RTE 403 HWY N | M8: PA | N8: 15249 | O8: Rural | P8: Level | Q8: Public | R8: Public | S8: Paved
A9: Seep 1 | B9: Richards Seep | C9: 40.66332 | D9: -78.978949 | E9: 21.43 | F9: 100.01A | G9: 13-005-100.01A | H9: 13814 | I9: RICHARDS, DENNIS J AL | J9: 116 PINE VALE RD | K9: MARION CENTER | M9: PA | N9: 15759-3701 | O9: Rural | P9: Rollng | Q9: Unknown | R9: None | S9: Paved
A10: PR1 | B10: Penn Run refuse seepage | C10: 40.63875 | D10: -79.00713 | E10: 11.05 | F10: 114 | G10: 13-009-114 | H10: 14106 | I10: RHINE, KEITH A | J10: 647 RICH HILL RD | K10: PENN RUN | L10: 647 RICH HILL RD | M10: PA | N10: 15765-9129 | O10: Rural | P10: Rollng | Q10: Unknown | R10: None | S10: Paved
A11: PD1 | B11: AMD discharge. Upstream most discharge on north | C11: 40.63876 | D11: -79.00748 | E11: 11.05 | F11: 114 | G11: 13-009-114 | H11: 14106 | I11: RHINE, KEITH A | J11: 647 RICH HILL RD | K11: PENN RUN | L11: 647 RICH HILL RD | M11: PA | N11: 15765-9129 | O11: Rural | P11: Rollng | Q11: Unknown | R11: None | S11: Paved
A12: PD2 | B12: AMD discharge. Second discharge on north | C12: 40.63882 | D12: -79.00774 | E12: 11.05 | F12: 114 | G12: 13-009-114 | H12: 14106 | I12: RHINE, KEITH A | J12: 647 RICH HILL RD | K12: PENN RUN | L12: 647 RICH HILL RD | M12: PA | N12: 15765-9129 | O12: Rural | P12: Rollng | Q12: Unknown | R12: None | S12: Paved
A13: PD3 | B13: AMD discharge. Third discharge on north | C13: 40.63886 | D13: -79.00791 | E13: 11.05 | F13: 114 | G13: 13-009-114 | H13: 14106 | I13: RHINE, KEITH A | J13: 647 RICH HILL RD | K13: PENN RUN | L13: 647 RICH HILL RD | M13: PA | N13: 15765-9129 | O13: Rural | P13: Rollng | Q13: Unknown | R13: None | S13: Paved
A14: PD4 | B14: AMD discharge. Fouth discharge on south | C14: 40.63873 | D14: -79.00799 | E14: 11.05 | F14: 114 | G14: 13-009-114 | H14: 14106 | I14: RHINE, KEITH A | J14: 647 RICH HILL RD | K14: PENN RUN | L14: 647 RICH HILL RD | M14: PA | N14: 15765-9129 | O14: Rural | P14: Rollng | Q14: Unknown | R14: None | S14: Paved
A15: PD5 | B15: Discharge from berm of ponds | C15: 40.63671 | D15: -79.01115 | E15: 270.75 | F15: 104.03 | G15: 13-018-104.03 | H15: 14548 | I15: ACM III | J15: 810 S HARMONY RD | K15: PENN RUN | L15: 399 SPAULDING RD | M15: PA | N15: 15765-7516 | O15: Rural | P15: Rollng | Q15: Septic | R15: Well | S15: Paved | T15: DETACH
A16: Dixon AMD 1 | B16: Harris St discharge in Dixon Run report | C16: 40.67937 | D16: -79.01395 | E16: 10.59 | F16: 120 | G16: 13-002-120 | H16: 13722 | I16: MCCARTHY, ROBERT A AL | J16: 953 S 2ND ST | K16: INDIANA | M16: PA | N16: 15701 | O16: Rural | P16: Low | Q16: Unknown | R16: None | S16: Paved
A17: Dixon AMD 2 | B17: Discharge near Mears Complex | C17: 40.6832 | D17: -79.01304 | E17: 37.02 | F17: 144 | G17: 13-003-144 | H17: 13777 | I17: ROSEBUD MINING COMPANY | J17: 301 MARKET ST | K17: KITTANNING | L17: HARRISON ST | M17: PA | N17: 16201-1504 | O17: Rural | P17: Rollng | Q17: Unknown | R17: None | S17: Paved
B18: Northern Potential Treatment Area for PD1-3 | E18: 11.9 | F18: 114.03 | G18: 13-009-114.03 | H18: 14109 | I18: RHINE, KEITH A | J18: 647 RICH HILL RD | K18: PENN RUN | L18: 647 RICH HILL RD | M18: PA | N18: 15765-9129 | O18: Rural | P18: Rollng | Q18: Septic | R18: Well | S18: Paved | T18: DETACH
E19: 11.05 | F19: 114 | G19: 13-009-114 | H19: 14106 | I19: RHINE, KEITH A | J19: 647 RICH HILL RD | K19: PENN RUN | L19: 647 RICH HILL RD | M19: PA | N19: 15765-9129 | O19: Rural | P19: Rollng | Q19: Unknown | R19: None | S19: Paved
E20: 35 | F20: 130 | G20: 13-018-130 | H20: 14597 | I20: DEITMAN, DAVID M SR UX | J20: 185 MANOR RD | K20: PENN RUN | L20: GRACE CHURCH RD | M20: PA | N20: 15765 | O20: Rural | P20: Steep | Q20: Unknown | R20: None | S20: Dirt/Grv
B21: Southern Potential Treatment Area for PD1-3 | E21: 270.75 | F21: 104.03 | G21: 13-018-104.03 | H21: 14548 | I21: ACM III | J21: 810 S HARMONY RD | K21: PENN RUN | L21: 399 SPAULDING RD | M21: PA | N21: 15765-7516 | O21: Rural | P21: Rollng | Q21: Septic | R21: Well | S21: Paved | T21: DETACH
E22: 11.9 | F22: 114.03 | G22: 13-009-114.03 | H22: 14109 | I22: RHINE, KEITH A | J22: 647 RICH HILL RD | K22: PENN RUN | L22: 647 RICH HILL RD | M22: PA | N22: 15765-9129 | O22: Rural | P22: Rollng | Q22: Septic | R22: Well | S22: Paved | T22: DETACH
E23: 11.05 | F23: 114 | G23: 13-009-114 | H23: 14106 | I23: RHINE, KEITH A | J23: 647 RICH HILL RD | K23: PENN RUN | L23: 647 RICH HILL RD | M23: PA | N23: 15765-9129 | O23: Rural | P23: Rollng | Q23: Unknown | R23: None | S23: Paved
E24: 35 | F24: 130 | G24: 13-018-130 | H24: 14597 | I24: DEITMAN, DAVID M SR UX | J24: 185 MANOR RD | K24: PENN RUN | L24: GRACE CHURCH RD | M24: PA | N24: 15765 | O24: Rural | P24: Steep | Q24: Unknown | R24: None | S24: Dirt/Grv
B25: UTLC Potential Treatment Area for Dixon Run discharges | E25: 602.81 | F25: 120 | G25: 13-009-120 | H25: 14118 | I25: FAIRMAN, KAREN S | J25: 1020 CRAIG RD | K25: CREEKSIDE | L25: MOUNTAIN VIEW RD | M25: PA | N25: 15732-7031 | O25: Rural | P25: Rollng | Q25: Unknown | R25: None | S25: Dirt/Grv
E26: 28 | F26: 120 | G26: 13-006-120 | H26: 13930 | I26: FAIRMAN, KAREN S | J26: 1020 CRAIG RD | K26: CREEKSIDE | M26: PA | N26: 15732 | O26: Rural | P26: Rollng | Q26: Unknown | R26: None | S26: Paved
B27: UTLC Potential Treatment Area for Dixon Run discharges Pipeline | E27: 0 | F27: 724 | G27: 15-005-724 | H27: 16200 | I27: BOROUGH OF CLYMER | J27: 115 6TH ST | K27: CLYMER | L27: SIXTH + ADAM STS | M27: PA | N27: 15728-1188 | O27: Interior | P27: Level | Q27: Public | R27: Public | S27: Paved
E28: 0 | F28: 402 | G28: 15-005-402 | H28: 16152 | I28: WELKER, CHRISTINA M | J28: 475 SHERMAN ST | K28: CLYMER | L28: 830 FRANKLIN ST | M28: PA | N28: 15728-1149 | O28: Interior | P28: Level | Q28: Public | R28: Public | S28: Paved
E29: 5.45 | F29: 201 | G29: 15-006-201 | H29: 16224 | I29: BOROUGH OF CLYMER | J29: 70 ADAMS ST | K29: CLYMER | L29: LEE ST | M29: PA | N29: 15728 | O29: Interior | P29: Level | Q29: Public | R29: Public | S29: Paved
E30: 6.5 | F30: 210 | G30: 15-006-210 | H30: 16225 | I30: CLYMER BOROUGH | J30: 115 6TH ST | K30: CLYMER | L30: PENN + JEFFERSON | M30: PA | N30: 15728-1188 | O30: Interior | P30: Swampy | Q30: Public | R30: Public | S30: Paved
E31: 2.6 | F31: 600 | G31: 15-005-600 | H31: 16178 | I31: BOROUGH OF CLYMER | J31: BOROUGH OFFICES | K31: CLYMER | M31: PA | N31: 15728 | O31: Interior | P31: Rollng | Q31: Public | R31: Public | S31: Paved
E32: 27.25 | F32: 126 | G32: 13-006-126 | H32: 13938 | I32: AFC COAL PROPERTIES INC C/O CLEAN STREAMS FOUNDATION INC | J32: 180 NORTH MILL ST | K32: LEXINGTON | L32: RTE 286 HWY | M32: KY | N32: 40507 | O32: Rural | P32: Rollng | Q32: Unknown | R32: None | S32: Paved
E33: 36 | F33: 121 | G33: 13-006-121 | H33: 13931 | I33: FAIRMAN, KAREN S | J33: 1020 CRAIG RD | K33: CREEKSIDE | M33: PA | N33: 15732 | O33: Rural | P33: Rollng | Q33: Unknown | R33: None | S33: Paved
E34: 99 | F34: 120 | G34: 13-008-120 | H34: 14071 | I34: AFC COAL PROPERITES INC C/O CLEAN STREAMS FOUNDATION INC | J34: 180 NORTH MILL ST | K34: LEXINGTON | L34: GRACE CHURCH RD | M34: KY | N34: 40507 | O34: Rural | P34: Rollng | Q34: Unknown | R34: None | S34: Dirt/Grv
E35: 37.02 | F35: 144 | G35: 13-003-144 | H35: 13777 | I35: ROSEBUD MINING COMPANY | J35: 301 MARKET ST | K35: KITTANNING | L35: HARRISON ST | M35: PA | N35: 16201-1504 | O35: Rural | P35: Rollng | Q35: Unknown | R35: None | S35: Paved
E36: 10.59 | F36: 120 | G36: 13-002-120 | H36: 13722 | I36: MCCARTHY, ROBERT A AL | J36: 953 S 2ND ST | K36: INDIANA | M36: PA | N36: 15701 | O36: Rural | P36: Low | Q36: Unknown | R36: None | S36: Paved
E37: 14 | F37: 127 | G37: 13-006-127 | H37: 13939 | I37: FAIRMAN, KAREN S | J37: 1020 CRAIG RD | K37: CREEKSIDE | M37: PA | N37: 15732 | O37: Rural | P37: Rollng | Q37: Unknown | R37: None | S37: Paved
E38: 4.78 | F38: 727.01 | G38: 15-005-727.01 | H38: 16204 | I38: CLYMER BOROUGH | J38: 115 S SIXTH ST | K38: CLYMER | L38: 10TH ST | M38: PA | N38: 15728 | O38: Interior | P38: Rollng | Q38: Unknown | R38: None | S38: Paved
B39: Diamondville borehole Potential Treatment Area and Pipeline | E39: 87.29 | F39: 106.01 | G39: 13-010-106.01 | H39: 14130 | I39: CL OUTDOORS LLC | J39: 192 BARR RD | K39: CLYMER | M39: PA | N39: 15728 | O39: Rural | P39: Rollng | Q39: Unknown | R39: None | S39: Paved
E40: 66.51 | F40: 107 | G40: 13-004-107 | H40: 13801 | I40: WANCHISN, JOHN A AL | J40: 1565 ROUTE 553 HWY | K40: PENN RUN | L40: DIAMONDVILLE RD | M40: PA | N40: 15765-8204 | O40: Rural | P40: Rollng | Q40: Unknown | R40: None | S40: Paved
...

Sheet Chemical Data
A1: Upper Two Lick Creek Watershed Assessment Growing Greener Grant to Indiana County Conservation District. Data managed by Hedin Environmental. Contact Ben Hedin (ben.hedin@hedinenv.com) with questions.
A2: n/m = not measured
W3: tot. | X3: tot. | Y3: tot. | Z3: tot. | AA3: tot. | AB3: tot. | AC3: tot. | AD3: tot. | AE3: tot. | AF3: tot. | AG3: tot. | AH3: tot. | AI3: tot. | AJ3: tot.
A4: Date | B4: Sequence # | C4: Project ID | D4: DEP ID # | E4: Description | F4: Lat | G4: Long | H4: Sampler | I4: Stream mile | J4: Flow | K4: E/M | L4: pH, field | M4: pH, lab | N4: Conductivity, field | O4: Conductivity, lab | P4: Temp | Q4: Alkalinity, field | R4: Alkalinity, lab | S4: Net acidity, lab | T4: Net acidity, calc | U4: DO | V4: DO | W4: Fe, total | X4: Fe+2 | Y4: Fe+3 | Z4: Al | AA4: Mn | AB4: SO4 | AC4: Ca | AD4: Mg | AE4: Na | AF4: K | AG4: Cl | AH4: Ni | AI4: Zn | AJ4: Br | AK4: TSS | AL4: TDS | AN4: Acidity | AO4: Fe | AP4: Al | AQ4: Mn | AR4: SO4 | AS4: Alk | AT4: Notes | AU4: Latitude | AV4: Longitude
I5: mile from reservoir | J5: gpm | N5: uS/cm | O5: uS/cm | P5: C | Q5: mg/L CaCO3 | R5: mg/L CaCO3 | S5: mg/L CaCO3 | T5: mg/L CaCO3 | U5: mg/L | V5: % | W5: mg/L | X5: mg/L | Y5: mg/L | Z5: mg/L | AA5: mg/L | AB5: mg/L | AC5: mg/L | AD5: mg/L | AE5: mg/L | AF5: mg/L | AG5: mg/L | AH5: mg/L | AI5: mg/L | AJ5: mg/L | AK5: mg/L | AL5: mg/L | AN5: ppd | AO5: ppd | AP5: ppd | AQ5: ppd | AR5: ppd | AS5: ppd | AU5: dms | AV5: dms
A7: 37408 | C7: UTLC-103 from Blacklick Creek assessment | E7: Two Lick headwaters | H7: ICCD - Multi County | J7: 557 | M7: 6.8 | R7: 38 | W7: 1.06 | Z7: 0.77 | AA7: 0.07 | AB7: 70
A8: 44845 | B8: 019 | C8: S11 | E8: Two Lick headwaters | F8: 40.71473 | G8: -78.92442 | H8: Sabo | I8: 12.89 | J8: 207.24951 | K8: E | L8: 7.22 | M8: 7.1 | N8: 320 | O8: 156.6 | P8: 10.4 | Q8: 40 | R8: 50.2 | S8: -37.2 | T8: {=_xlfn.IFS(L8<=5,IF(ISNUMBER(X8)=TRUE,X8*1.79+AA8*1.8+Z8*5.56+50000*(10^-L8)-Q8,1.79+AA8*1.8+Z8*5.56+50000*(10^-L8)-Q8),L8>5,IF(ISNUMBER(X8)=TRUE,X8*1.79+AA8*1.8+50000*(10^-L8)-Q8,AA8*1.8+50000*(10^-L8)-Q8))} -> -39.289767 | W8: 0.226 | X8: 0.198 | Z8: 0.3 | AA8: 0.196 | AB8: 16.65 | AC8: 18.51 | AD8: 5.02 | AE8: 3.29 | AF8: 1.61 | AG8: 6.4 | AH8: <0.05 | AI8: <0.03 | AJ8: <0.2 | AN8: =S8*J8*0.012 -> -92.51618 | AO8: =W8*J8*0.012 -> 0.56206066 | AP8: =Z8*J8*0.012 -> 0.74609822 | AQ8: =AA8*J8*0.012 -> 0.48745084 | AR8: =AB8*J8*0.012 -> 41.408451 | AS8: =0.012*R8*J8 -> 124.8471 | AU8: =CONCATENATE(TEXT(ROUNDDOWN(ABS(F8),0),"00"),"° ",TEXT(ROUNDDOWN(ABS((F8-ROUNDDOWN(F8,0))*60),0),"00"),"' ",TEXT(TRUNC((ABS((F8-ROUNDDOWN(F8,0))*60)-ROUNDDOWN(ABS((F8-ROUNDDOWN(F8,0))*60),0))*60,2),"00.00"),"""",IF(F8<0," S"," N")) -> 40° 42' 53.02" N | AV8: =CONCATENATE(TEXT(ROUNDDOWN(ABS(G8),0),"000"),"° ",TEXT(ROUNDDOWN(ABS((G8-ROUNDDOWN(G8,0))*60),0),"00"),"' ",TEXT(TRUNC((ABS((G8-ROUNDDOWN(G8,0))*60)-ROUNDDOWN(ABS((G8-ROUNDDOWN(G8,0))*60),0))*60,2),"00.00"),"""",IF(G8<0," W"," E")) -> 078° 55' 27.91" W
A9: 44903 | B9: 019 | C9: S11 | E9: Two Lick headwaters | F9: 40.71473 | G9: -78.92442 | H9: Lee | I9: 12.89 | J9: 689.33992 | K9: E | L9: 8.11 | M9: 7 | N9: 322 | O9: 150.3 | Q9: 30 | R9: 37.6 | S9: -22.6 | T9: {=_xlfn.IFS(L9<=5,IF(ISNUMBER(X9)=TRUE,X9*1.79+AA9*1.8+Z9*5.56+50000*(10^-L9)-Q9,1.79+AA9*1.8+Z9*5.56+50000*(10^-L9)-Q9),L9>5,IF(ISNUMBER(X9)=TRUE,X9*1.79+AA9*1.8+50000*(10^-L9)-Q9,AA9*1.8+50000*(10^-L9)-Q9))} -> -29.927612 | W9: 0.147 | X9: <0.05 | Z9: 0.3 | AA9: 0.04 | AC9: 17 | AD9: 4.78 | AE9: 4.09 | AF9: 1.49 | AG9: 7.5 | AH9: <0.05 | AI9: <0.03 | AJ9: <0.2 | AN9: =S9*J9*0.012 -> -186.94899 | AO9: =W9*J9*0.012 -> 1.2159956 | AP9: =Z9*J9*0.012 -> 2.4816237 | AQ9: =AA9*J9*0.012 -> 0.33088316 | AR9: =AB9*J9*0.012 -> 0 | AS9: =0.012*R9*J9 -> 311.03017
A10: Average | J10: =AVERAGE(J8:J9) -> 448.29471 | K10: =AVERAGE(K8:K9) -> #DIV/0! | L10: =AVERAGE(L8:L9) -> 7.665 | M10: =AVERAGE(M8:M9) -> 7.05 | N10: =AVERAGE(N8:N9) -> 321 | O10: =AVERAGE(O8:O9) -> 153.45 | Q10: =AVERAGE(Q8:Q9) -> 35 | R10: =AVERAGE(R8:R9) -> 43.9 | S10: =AVERAGE(S8:S9) -> -29.9 | T10: =AVERAGE(T8:T9) -> -34.60869 | W10: =AVERAGE(W8:W9) -> 0.1865 | X10: =AVERAGE(X8:X9) -> 0.198 | Z10: =AVERAGE(Z8:Z9) -> 0.3 | AA10: =AVERAGE(AA8:AA9) -> 0.118 | AB10: =AVERAGE(AB8:AB9) -> 16.65 | AC10: =AVERAGE(AC8:AC9) -> 17.755 | AD10: =AVERAGE(AD8:AD9) -> 4.9 | AE10: =AVERAGE(AE8:AE9) -> 3.69 | AF10: =AVERAGE(AF8:AF9) -> 1.55 | AG10: =AVERAGE(AG8:AG9) -> 6.95 | ... AJ10: =AVERAGE(AJ8:AJ9) -> #DIV/0!
A12: 44846 | B12: 028 | C12: T14 | E12: UNT to Two Lick | F12: 40.70977 | G12: -78.92971 | H12: Hedin | I12: 12.4 | J12: 5 | K12: E | L12: 6.76 | M12: 6.8 | N12: 85 | O12: 81 | P12: 10.5 | Q12: 24 | R12: 23 | S12: -11.8 | T12: {=_xlfn.IFS(L12<=5,IF(ISNUMBER(X12)=TRUE,X12*1.79+AA12*1.8+Z12*5.56+50000*(10^-L12)-Q12,1.79+AA12*1.8+Z12*5.56+50000*(10^-L12)-Q12),L12>5,IF(ISNUMBER(X12)=TRUE,X12*1.79+AA12*1.8+50000*(10^-L12)-Q12,AA12*1.8+50000*(10^-L12)-Q12))} -> -23.806791 | U12: n/m | V12: n/m | W12: 0.167 | X12: 0.088 | Z12: 0.3 | AA12: 0.015 | AB12: 10.11 | AC12: 8.9 | AD12: 2.69 | AE12: 1.83 | AF12: 1.15 | AG12: 4 | AH12: <0.05 | AI12: <0.03 | AJ12: <0.2 | AN12: =S12*J12*0.012 -> -0.708 | AO12: =W12*J12*0.012 -> 0.01002 | AP12: =Z12*J12*0.012 -> 0.018 | AQ12: =AA12*J12*0.012 -> 0.0009 | AR12: =AB12*J12*0.012 -> 0.6066 | AS12: =0.012*R12*J12 -> 1.38 | AT12: No staining. | AU12: =CONCATENATE(TEXT(ROUNDDOWN(ABS(F12),0),"00"),"° ",TEXT(ROUNDDOWN(ABS((F12-ROUNDDOWN(F12,0))*60),0),"00"),"' ",TEXT(TRUNC((ABS((F12-ROUNDDOWN(F12,0))*60)-ROUNDDOWN(ABS((F12-ROUNDDOWN(F12,0))*60),0))*60,2),"00.00"),"""",IF(F12<0," S"," N")) -> 40° 42' 35.17" N | AV12: =CONCATENATE(TEXT(ROUNDDOWN(ABS(G12),0),"000"),"° ",TEXT(ROUNDDOWN(ABS((G12-ROUNDDOWN(G12,0))*60),0),"00"),"' ",TEXT(TRUNC((ABS((G12-ROUNDDOWN(G12,0))*60)-ROUNDDOWN(ABS((G12-ROUNDDOWN(G12,0))*60),0))*60,2),"00.00"),"""",IF(G12<0," W"," E")) -> 078° 55' 46.95" W
A13: 44903 | B13: 028 | C13: T14 | E13: UNT to Two Lick | F13: 40.70977 | G13: -78.92971 | H13: Hedin | I13: 12.4 | J13: 60 | K13: M | L13: 7.35 | M13: 6.6 | N13: 92 | O13: 68.3 | Q13: 19 | R13: 22 | S13: -6.8 | T13: {=_xlfn.IFS(L13<=5,IF(ISNUMBER(X13)=TRUE,X13*1.79+AA13*1.8+Z13*5.56+50000*(10^-L13)-Q13,1.79+AA13*1.8+Z13*5.56+50000*(10^-L13)-Q13),L13>5,IF(ISNUMBER(X13)=TRUE,X13*1.79+AA13*1.8+50000*(10^-L13)-Q13,AA13*1.8+50000*(10^-L13)-Q13))} -> -18.976167 | W13: 0.1 | X13: <0.05 | Z13: 0.3 | AA13: 0.012 | AC13: 7.76 | AD13: 2.31 | AE13: 1.55 | AF13: 1 | AG13: 4 | AH13: <0.05 | AI13: <0.03 | AJ13: <0.2 | AN13: =S13*J13*0.012 -> -4.896 | AO13: =W13*J13*0.012 -> 0.072 | AP13: =Z13*J13*0.012 -> 0.216 | AQ13: =AA13*J13*0.012 -> 0.00864 | AR13: =AB13*J13*0.012 -> 0 | AS13: =0.012*R13*J13 -> 15.84
A14: Average | J14: =AVERAGE(J12:J13) -> 32.5 | K14: =AVERAGE(K12:K13) -> #DIV/0! | L14: =AVERAGE(L12:L13) -> 7.055 | M14: =AVERAGE(M12:M13) -> 6.7 | N14: =AVERAGE(N12:N13) -> 88.5 | O14: =AVERAGE(O12:O13) -> 74.65 | Q14: =AVERAGE(Q12:Q13) -> 21.5 | R14: =AVERAGE(R12:R13) -> 22.5 | S14: =AVERAGE(S12:S13) -> -9.3 | T14: =AVERAGE(T12:T13) -> -21.391479 | W14: =AVERAGE(W12:W13) -> 0.1335 | X14: =AVERAGE(X12:X13) -> 0.088 | Z14: =AVERAGE(Z12:Z13) -> 0.3 | AA14: =AVERAGE(AA12:AA13) -> 0.0135 | AB14: =AVERAGE(AB12:AB13) -> 10.11 | AC14: =AVERAGE(AC12:AC13) -> 8.33 | AD14: =AVERAGE(AD12:AD13) -> 2.5 | AE14: =AVERAGE(AE12:AE13) -> 1.69 | AF14: =AVERAGE(AF12:AF13) -> 1.075 | AG14: =AVERAGE(AG12:AG13) -> 4 | ... AJ14: =AVERAGE(AJ12:AJ13) -> #DIV/0! | AN14: =AVERAGE(AN12:AN13) -> -2.802 | AO14: =AVERAGE(AO12:AO13) -> 0.04101 | AP14: =AVERAGE(AP12:AP13) -> 0.117 | AQ14: =AVERAGE(AQ12:AQ13) -> 0.00477 | AR14: =AVERAGE(AR12:AR13) -> 0.3033 | AS14: =AVERAGE(AS12:AS13) -> 8.61
A16: 44846 | B16: 027 | C16: T13 | E16: UNT to Two Lick | F16: 40.71214 | G16: -78.93998 | H16: Hedin | I16: 11.76 | J16: 3 | K16: M | L16: 6.45 | M16: 6.8 | N16: 95 | O16: 81 | P16: 11.3 | Q16: =AVERAGE(35,34) -> 34.5 | R16: 23 | S16: -20.2 | T16: {=_xlfn.IFS(L16<=5,IF(ISNUMBER(X16)=TRUE,X16*1.79+AA16*1.8+Z16*5.56+50000*(10^-L16)-Q16,1.79+AA16*1.8+Z16*5.56+50000*(10^-L16)-Q16),L16>5,IF(ISNUMBER(X16)=TRUE,X16*1.79+AA16*1.8+50000*(10^-L16)-Q16,AA16*1.8+50000*(10^-L16)-Q16))} -> -34.297739 | U16: n/m | V16: n/m | W16: 0.167 | X16: 0.088 | Z16: 0.3 | AA16: 0.015 | AB16: 10.11 | AC16: 8.913 | AD16: 2.69 | AE16: 1.83 | AF16: 1.15 | AG16: 4 | AH16: <0.05 | AI16: <0.03 | AJ16: <0.2 | AN16: =S16*J16*0.012 -> -0.7272 | AO16: =W16*J16*0.012 -> 0.006012 | AP16: =Z16*J16*0.012 -> 0.0108 | AQ16: =AA16*J16*0.012 -> 0.00054 | AR16: =AB16*J16*0.012 -> 0.36396 | AS16: =0.012*R16*J16 -> 0.828 | AT16: No staining. | AU16: =CONCATENATE(TEXT(ROUNDDOWN(ABS(F16),0),"00"),"° ",TEXT(ROUNDDOWN(ABS((F16-ROUNDDOWN(F16,0))*60),0),"00"),"' ",TEXT(TRUNC((ABS((F16-ROUNDDOWN(F16,0))*60)-ROUNDDOWN(ABS((F16-ROUNDDOWN(F16,0))*60),0))*60,2),"00.00"),"""",IF(F16<0," S"," N")) -> 40° 42' 43.70" N | AV16: =CONCATENATE(TEXT(ROUNDDOWN(ABS(G16),0),"000"),"° ",TEXT(ROUNDDOWN(ABS((G16-ROUNDDOWN(G16,0))*60),0),"00"),"' ",TEXT(TRUNC((ABS((G16-ROUNDDOWN(G16,0))*60)-ROUNDDOWN(ABS((G16-ROUNDDOWN(G16,0))*60),0))*60,2),"00.00"),"""",IF(G16<0," W"," E")) -> 078° 56' 23.92" W
A17: 44903 | B17: 027 | C17: T13 | E17: UNT to Two Lick | F17: 40.71214 | G17: -78.93998 | H17: Hedin | I17: 11.76 | J17: 100 | K17: E | L17: 7.63 | M17: 6.8 | N17: 245 | O17: 224 | Q17: 36 | R17: 40.4 | S17: -30 | T17: {=_xlfn.IFS(L17<=5,IF(ISNUMBER(X17)=TRUE,X17*1.79+AA17*1.8+Z17*5.56+50000*(10^-L17)-Q17,1.79+AA17*1.8+Z17*5.56+50000*(10^-L17)-Q17),L17>5,IF(ISNUMBER(X17)=TRUE,X17*1.79+AA17*1.8+50000*(10^-L17)-Q17,AA17*1.8+50000*(10^-L17)-Q17))} -> -35.934028 | W17: 0.12 | X17: <0.05 | Z17: 0.3 | AA17: 0.036 | AC17: 25.82 | AD17: 7.15 | AE17: 5.44 | AF17: 1.62 | AG17: 4.6 | AH17: <0.05 | AI17: <0.03 | AJ17: <0.2 | AN17: =S17*J17*0.012 -> -36 | AO17: =W17*J17*0.012 -> 0.144 | AP17: =Z17*J17*0.012 -> 0.36 | AQ17: =AA17*J17*0.012 -> 0.0432 | AR17: =AB17*J17*0.012 -> 0 | AS17: =0.012*R17*J17 -> 48.48
A18: Average | J18: =AVERAGE(J16:J17) -> 51.5 | K18: =AVERAGE(K16:K17) -> #DIV/0! | L18: =AVERAGE(L16:L17) -> 7.04 | M18: =AVERAGE(M16:M17) -> 6.8 | N18: =AVERAGE(N16:N17) -> 170 | O18: =AVERAGE(O16:O17) -> 152.5 | Q18: =AVERAGE(Q16:Q17) -> 35.25 | R18: =AVERAGE(R16:R17) -> 31.7 | S18: =AVERAGE(S16:S17) -> -25.1 | T18: =AVERAGE(T16:T17) -> -35.115884 | W18: =AVERAGE(W16:W17) -> 0.1435 | X18: =AVERAGE(X16:X17) -> 0.088 | Z18: =AVERAGE(Z16:Z17) -> 0.3 | AA18: =AVERAGE(AA16:AA17) -> 0.0255 | AB18: =AVERAGE(AB16:AB17) -> 10.11 | AC18: =AVERAGE(AC16:AC17) -> 17.3665 | AD18: =AVERAGE(AD16:AD17) -> 4.92 | AE18: =AVERAGE(AE16:AE17) -> 3.635 | AF18: =AVERAGE(AF16:AF17) -> 1.385 | AG18: =AVERAGE(AG16:AG17) -> 4.3 | ... AJ18: =AVERAGE(AJ16:AJ17) -> #DIV/0! | AN18: =AVERAGE(AN16:AN17) -> -18.3636 | AO18: =AVERAGE(AO16:AO17) -> 0.075006 | AP18: =AVERAGE(AP16:AP17) -> 0.1854 | AQ18: =AVERAGE(AQ16:AQ17) -> 0.02187 | AR18: =AVERAGE(AR16:AR17) -> 0.18198 | AS18: =AVERAGE(AS16:AS17) -> 24.654
A20: 44845 | B20: 018 | C20: S10 | E20: Two Lick upstream T12 | F20: 40.71125 | G20: -78.94383 | H20: Sabo | I20: 11.6 | J20: 512.66983 | K20: E | L20: 7.21 | M20: 7.4 | N20: 434 | O20: 443 | P20: 12 | Q20: 40 | R20: 78.2 | S20: -67.4 | T20: {=_xlfn.IFS(L20<=5,IF(ISNUMBER(X20)=TRUE,X20*1.79+AA20*1.8+Z20*5.56+50000*(10^-L20)-Q20,1.79+AA20*1.8+Z20*5.56+50000*(10^-L20)-Q20),L20>5,IF(ISNUMBER(X20)=TRUE,X20*1.79+AA20*1.8+50000*(10^-L20)-Q20,AA20*1.8+50000*(10^-L20)-Q20))} -> -39.596227 | W20: 0.174 | X20: 0.071 | Z20: 0.3 | AA20: 0.152 | AB20: 136.66 | AC20: 53.81 | AD20: 13.85 | AE20: 14.23 | AF20: 1.95 | AG20: 8.8 | AH20: <0.05 | AI20: <0.03 | AJ20: <0.2 | AN20: =S20*J20*0.012 -> -414.64736 | AO20: =W20*J20*0.012 -> 1.0704546 | AP20: =Z20*J20*0.012 -> 1.8456114 | AQ20: =AA20*J20*0.012 -> 0.93510977 | AR20: =AB20*J20*0.012 -> 840.73751 | AS20: =0.012*R20*J20 -> 481.08937 | AU20: =CONCATENATE(TEXT(ROUNDDOWN(ABS(F20),0),"00"),"° ",TEXT(ROUNDDOWN(ABS((F20-ROUNDDOWN(F20,0))*60),0),"00"),"' ",TEXT(TRUNC((ABS((F20-ROUNDDOWN(F20,0))*60)-ROUNDDOWN(ABS((F20-ROUNDDOWN(F20,0))*60),0))*60,2),"00.00"),"""",IF(F20<0," S"," N")) -> 40° 42' 40.49" N | AV20: =CONCATENATE(TEXT(ROUNDDOWN(ABS(G20),0),"000"),"° ",TEXT(ROUNDDOWN(ABS((G20-ROUNDDOWN(G20,0))*60),0),"00"),"' ",TEXT(TRUNC((ABS((G20-ROUNDDOWN(G20,0))*60)-ROUNDDOWN(ABS((G20-ROUNDDOWN(G20,0))*60),0))*60,2),"00.00"),"""",IF(G20<0," W"," E")) -> 078° 56' 37.78" W
A21: 44903 | B21: 018 | C21: S10 | E21: Two Lick upstream T12 | F21: 40.71125 | G21: -78.94383 | H21: Lee | I21: 11.6 | J21: 1705.2093 | K21: E | L21: 7.34 | M21: 7.2 | N21: 318 | O21: 316 | Q21: 35 | R21: 59.4 | S21: -42.4 | T21: {=_xlfn.IFS(L21<=5,IF(ISNUMBER(X21)=TRUE,X21*1.79+AA21*1.8+Z21*5.56+50000*(10^-L21)-Q21,1.79+AA21*1.8+Z21*5.56+50000*(10^-L21)-Q21),L21>5,IF(ISNUMBER(X21)=TRUE,X21*1.79+AA21*1.8+50000*(10^-L21)-Q21,AA21*1.8+50000*(10^-L21)-Q21))} -> -34.687065 | W21: 0.252 | X21: 0.075 | Z21: 0.3 | AA21: 0.098 | AC21: 37.86 | AD21: 9.83 | AE21: 9.67 | AF21: 1.72 | AG21: 7.9 | AH21: <0.05 | AI21: <0.03 | AJ21: <0.2 | AN21: =S21*J21*0.012 -> -867.61048 | AO21: =W21*J21*0.012 -> 5.1565528 | AP21: =Z21*J21*0.012 -> 6.1387534 | AQ21: =AA21*J21*0.012 -> 2.0053261 | AR21: =AB21*J21*0.012 -> 0 | AS21: =0.012*R21*J21 -> 1215.4732
A22: Average | J22: =AVERAGE(J20:J21) -> 1108.9396 | K22: =AVERAGE(K20:K21) -> #DIV/0! | L22: =AVERAGE(L20:L21) -> 7.275 | M22: =AVERAGE(M20:M21) -> 7.3 | N22: =AVERAGE(N20:N21) -> 376 | O22: =AVERAGE(O20:O21) -> 379.5 | Q22: =AVERAGE(Q20:Q21) -> 37.5 | R22: =AVERAGE(R20:R21) -> 68.8 | S22: =AVERAGE(S20:S21) -> -54.9 | T22: =AVERAGE(T20:T21) -> -37.141646 | W22: =AVERAGE(W20:W21) -> 0.213 | X22: =AVERAGE(X20:X21) -> 0.073 | Z22: =AVERAGE(Z20:Z21) -> 0.3 | AA22: =AVERAGE(AA20:AA21) -> 0.125 | AB22: =AVERAGE(AB20:AB21) -> 136.66 | AC22: =AVERAGE(AC20:AC21) -> 45.835 | AD22: =AVERAGE(AD20:AD21) -> 11.84 | AE22: =AVERAGE(AE20:AE21) -> 11.95 | AF22: =AVERAGE(AF20:AF21) -> 1.835 | AG22: =AVERAGE(AG20:AG21) -> 8.35 | ... AJ22: =AVERAGE(AJ20:AJ21) -> #DIV/0! | AN22: =AVERAGE(AN20:AN21) -> -641.12892 | AO22: =AVERAGE(AO20:AO21) -> 3.1135037 | AP22: =AVERAGE(AP20:AP21) -> 3.9921824 | AQ22: =AVERAGE(AQ20:AQ21) -> 1.4702179 | AR22: =AVERAGE(AR20:AR21) -> 420.36875 | AS22: =AVERAGE(AS20:AS21) -> 848.28127
A24: 37408 | C24: UTLC-051 from Blacklick Creek assessment | E24: UNT to Two Lick | H24: ICCD - Multi County | M24: 4.8 | R24: 2 | W24: 0.19 | Z24: 3.22 | AA24: 0.43 | AB24: 293
A25: 44845 | B25: 017 | C25: T12 | E25: UNT to Two Lick | F25: 40.71169 | G25: -78.94461 | H25: Sabo | I25: 11.53 | J25: 109.07869 | K25: E | L25: 7.35 | M25: 6.8 | N25: 507 | O25: 556 | P25: 11.9 | Q25: 20 | R25: 27.6 | S25: -11.4 | T25: {=_xlfn.IFS(L25<=5,IF(ISNUMBER(X25)=TRUE,X25*1.79+AA25*1.8+Z25*5.56+50000*(10^-L25)-Q25,1.79+AA25*1.8+Z25*5.56+50000*(10^-L25)-Q25),L25>5,IF(ISNUMBER(X25)=TRUE,X25*1.79+AA25*1.8+50000*(10^-L25)-Q25,AA25*1.8+50000*(10^-L25)-Q25))} -> -19.794367 | W25: 0.1 | X25: <0.05 | Z25: 0.3 | AA25: 0.113 | AB25: 252.33 | AC25: 75.37 | AD25: 20.58 | AE25: 6.17 | AF25: 2.02 | AG25: 8.5 | AH25: <0.05 | AI25: <0.03 | AJ25: <0.2 | AN25: =S25*J25*0.012 -> -14.921964 | AO25: =W25*J25*0.012 -> 0.13089443 | AP25: =Z25*J25*0.012 -> 0.39268328 | AQ25: =AA25*J25*0.012 -> 0.1479107 | AR25: =AB25*J25*0.012 -> 330.2859 | AS25: =0.012*R25*J25 -> 36.126861 | AU25: =CONCATENATE(TEXT(ROUNDDOWN(ABS(F25),0),"00"),"° ",TEXT(ROUNDDOWN(ABS((F25-ROUNDDOWN(F25,0))*60),0),"00"),"' ",TEXT(TRUNC((ABS((F25-ROUNDDOWN(F25,0))*60)-ROUNDDOWN(ABS((F25-ROUNDDOWN(F25,0))*60),0))*60,2),"00.00"),"""",IF(F25<0," S"," N")) -> 40° 42' 42.08" N | AV25: =CONCATENATE(TEXT(ROUNDDOWN(ABS(G25),0),"000"),"° ",TEXT(ROUNDDOWN(ABS((G25-ROUNDDOWN(G25,0))*60),0),"00"),"' ",TEXT(TRUNC((ABS((G25-ROUNDDOWN(G25,0))*60)-ROUNDDOWN(ABS((G25-ROUNDDOWN(G25,0))*60),0))*60,2),"00.00"),"""",IF(G25<0," W"," E")) -> 078° 56' 40.59" W
A26: 44903 | B26: 017 | C26: T12 | E26: UNT to Two Lick | F26: 40.71169 | G26: -78.94461 | H26: Lee | I26: 11.53 | J26: n/m | L26: 7.55 | M26: 6.9 | N26: 448 | O26: 466 | Q26: 25 | R26: 28.4 | S26: -15.4 | T26: {=_xlfn.IFS(L26<=5,IF(ISNUMBER(X26)=TRUE,X26*1.79+AA26*1.8+Z26*5.56+50000*(10^-L26)-Q26,1.79+AA26*1.8+Z26*5.56+50000*(10^-L26)-Q26),L26>5,IF(ISNUMBER(X26)=TRUE,X26*1.79+AA26*1.8+50000*(10^-L26)-Q26,AA26*1.8+50000*(10^-L26)-Q26))} -> -24.742991 | W26: 0.107 | X26: no data | Z26: 0.3 | AA26: 0.142 | AC26: 58.9 | AD26: 15.98 | AE26: 8.88 | AF26: 1.82 | AG26: 13.4 | AH26: <0.05 | AI26: <0.03 | AJ26: <0.2
A27: Average | J27: =AVERAGE(J25:J26) -> 109.07869 | K27: =AVERAGE(K25:K26) -> #DIV/0! | L27: =AVERAGE(L25:L26) -> 7.45 | M27: =AVERAGE(M25:M26) -> 6.85 | N27: =AVERAGE(N25:N26) -> 477.5 | O27: =AVERAGE(O25:O26) -> 511 | Q27: =AVERAGE(Q25:Q26) -> 22.5 | R27: =AVERAGE(R25:R26) -> 28 | S27: =AVERAGE(S25:S26) -> -13.4 | T27: =AVERAGE(T25:T26) -> -22.268679 | W27: =AVERAGE(W25:W26) -> 0.1035 | X27: =AVERAGE(X25:X26) -> #DIV/0! | Z27: =AVERAGE(Z25:Z26) -> 0.3 | AA27: =AVERAGE(AA25:AA26) -> 0.1275 | AB27: =AVERAGE(AB25:AB26) -> 252.33 | AC27: =AVERAGE(AC25:AC26) -> 67.135 | AD27: =AVERAGE(AD25:AD26) -> 18.28 | AE27: =AVERAGE(AE25:AE26) -> 7.525 | AF27: =AVERAGE(AF25:AF26) -> 1.92 | AG27: =AVERAGE(AG25:AG26) -> 10.95 | ... AJ27: =AVERAGE(AJ25:AJ26) -> #DIV/0! | AN27: =AVERAGE(AN25:AN26) -> -14.921964 | AO27: =AVERAGE(AO25:AO26) -> 0.13089443 | AP27: =AVERAGE(AP25:AP26) -> 0.39268328 | AQ27: =AVERAGE(AQ25:AQ26) -> 0.1479107 | AR27: =AVERAGE(AR25:AR26) -> 330.2859 | AS27: =AVERAGE(AS25:AS26) -> 36.126861
A29: 44845 | B29: 016 | C29: S9 | E29: Two Lick upstream T11 | F29: 40.70712 | G29: -78.95569 | H29: Sabo | I29: 10.9 | J29: 737.06027 | K29: E | L29: 7.64 | M29: 7.5 | N29: 414 | O29: 453 | P29: 15.2 | Q29: 60 | R29: 71.8 | S29: -63.4 | T29: {=_xlfn.IFS(L29<=5,IF(ISNUMBER(X29)=TRUE,X29*1.79+AA29*1.8+Z29*5.56+50000*(10^-L29)-Q29,1.79+AA29*1.8+Z29*5.56+50000*(10^-L29)-Q29),L29>5,IF(ISNUMBER(X29)=TRUE,X29*1.79+AA29*1.8+50000*(10^-L29)-Q29,AA29*1.8+50000*(10^-L29)-Q29))} -> -59.467145 | W29: 0.7 | X29: 0.109 | Z29: 0.3 | AA29: 0.187 | AB29: 147.28 | AC29: 54.99 | AD29: 14.3 | AE29: 12.72 | AF29: 1.98 | AG29: 9.5 | AH29: <0.05 | AI29: <0.03 | AJ29: <0.2 | AN29: =S29*J29*0.012 -> -560.75546 | AO29: =W29*J29*0.012 -> 6.1913063 | AP29: =Z29*J29*0.012 -> 2.653417 | AQ29: =AA29*J29*0.012 -> 1.6539633 | AR29: =AB29*J29*0.012 -> 1302.6508 | AS29: =0.012*R29*J29 -> 635.05113 | AU29: =CONCATENATE(TEXT(ROUNDDOWN(ABS(F29),0),"00"),"° ",TEXT(ROUNDDOWN(ABS((F29-ROUNDDOWN(F29,0))*60),0),"00"),"' ",TEXT(TRUNC((ABS((F29-ROUNDDOWN(F29,0))*60)-ROUNDDOWN(ABS((F29-ROUNDDOWN(F29,0))*60),0))*60,2),"00.00"),"""",IF(F29<0," S"," N")) -> 40° 42' 25.63" N | AV29: =CONCATENATE(TEXT(ROUNDDOWN(ABS(G29),0),"000"),"° ",TEXT(ROUNDDOWN(ABS((G29-ROUNDDOWN(G29,0))*60),0),"00"),"' ",TEXT(TRUNC((ABS((G29-ROUNDDOWN(G29,0))*60)-ROUNDDOWN(ABS((G29-ROUNDDOWN(G29,0))*60),0))*60,2),"00.00"),"""",IF(G29<0," W"," E")) -> 078° 57' 20.48" W
A30: 44903 | B30: 016 | C30: S9 | E30: Two Lick upstream T11 | F30: 40.70712 | G30: -78.95569 | H30: Lee | I30: 10.9 | J30: 2451.5623 | K30: E | L30: 7.59 | M30: 7.3 | N30: 326 | O30: 329 | Q30: 35 | R30: 57.8 | S30: -44.2 | T30: {=_xlfn.IFS(L30<=5,IF(ISNUMBER(X30)=TRUE,X30*1.79+AA30*1.8+Z30*5.56+50000*(10^-L30)-Q30,1.79+AA30*1.8+Z30*5.56+50000*(10^-L30)-Q30),L30>5,IF(ISNUMBER(X30)=TRUE,X30*1.79+AA30*1.8+50000*(10^-L30)-Q30,AA30*1.8+50000*(10^-L30)-Q30))} -> -34.670055 | W30: 0.278 | X30: 0.074 | Z30: 0.3 | AA30: 0.109 | AC30: 39.34 | AD30: 10.13 | AE30: 9.5 | AF30: 1.69 | AG30: 8.8 | AH30: <0.05 | AI30: <0.03 | AJ30: <0.2 | AN30: =S30*J30*0.012 -> -1300.3086 | AO30: =W30*J30*0.012 -> 8.1784117 | AP30: =Z30*J30*0.012 -> 8.8256242 | AQ30: =AA30*J30*0.012 -> 3.2066434 | AR30: =AB30*J30*0.012 -> 0 | AS30: =0.012*R30*J30 -> 1700.4036
A31: Average | J31: =AVERAGE(J29:J30) -> 1594.3113 | K31: =AVERAGE(K29:K30) -> #DIV/0! | L31: =AVERAGE(L29:L30) -> 7.615 | M31: =AVERAGE(M29:M30) -> 7.4 | N31: =AVERAGE(N29:N30) -> 370 | O31: =AVERAGE(O29:O30) -> 391 | Q31: =AVERAGE(Q29:Q30) -> 47.5 | R31: =AVERAGE(R29:R30) -> 64.8 | S31: =AVERAGE(S29:S30) -> -53.8 | T31: =AVERAGE(T29:T30) -> -47.0686 | W31: =AVERAGE(W29:W30) -> 0.489 | X31: =AVERAGE(X29:X30) -> 0.0915 | Z31: =AVERAGE(Z29:Z30) -> 0.3 | AA31: =AVERAGE(AA29:AA30) -> 0.148 | AB31: =AVERAGE(AB29:AB30) -> 147.28 | AC31: =AVERAGE(AC29:AC30) -> 47.165 | AD31: =AVERAGE(AD29:AD30) -> 12.215 | AE31: =AVERAGE(AE29:AE30) -> 11.11 | AF31: =AVERAGE(AF29:AF30) -> 1.835 | AG31: =AVERAGE(AG29:AG30) -> 9.15 | ... AJ31: =AVERAGE(AJ29:AJ30) -> #DIV/0! | AN31: =AVERAGE(AN29:AN30) -> -930.53204 | AO31: =AVERAGE(AO29:AO30) -> 7.184859 | AP31: =AVERAGE(AP29:AP30) -> 5.7395206 | AQ31: =AVERAGE(AQ29:AQ30) -> 2.4303034 | AR31: =AVERAGE(AR29:AR30) -> 651.32542 | AS31: =AVERAGE(AS29:AS30) -> 1167.7274
A33: 37408 | C33: UTLC-057 from Blacklick Creek assessment | H33: ICCD - Multi County | M33: 6.9 | R33: 19.6 | W33: 0.05 | Z33: 0.13 | AA33: 0.02 | AB33: 45
A34: 44845 | B34: 015 | C34: T11 | E34: UNT to Two Lick | F34: 40.70732 | G34: -78.95738 | H34: Sabo | I34: 10.85 | J34: 373.98407 | K34: E | L34: 7.93 | M34: 7.3 | N34: 224 | O34: 240 | P34: 16.3 | Q34: 46 | R34: 52.6 | S34: -41.4 | T34: {=_xlfn.IFS(L34<=5,IF(ISNUMBER(X34)=TRUE,X34*1.79+AA34*1.8+Z34*5.56+50000*(10^-L34)-Q34,1.79+AA34*1.8+Z34*5.56+50000*(10^-L34)-Q34),L34>5,IF(ISNUMBER(X34)=TRUE,X34*1.79+AA34*1.8+50000*(10^-L34)-Q34,AA34*1.8+50000*(10^-L34)-Q34))} -> -45.972413 | W34: 0.101 | X34: <0.05 | Z34: 0.3 | AA34: 0.015 | AB34: 41.96 | AC34: 26.35 | AD34: 8 | AE34: 7.17 | AF34: 2.05 | AG34: 12 | AH34: <0.05 | AI34: <0.03 | AJ34: <0.2 | AN34: =S34*J34*0.012 -> -185.79529 | AO34: =W34*J34*0.012 -> 0.45326869 | AP34: =Z34*J34*0.012 -> 1.3463427 | AQ34: =AA34*J34*0.012 -> 0.067317133 | AR34: =AB34*J34*0.012 -> 188.30846 | AS34: =0.012*R34*J34 -> 236.05875 | AU34: =CONCATENATE(TEXT(ROUNDDOWN(ABS(F34),0),"00"),"° ",TEXT(ROUNDDOWN(ABS((F34-ROUNDDOWN(F34,0))*60),0),"00"),"' ",TEXT(TRUNC((ABS((F34-ROUNDDOWN(F34,0))*60)-ROUNDDOWN(ABS((F34-ROUNDDOWN(F34,0))*60),0))*60,2),"00.00"),"""",IF(F34<0," S"," N")) -> 40° 42' 26.35" N | AV34: =CONCATENATE(TEXT(ROUNDDOWN(ABS(G34),0),"000"),"° ",TEXT(ROUNDDOWN(ABS((G34-ROUNDDOWN(G34,0))*60),0),"00"),"' ",TEXT(TRUNC((ABS((G34-ROUNDDOWN(G34,0))*60)-ROUNDDOWN(ABS((G34-ROUNDDOWN(G34,0))*60),0))*60,2),"00.00"),"""",IF(G34<0," W"," E")) -> 078° 57' 26.56" W
A35: 44903 | B35: 015 | C35: T11 | E35: UNT to Two Lick | F35: 40.70732 | G35: -78.95738 | H35: Lee | I35: 10.85 | J35: n/m | L35: 7.94 | M35: 7 | N35: 187 | O35: 151.2 | Q35: 25 | R35: 33.4 | S35: -19.6 | T35: {=_xlfn.IFS(L35<=5,IF(ISNUMBER(X35)=TRUE,X35*1.79+AA35*1.8+Z35*5.56+50000*(10^-L35)-Q35,1.79+AA35*1.8+Z35*5.56+50000*(10^-L35)-Q35),L35>5,IF(ISNUMBER(X35)=TRUE,X35*1.79+AA35*1.8+50000*(10^-L35)-Q35,AA35*1.8+50000*(10^-L35)-Q35))} -> -24.865046 | W35: 0.127 | X35: 0.062 | Z35: 0.3 | AA35: 0.013 | AC35: 15.44 | AD35: 4.9 | AE35: 5.18 | AF35: 1.67 | AG35: 8.1 | AH35: <0.05 | AI35: <0.03 | AJ35: <0.2
A36: Average | J36: =AVERAGE(J34:J35) -> 373.98407 | K36: =AVERAGE(K34:K35) -> #DIV/0! | L36: =AVERAGE(L34:L35) -> 7.935 | M36: =AVERAGE(M34:M35) -> 7.15 | N36: =AVERAGE(N34:N35) -> 205.5 | O36: =AVERAGE(O34:O35) -> 195.6 | Q36: =AVERAGE(Q34:Q35) -> 35.5 | R36: =AVERAGE(R34:R35) -> 43 | S36: =AVERAGE(S34:S35) -> -30.5 | T36: =AVERAGE(T34:T35) -> -35.418729 | W36: =AVERAGE(W34:W35) -> 0.114 | X36: =AVERAGE(X34:X35) -> 0.062 | Z36: =AVERAGE(Z34:Z35) -> 0.3 | AA36: =AVERAGE(AA34:AA35) -> 0.014 | AB36: =AVERAGE(AB34:AB35) -> 41.96 | AC36: =AVERAGE(AC34:AC35) -> 20.895 | AD36: =AVERAGE(AD34:AD35) -> 6.45 | AE36: =AVERAGE(AE34:AE35) -> 6.175 | AF36: =AVERAGE(AF34:AF35) -> 1.86 | AG36: =AVERAGE(AG34:AG35) -> 10.05 | ... AJ36: =AVERAGE(AJ34:AJ35) -> #DIV/0! | AN36: =AVERAGE(AN34:AN35) -> -185.79529 | AO36: =AVERAGE(AO34:AO35) -> 0.45326869 | AP36: =AVERAGE(AP34:AP35) -> 1.3463427 | AQ36: =AVERAGE(AQ34:AQ35) -> 0.067317133 | AR36: =AVERAGE(AR34:AR35) -> 188.30846 | AS36: =AVERAGE(AS34:AS35) -> 236.05875
A38: 37408 | C38: UTLC-066 from Blacklick Creek assessment | E38: Mouth Pompey Run | H38: ICCD - Multi County | M38: 7.04 | R38: 23.6 | W38: 0.11 | Z38: 0.11 | AA38: 0.02 | AB38: 28
A39: 44846 | B39: 026 | C39: T10 | E39: Mouth Pompey Run | F39: 40.69928 | G39: -78.95729 | H39: Remy | I39: 10.26 | J39: 60 | K39: E | L39: 7.87 | M39: 7.2 | N39: 255 | O39: 187.5 | P39: 8.8 | Q39: n/m | R39: 48 | S39: -36.2 | T39: {=_xlfn.IFS(L39<=5,IF(ISNUMBER(X39)=TRUE,X39*1.79+AA39*1.8+Z39*5.56+50000*(10^-L39)-R39,1.79+AA39*1.8+Z39*5.56+50000*(10^-L39)-R39),L39>5,IF(ISNUMBER(X39)=TRUE,X39*1.79+AA39*1.8+50000*(10^-L39)-R39,AA39*1.8+50000*(10^-L39)-R39))} -> -47.854226 | W39: 0.1 | X39: 0.07 | Z39: 0.3 | AA39: 0.011 | AB39: 17.49 | AC39: 20.4 | AD39: 6.45 | AE39: 7.49 | AF39: 1.65 | AG39: 15.4 | AH39: <0.05 | AI39: <0.03 | AJ39: <0.2 | AN39: =S39*J39*0.012 -> -26.064 | AO39: =W39*J39*0.012 -> 0.072 | AP39: =Z39*J39*0.012 -> 0.216 | AQ39: =AA39*J39*0.012 -> 0.00792 | AR39: =AB39*J39*0.012 -> 12.5928 | AS39: =0.012*R39*J39 -> 34.56 | AU39: =CONCATENATE(TEXT(ROUNDDOWN(ABS(F39),0),"00"),"° ",TEXT(ROUNDDOWN(ABS((F39-ROUNDDOWN(F39,0))*60),0),"00"),"' ",TEXT(TRUNC((ABS((F39-ROUNDDOWN(F39,0))*60)-ROUNDDOWN(ABS((F39-ROUNDDOWN(F39,0))*60),0))*60,2),"00.00"),"""",IF(F39<0," S"," N")) -> 40° 41' 57.40" N | AV39: =CONCATENATE(TEXT(ROUNDDOWN(ABS(G39),0),"000"),"° ",TEXT(ROUNDDOWN(ABS((G39-ROUNDDOWN(G39,0))*60),0),"00"),"' ",TEXT(TRUNC((ABS((G39-ROUNDDOWN(G39,0))*60)-ROUNDDOWN(ABS((G39-ROUNDDOWN(G39,0))*60),0))*60,2),"00.00"),"""",IF(G39<0," W"," E")) -> 078° 57' 26.24" W
A40: 44903 | B40: 026 | C40: T10 | E40: Mouth Pompey Run | F40: 40.69928 | G40: -78.95729 | H40: Remy | I40: 10.26 | J40: 100 | K40: E | L40: 7.24 | M40: 6.7 | N40: 152 | O40: 139.8 | R40: 31.6 | S40: -19.6 | T40: {=_xlfn.IFS(L40<=5,IF(ISNUMBER(X40)=TRUE,X40*1.79+AA40*1.8+Z40*5.56+50000*(10^-L40)-R40,1.79+AA40*1.8+Z40*5.56+50000*(10^-L40)-R40),L40>5,IF(ISNUMBER(X40)=TRUE,X40*1.79+AA40*1.8+50000*(10^-L40)-R40,AA40*1.8+50000*(10^-L40)-R40))} -> -31.579123 | W40: 0.131 | X40: <0.05 | Z40: 0.3 | AA40: 0.01 | AC40: 13.02 | AD40: 4.4 | AE40: 6.53 | AF40: 1.4 | AG40: 11.5 | AH40: <0.05 | AI40: <0.03 | AJ40: <0.2 | AN40: =S40*J40*0.012 -> -23.52 | AO40: =W40*J40*0.012 -> 0.1572 | AP40: =Z40*J40*0.012 -> 0.36 | AQ40: =AA40*J40*0.012 -> 0.012 | AR40: =AB40*J40*0.012 -> 0 | AS40: =0.012*R40*J40 -> 37.92
A41: Average | J41: =AVERAGE(J39:J40) -> 80 | K41: =AVERAGE(K39:K40) -> #DIV/0! | L41: =AVERAGE(L39:L40) -> 7.555 | M41: =AVERAGE(M39:M40) -> 6.95 | N41: =AVERAGE(N39:N40) -> 203.5 | O41: =AVERAGE(O39:O40) -> 163.65 | Q41: =AVERAGE(Q39:Q40) -> #DIV/0! | R41: =AVERAGE(R39:R40) -> 39.8 | S41: =AVERAGE(S39:S40) -> -27.9 | T41: =AVERAGE(T39:T40) -> -39.716674 | W41: =AVERAGE(W39:W40) -> 0.1155 | X41: =AVERAGE(X39:X40) -> 0.07 | Z41: =AVERAGE(Z39:Z40) -> 0.3 | AA41: =AVERAGE(AA39:AA40) -> 0.0105 | AB41: =AVERAGE(AB39:AB40) -> 17.49 | AC41: =AVERAGE(AC39:AC40) -> 16.71 | AD41: =AVERAGE(AD39:AD40) -> 5.425 | AE41: =AVERAGE(AE39:AE40) -> 7.01 | AF41: =AVERAGE(AF39:AF40) -> 1.525 | AG41: =AVERAGE(AG39:AG40) -> 13.45 | ... AJ41: =AVERAGE(AJ39:AJ40) -> #DIV/0! | AN41: =AVERAGE(AN39:AN40) -> -24.792 | AO41: =AVERAGE(AO39:AO40) -> 0.1146 | AP41: =AVERAGE(AP39:AP40) -> 0.288 | AQ41: =AVERAGE(AQ39:AQ40) -> 0.00996 | AR41: =AVERAGE(AR39:AR40) -> 6.2964 | AS41: =AVERAGE(AS39:AS40) -> 36.24
A43: 44845 | B43: 014 | C43: S8 | E43: Two Lick south of Starford | F43: 40.69773 | G43: -78.9583 | H43: Hedin | I43: 10.16 | J43: =3.52*449 -> 1580.48 | K43: M | L43: 7.58 | M43: 7.4 | N43: 411 | O43: 416 | P43: 10.9 | Q43: =AVERAGE(63,65) -> 64 | R43: 61 | S43: -50.4 | T43: {=_xlfn.IFS(L43<=5,IF(ISNUMBER(X43)=TRUE,X43*1.79+AA43*1.8+Z43*5.56+50000*(10^-L43)-Q43,1.79+AA43*1.8+Z43*5.56+50000*(10^-L43)-Q43),L43>5,IF(ISNUMBER(X43)=TRUE,X43*1.79+AA43*1.8+50000*(10^-L43)-Q43,AA43*1.8+50000*(10^-L43)-Q43))} -> -63.585485 | U43: 10.72 | V43: 96.8 | W43: 0.182 | X43: 0.08 | Z43: <0.3 | AA43: 0.15 | AB43: 135.23 | AC43: 48.19 | AD43: 13.4 | AE43: 11.02 | AF43: 1.9 | AG43: 9.9 | AH43: <0.05 | AI43: <0.03 | AJ43: <0.2 | AN43: =S43*J43*0.012 -> -955.8743 | AO43: =W43*J43*0.012 -> 3.4517683 | AP43: =Z43*J43*0.012 -> #VALUE! | AQ43: =AA43*J43*0.012 -> 2.844864 | AR43: =AB43*J43*0.012 -> 2564.7397 | AS43: =0.012*R43*J43 -> 1156.9114 | AT43: No staining. Lots of caddisfly larvae under rocks. | AU43: =CONCATENATE(TEXT(ROUNDDOWN(ABS(F43),0),"00"),"° ",TEXT(ROUNDDOWN(ABS((F43-ROUNDDOWN(F43,0))*60),0),"00"),"' ",TEXT(TRUNC((ABS((F43-ROUNDDOWN(F43,0))*60)-ROUNDDOWN(ABS((F43-ROUNDDOWN(F43,0))*60),0))*60,2),"00.00"),"""",IF(F43<0," S"," N")) -> 40° 41' 51.82" N | AV43: =CONCATENATE(TEXT(ROUNDDOWN(ABS(G43),0),"000"),"° ",TEXT(ROUNDDOWN(ABS((G43-ROUNDDOWN(G43,0))*60),0),"00"),"' ",TEXT(TRUNC((ABS((G43-ROUNDDOWN(G43,0))*60)-ROUNDDOWN(ABS((G43-ROUNDDOWN(G43,0))*60),0))*60,2),"00.00"),"""",IF(G43<0," W"," E")) -> 078° 57' 29.87" W
A44: 44903 | B44: 014 | C44: S8 | E44: Two Lick south of Starford | F44: 40.69773 | G44: -78.9583 | H44: Hedin | I44: 10.16 | J44: 6398 | K44: M | L44: 7.53 | M44: 7.2 | N44: 275 | O44: 275 | P44: 8 | Q44: 42 | R44: 47.2 | S44: -35.8 | T44: {=_xlfn.IFS(L44<=5,IF(ISNUMBER(X44)=TRUE,X44*1.79+AA44*1.8+Z44*5.56+50000*(10^-L44)-Q44,1.79+AA44*1.8+Z44*5.56+50000*(10^-L44)-Q44),L44>5,IF(ISNUMBER(X44)=TRUE,X44*1.79+AA44*1.8+50000*(10^-L44)-Q44,AA44*1.8+50000*(10^-L44)-Q44))} -> -41.998524 | U44: 11.31 | V44: 96 | W44: 0.194 | X44: <0.5 | Z44: <0.3 | AC44: 31.6 | AD44: 8.47 | AE44: 8.07 | AF44: 1.66 | AG44: 9.4 | AH44: <0.05 | AI44: <0.03 | AJ44: <0.2 | AN44: =S44*J44*0.012 -> -2748.5808 | AO44: =W44*J44*0.012 -> 14.894544 | AP44: =Z44*J44*0.012 -> #VALUE! | AQ44: =AA44*J44*0.012 -> 0 | AR44: =AB44*J44*0.012 -> 0 | AS44: =0.012*R44*J44 -> 3623.8272
A45: 44964 | B45: 014 | C45: S8 | E45: Two Lick south of Starford | F45: 40.69773 | G45: -78.9583 | H45: BCWA | J45: N/M | L45: 7.03 | M45: 6.9 | N45: 446 | O45: 332 | Q45: 43 | R45: 49.4 | S45: -37.4 | T45: {=_xlfn.IFS(L45<=5,IF(ISNUMBER(X45)=TRUE,X45*1.79+AA45*1.8+Z45*5.56+50000*(10^-L45)-Q45,1.79+AA45*1.8+Z45*5.56+50000*(10^-L45)-Q45),L45>5,IF(ISNUMBER(X45)=TRUE,X45*1.79+AA45*1.8+50000*(10^-L45)-Q45,AA45*1.8+50000*(10^-L45)-Q45))} -> -42.662834 | W45: 0.182 | X45: 0.05 | Z45: <0.3 | AA45: 0.135 | AB45: 95.31 | AC45: 37.73 | AD45: 10.68 | AE45: 8.75 | AF45: 1.62 | AG45: 9.9 | AH45: <0.05 | AI45: <0.03 | AJ45: <0.2
A46: 45022 | B46: 030 | C46: S8 | E46: Two Lick south of Starford | F46: 40.69773 | G46: -78.9583 | H46: BCWA | J46: N/M | L46: 7.61 | M46: 6.7 | N46: 265 | O46: 277 | Q46: 38 | R46: 43.4 | S46: -31.2 | T46: {=_xlfn.IFS(L46<=5,IF(ISNUMBER(X46)=TRUE,X46*1.79+AA46*1.8+Z46*5.56+50000*(10^-L46)-Q46,1.79+AA46*1.8+Z46*5.56+50000*(10^-L46)-Q46),L46>5,IF(ISNUMBER(X46)=TRUE,X46*1.79+AA46*1.8+50000*(10^-L46)-Q46,AA46*1.8+50000*(10^-L46)-Q46))} -> -37.761673 | W46: 0.258 | X46: 0.05 | Z46: 0.3 | AA46: 0.082 | AB46: 76.12 | AC46: 26.89 | AD46: 7.92 | AE46: 6.69 | AF46: 1.51 | AG46: 8.8 | AH46: <0.05 | AI46: <0.03 | AJ46: <0.2
A47: 45098 | B47: 069 | C47: S8 | E47: Two Lick south of Starford | F47: 40.69773 | G47: -78.9583 | H47: BCWA | J47: N/M | L47: 7.56 | M47: 6.5 | N47: 473 | O47: 446 | P47: 15 | Q47: 55 | R47: 66 | S47: -54.6 | T47: {=_xlfn.IFS(L47<=5,IF(ISNUMBER(X47)=TRUE,X47*1.79+AA47*1.8+Z47*5.56+50000*(10^-L47)-Q47,1.79+AA47*1.8+Z47*5.56+50000*(10^-L47)-Q47),L47>5,IF(ISNUMBER(X47)=TRUE,X47*1.79+AA47*1.8+50000*(10^-L47)-Q47,AA47*1.8+50000*(10^-L47)-Q47))} -> -54.626603 | W47: 0.141 | X47: 0.058 | Z47: 0.3 | AA47: 0.149 | AB47: 142.5 | AC47: 55.05 | AD47: 15.1 | AE47: 11.82 | AF47: 2.06 | AG47: 9.9 | AH47: 0.05 | AI47: 0.03 | AJ47: 0.2
A48: 45169 | B48: 069 | C48: S8 | E48: Two Lick south of Starford | F48: 40.69773 | G48: -78.9583 | H48: BCWA | J48: N/M | L48: 7.62 | M48: 6.5 | N48: 335 | O48: 334 | P48: 13.9 | Q48: 55 | R48: 54.2 | S48: -47.2 | T48: {=_xlfn.IFS(L48<=5,IF(ISNUMBER(X48)=TRUE,X48*1.79+AA48*1.8+Z48*5.56+50000*(10^-L48)-Q48,1.79+AA48*1.8+Z48*5.56+50000*(10^-L48)-Q48),L48>5,IF(ISNUMBER(X48)=TRUE,X48*1.79+AA48*1.8+50000*(10^-L48)-Q48,AA48*1.8+50000*(10^-L48)-Q48))} -> -54.520701 | W48: 0.809 | X48: 0.07 | Z48: 0.622 | AA48: 0.196 | AB48: 91.33 | AC48: 39.8 | AD48: 10.4 | AE48: 9.34 | AF48: 1.85 | AG48: 8.9 | AH48: 0.05 | AI48: 0.03 | AJ48: 0.2
A49: Average | J49: =AVERAGE(J43:J48) -> 3989.24 | K49: =AVERAGE(K43:K48) -> #DIV/0! | L49: =AVERAGE(L43:L48) -> 7.4883333 | M49: =AVERAGE(M43:M48) -> 6.8666667 | N49: =AVERAGE(N43:N48) -> 367.5 | O49: =AVERAGE(O43:O48) -> 346.66667 | P49: =AVERAGE(P43:P48) -> 11.95 | Q49: =AVERAGE(Q43:Q48) -> 49.5 | ... X49: =AVERAGE(X43:X48) -> 0.0616 | Z49: =AVERAGE(Z43:Z48) -> 0.40733333 | AA49: =AVERAGE(AA43:AA48) -> 0.1424 | AB49: =AVERAGE(AB43:AB48) -> 108.098 | AC49: =AVERAGE(AC43:AC48) -> 39.876667 | AD49: =AVERAGE(AD43:AD48) -> 10.995 | AE49: =AVERAGE(AE43:AE48) -> 9.2816667 | AF49: =AVERAGE(AF43:AF48) -> 1.7666667 | AG49: =AVERAGE(AG43:AG48) -> 9.4666667 | ... AJ49: =AVERAGE(AJ43:AJ48) -> 0.2
...

Sheet Dixon Run
A1: ='Chemical Data'!A1 -> Upper Two Lick Creek Watershed Assessment Growing Greener Grant to Indiana County Conservation District. Data managed by Hedin Environmental. Contact Ben Hedin (ben.hedin@hedinenv.com) with questions.
A2: ='Chemical Data'!A2 -> n/m = not measured
A4: ='Chemical Data'!A4 -> Date | B4: ='Chemical Data'!B4 -> Sequence # | C4: ='Chemical Data'!C4 -> Project ID | E4: ='Chemical Data'!E4 -> Description | F4: ='Chemical Data'!F4 -> Lat | G4: ='Chemical Data'!G4 -> Long | H4: ='Chemical Data'!H4 -> Sampler | I4: ='Chemical Data'!I4 -> Stream mile | J4: ='Chemical Data'!J4 -> Flow | K4: ='Chemical Data'!K4 -> E/M | L4: ='Chemical Data'!L4 -> pH, field | ... X4: ='Chemical Data'!X4 -> Fe+2 | Z4: ='Chemical Data'!Z4 -> Al | AA4: ='Chemical Data'!AA4 -> Mn | AB4: ='Chemical Data'!AB4 -> SO4 | AC4: ='Chemical Data'!AC4 -> Ca | AD4: ='Chemical Data'!AD4 -> Mg | AE4: ='Chemical Data'!AE4 -> Na | AF4: ='Chemical Data'!AF4 -> K | AG4: ='Chemical Data'!AG4 -> Cl | ... AJ4: ='Chemical Data'!AJ4 -> Br | AK4: TSS | AL4: TDS | AN4: ='Chemical Data'!AN4 -> Acidity | AO4: ='Chemical Data'!AO4 -> Fe | AP4: ='Chemical Data'!AP4 -> Al | AQ4: ='Chemical Data'!AQ4 -> Mn | AR4: ='Chemical Data'!AR4 -> SO4 | AS4: Alkalinity
I5: mile from mouth | J5: ='Chemical Data'!J5 -> gpm | N5: ='Chemical Data'!N5 -> uS/cm | O5: ='Chemical Data'!O5 -> uS/cm | P5: ='Chemical Data'!P5 -> C | Q5: ='Chemical Data'!Q5 -> mg/L CaCO3 | R5: ='Chemical Data'!R5 -> mg/L CaCO3 | S5: ='Chemical Data'!S5 -> mg/L CaCO3 | T5: ='Chemical Data'!T5 -> mg/L CaCO3 | U5: ='Chemical Data'!U5 -> mg/L | ... X5: ='Chemical Data'!X5 -> mg/L | Z5: ='Chemical Data'!Z5 -> mg/L | AA5: ='Chemical Data'!AA5 -> mg/L | AB5: ='Chemical Data'!AB5 -> mg/L | AC5: ='Chemical Data'!AC5 -> mg/L | AD5: ='Chemical Data'!AD5 -> mg/L | AE5: ='Chemical Data'!AE5 -> mg/L | AF5: ='Chemical Data'!AF5 -> mg/L | AG5: ='Chemical Data'!AG5 -> mg/L | ... AJ5: ='Chemical Data'!AJ5 -> mg/L | AK5: mg/L | AL5: mg/L | AN5: ='Chemical Data'!AN5 -> ppd | AO5: ='Chemical Data'!AO5 -> ppd | AP5: ='Chemical Data'!AP5 -> ppd | AQ5: ='Chemical Data'!AQ5 -> ppd | AR5: ='Chemical Data'!AR5 -> ppd | AS5: ppd
A7: ='Chemical Data'!A539 -> 44845 | B7: ='Chemical Data'!B539 -> 009 | C7: ='Chemical Data'!C539 -> T15 | E7: ='Chemical Data'!E539 -> Dixon run @ Dixonville | F7: ='Chemical Data'!F539 -> 40.7177 | G7: ='Chemical Data'!G539 -> -79.00632 | H7: ='Chemical Data'!H539 -> Tasker | I7: 3.68 | J7: ='Chemical Data'!J539 -> 915 | K7: ='Chemical Data'!K539 -> M | L7: ='Chemical Data'!L539 -> 7.83 | M7: ='Chemical Data'!M539 -> 7.8 | N7: ='Chemical Data'!N539 -> 464 | O7: ='Chemical Data'!O539 -> 470 | P7: ='Chemical Data'!P539 -> 7.6 | Q7: ='Chemical Data'!Q539 -> 94 | ... X7: ='Chemical Data'!X539 -> <0.05 | Z7: ='Chemical Data'!Z539 -> 0.3 | AA7: ='Chemical Data'!AA539 -> 0.024 | AB7: ='Chemical Data'!AB539 -> 144.76 | AC7: ='Chemical Data'!AC539 -> 59.55 | AD7: ='Chemical Data'!AD539 -> 18.64 | AE7: ='Chemical Data'!AE539 -> 4.91 | AF7: ='Chemical Data'!AF539 -> 1.83 | AG7: ='Chemical Data'!AG539 -> 5.7 | ... AJ7: ='Chemical Data'!AJ539 -> <0.2 | AN7: ='Chemical Data'!AN539 -> -924.516 | AO7: ='Chemical Data'!AO539 -> 1.098 | AP7: ='Chemical Data'!AP539 -> 3.294 | AQ7: ='Chemical Data'!AQ539 -> 0.26352 | AR7: ='Chemical Data'!AR539 -> 1589.4648
A8: ='Chemical Data'!A540 -> 44903 | B8: ='Chemical Data'!B540 -> 009 | C8: ='Chemical Data'!C540 -> T15 | E8: ='Chemical Data'!E540 -> Dixon run @ Dixonville | F8: ='Chemical Data'!F540 -> 40.7177 | G8: ='Chemical Data'!G540 -> -79.00632 | H8: ='Chemical Data'!H540 -> Tasker | I8: 3.68 | J8: ='Chemical Data'!J540 -> 3402 | K8: ='Chemical Data'!K540 -> M | L8: ='Chemical Data'!L540 -> 7.85 | M8: ='Chemical Data'!M540 -> 7.5 | N8: ='Chemical Data'!N540 -> 313 | O8: ='Chemical Data'!O540 -> 323 | P8: ='Chemical Data'!P540 -> 7.9 | Q8: ='Chemical Data'!Q540 -> 67.5 | ... X8: ='Chemical Data'!X540 -> <0.05 | Z8: ='Chemical Data'!Z540 -> 0.3 | AA8: ='Chemical Data'!AA540 -> 0.046 | AC8: ='Chemical Data'!AC540 -> 40.45 | AD8: ='Chemical Data'!AD540 -> 12.49 | AE8: ='Chemical Data'!AE540 -> 4.52 | AF8: ='Chemical Data'!AF540 -> 1.57 | AG8: ='Chemical Data'!AG540 -> 5.4 | AH8: ='Chemical Data'!AH540 -> <0.05 | AI8: ='Chemical Data'!AI540 -> <0.03 | AJ8: ='Chemical Data'!AJ540 -> <0.2 | AN8: ='Chemical Data'!AN540 -> -2531.088 | AO8: ='Chemical Data'!AO540 -> 4.0824 | AP8: ='Chemical Data'!AP540 -> 12.2472 | AQ8: ='Chemical Data'!AQ540 -> 1.877904
A9: ='Chemical Data'!A541 -> 44964 | B9: ='Chemical Data'!B541 -> 009 | C9: ='Chemical Data'!C541 -> T15 | D9: ='Chemical Data'!D541 -> 0 | E9: ='Chemical Data'!E541 -> Dixon run @ Dixonville | F9: ='Chemical Data'!F541 -> 40.7177 | G9: ='Chemical Data'!G541 -> -79.00632 | H9: ='Chemical Data'!H541 -> Hedin/ICCD | J9: ='Chemical Data'!J541 -> 3627.92 | K9: ='Chemical Data'!K541 -> M | L9: ='Chemical Data'!L541 -> 0 | M9: ='Chemical Data'!M541 -> 7.5 | N9: ='Chemical Data'!N541 -> 0 | O9: ='Chemical Data'!O541 -> 371 | P9: ='Chemical Data'!P541 -> 0 | Q9: =R9 -> 72 | R9: ='Chemical Data'!R541 -> 72 | S9: ='Chemical Data'!S541 -> -53.6 | T9: ='Chemical Data'!T541 -> -71.833319 | U9: ='Chemical Data'!U541 -> 0 | V9: ='Chemical Data'!V541 -> 0 | W9: ='Chemical Data'!W541 -> 0.1 | X9: ='Chemical Data'!X541 -> 0.05 | Z9: ='Chemical Data'!Z541 -> 0.3 | AA9: ='Chemical Data'!AA541 -> 0.042 | AB9: ='Chemical Data'!AB541 -> 104.25 | AC9: ='Chemical Data'!AC541 -> 46.27 | AD9: ='Chemical Data'!AD541 -> 14.67 | AE9: ='Chemical Data'!AE541 -> 4.08 | AF9: ='Chemical Data'!AF541 -> 1.51 | AG9: ='Chemical Data'!AG541 -> 5.1 | ... AJ9: ='Chemical Data'!AJ541 -> <0.2 | AN9: ='Chemical Data'!AN541 -> -2333.4781 | AO9: ='Chemical Data'!AO541 -> 4.353504 | AP9: ='Chemical Data'!AP541 -> 13.060512 | AQ9: ='Chemical Data'!AQ541 -> 1.8284717 | AR9: ='Chemical Data'!AR541 -> 4538.5279
A10: ='Chemical Data'!A542 -> 45022 | B10: ='Chemical Data'!B542 -> 019 | C10: ='Chemical Data'!C542 -> T15 | D10: ='Chemical Data'!D542 -> 0 | E10: ='Chemical Data'!E542 -> Dixon run @ Dixonville | F10: ='Chemical Data'!F542 -> 40.7177 | G10: ='Chemical Data'!G542 -> -79.00632 | H10: ='Chemical Data'!H542 -> Hedin/ICCD | J10: ='Chemical Data'!J542 -> 5289 | K10: ='Chemical Data'!K542 -> M | L10: ='Chemical Data'!L542 -> 7.8 | M10: ='Chemical Data'!M542 -> 6.5 | N10: ='Chemical Data'!N542 -> 289 | O10: ='Chemical Data'!O542 -> 315 | P10: ='Chemical Data'!P542 -> 0 | Q10: =R10 -> 65.2 | R10: ='Chemical Data'!R542 -> 65.2 | S10: ='Chemical Data'!S542 -> -56.6 | T10: ='Chemical Data'!T542 -> -65.035908 | U10: ='Chemical Data'!U542 -> 0 | V10: ='Chemical Data'!V542 -> 0 | W10: ='Chemical Data'!W542 -> 0.152 | X10: ='Chemical Data'!X542 -> 0.05 | Z10: ='Chemical Data'!Z542 -> 0.3 | AA10: ='Chemical Data'!AA542 -> 0.041 | AB10: ='Chemical Data'!AB542 -> 90.97 | AC10: ='Chemical Data'!AC542 -> 43 | AD10: ='Chemical Data'!AD542 -> 13.1 | AE10: ='Chemical Data'!AE542 -> 3.96 | AF10: ='Chemical Data'!AF542 -> 1.55 | AG10: ='Chemical Data'!AG542 -> 4.6 | ... AJ10: ='Chemical Data'!AJ542 -> <0.2 | AN10: ='Chemical Data'!AN542 -> -3592.2888 | AO10: ='Chemical Data'!AO542 -> 9.647136 | AP10: ='Chemical Data'!AP542 -> 19.0404 | AQ10: ='Chemical Data'!AQ542 -> 2.602188 | AR10: ='Chemical Data'!AR542 -> 5773.684
A11: ='Chemical Data'!A543 -> 45098 | B11: ='Chemical Data'!B543 -> 047 | C11: ='Chemical Data'!C543 -> T15 | E11: ='Chemical Data'!E543 -> Dixon run @ Dixonville | F11: ='Chemical Data'!F543 -> 40.7177 | G11: ='Chemical Data'!G543 -> -79.00632 | H11: ='Chemical Data'!H543 -> SFU/ICCD | J11: ='Chemical Data'!J543 -> 588 | K11: ='Chemical Data'!K543 -> M | L11: ='Chemical Data'!L543 -> 7.98 | M11: ='Chemical Data'!M543 -> 6.8 | N11: ='Chemical Data'!N543 -> 449.4 | O11: ='Chemical Data'!O543 -> 441 | P11: ='Chemical Data'!P543 -> 0 | Q11: =R11 -> 91.8 | R11: ='Chemical Data'!R543 -> 91.8 | S11: ='Chemical Data'!S543 -> -84.6 | T11: ='Chemical Data'!T543 -> -91.643376 | U11: ='Chemical Data'!U543 -> 0 | V11: ='Chemical Data'!V543 -> 0 | W11: ='Chemical Data'!W543 -> 0.1 | X11: ='Chemical Data'!X543 -> 0.05 | Z11: ='Chemical Data'!Z543 -> 0.3 | AA11: ='Chemical Data'!AA543 -> 0.037 | AB11: ='Chemical Data'!AB543 -> 128.02 | AC11: ='Chemical Data'!AC543 -> 58.75 | AD11: ='Chemical Data'!AD543 -> 17.42 | AE11: ='Chemical Data'!AE543 -> 5.31 | AF11: ='Chemical Data'!AF543 -> 1.94 | AG11: ='Chemical Data'!AG543 -> 6.3 | ... AJ11: ='Chemical Data'!AJ543 -> 0.2 | AN11: ='Chemical Data'!AN543 -> -596.9376 | AO11: ='Chemical Data'!AO543 -> 0.7056 | AP11: ='Chemical Data'!AP543 -> 2.1168 | AQ11: ='Chemical Data'!AQ543 -> 0.261072 | AR11: ='Chemical Data'!AR543 -> 903.30912
A12: 45169 | B12: ='Chemical Data'!B544 -> 033 | C12: ='Chemical Data'!C544 -> T15 | E12: ='Chemical Data'!E544 -> Dixon run @ Dixonville | F12: ='Chemical Data'!F544 -> 40.7177 | G12: ='Chemical Data'!G544 -> -79.00632 | H12: ='Chemical Data'!H544 -> ICCD | J12: ='Chemical Data'!J544 -> 2877.2 | K12: ='Chemical Data'!K544 -> M | L12: ='Chemical Data'!L544 -> 7.74 | M12: ='Chemical Data'!M544 -> 6.9 | N12: ='Chemical Data'!N544 -> 313 | O12: ='Chemical Data'!O544 -> 362 | P12: ='Chemical Data'!P544 -> 0 | Q12: =R12 -> 79.2 | R12: ='Chemical Data'!R544 -> 79.2 | S12: ='Chemical Data'!S544 -> -72.6 | T12: ='Chemical Data'!T544 -> -78.89063 | U12: ='Chemical Data'!U544 -> 0 | V12: ='Chemical Data'!V544 -> 0 | W12: ='Chemical Data'!W544 -> 0.256 | X12: ='Chemical Data'!X544 -> 0.114 | Z12: ='Chemical Data'!Z544 -> 0.3 | AA12: ='Chemical Data'!AA544 -> 0.058 | AB12: ='Chemical Data'!AB544 -> 94.64 | AC12: ='Chemical Data'!AC544 -> 48.7 | AD12: ='Chemical Data'!AD544 -> 14.6 | AE12: ='Chemical Data'!AE544 -> 4.23 | AF12: ='Chemical Data'!AF544 -> 1.74 | AG12: ='Chemical Data'!AG544 -> 4.2 | ... AJ12: ='Chemical Data'!AJ544 -> 0.2 | AN12: ='Chemical Data'!AN544 -> -2506.6166 | AO12: ='Chemical Data'!AO544 -> 8.8387584 | AP12: ='Chemical Data'!AP544 -> 10.35792 | AQ12: ='Chemical Data'!AQ544 -> 2.0025312 | AR12: ='Chemical Data'!AR544 -> 3267.5785
A13: Average | J13: =AVERAGE(J7:J12) -> 2783.1867 | L13: =AVERAGE(L7:L12) -> 6.5333333 | M13: =AVERAGE(M7:M12) -> 7.1666667 | N13: =AVERAGE(N7:N12) -> 304.73333 | O13: =AVERAGE(O7:O12) -> 380.33333 | P13: =AVERAGE(P7:P12) -> 2.5833333 | Q13: =AVERAGE(Q7:Q12) -> 78.283333 | R13: =AVERAGE(R7:R12) -> 79.066667 | S13: =AVERAGE(S7:S12) -> -68.933333 | ... X13: =AVERAGE(X7:X12) -> 0.066 | Z13: =AVERAGE(Z7:Z12) -> 0.3 | AA13: =AVERAGE(AA7:AA12) -> 0.041333333 | AB13: =AVERAGE(AB7:AB12) -> 112.528 | AC13: =AVERAGE(AC7:AC12) -> 49.453333 | AD13: =AVERAGE(AD7:AD12) -> 15.153333 | AE13: =AVERAGE(AE7:AE12) -> 4.5016667 | AF13: =AVERAGE(AF7:AF12) -> 1.69 | AG13: =AVERAGE(AG7:AG12) -> 5.2166667 | ... AJ13: =AVERAGE(AJ7:AJ12) -> 0.2 | AN13: =AVERAGE(AN7:AN12) -> -2080.8209 | AO13: =AVERAGE(AO7:AO12) -> 4.7875664 | AP13: =AVERAGE(AP7:AP12) -> 10.019472 | AQ13: =AVERAGE(AQ7:AQ12) -> 1.4726145 | AR13: =AVERAGE(AR7:AR12) -> 3214.5129
A15: ='Chemical Data'!A614 -> 44964 | B15: ='Chemical Data'!B614 -> 057 | C15: Dixon Barr | D15: ='Chemical Data'!D614 -> 0 | E15: ='Chemical Data'!E614 -> Barr Slope trib | F15: ='Chemical Data'!F614 -> 0 | G15: ='Chemical Data'!G614 -> 0 | H15: ='Chemical Data'!H614 -> Hedin/ICCD | J15: ='Chemical Data'!J614 -> 134 | K15: ='Chemical Data'!K614 -> M | L15: ='Chemical Data'!L614 -> 7.01 | M15: ='Chemical Data'!M614 -> 6.8 | N15: ='Chemical Data'!N614 -> 171 | O15: ='Chemical Data'!O614 -> 172.1 | P15: ='Chemical Data'!P614 -> 0 | Q15: ='Chemical Data'!Q614 -> 0 | ... X15: ='Chemical Data'!X614 -> 0.05 | Z15: ='Chemical Data'!Z614 -> 0.3 | AA15: ='Chemical Data'!AA614 -> 0.01 | AB15: ='Chemical Data'!AB614 -> 24.72 | AC15: ='Chemical Data'!AC614 -> 19.6 | AD15: ='Chemical Data'!AD614 -> 5.79 | AE15: ='Chemical Data'!AE614 -> 5.02 | AF15: ='Chemical Data'!AF614 -> 1.12 | AG15: ='Chemical Data'!AG614 -> 4.9 | ... AJ15: ='Chemical Data'!AJ614 -> <0.2 | AN15: ='Chemical Data'!AN614 -> -61.4256 | AO15: ='Chemical Data'!AO614 -> 0.17688 | AP15: ='Chemical Data'!AP614 -> 0.4824 | AQ15: ='Chemical Data'!AQ614 -> 0.01608 | AR15: ='Chemical Data'!AR614 -> 39.74976
