Workbook

Sheet Data Details
A1: This data was compiled by Hedin Environmental for the 2025 Upper Two Lick Creek Watershed Assessment and Restoration Plan
A3: Sheet Name | B3: Notes
A4: Sampling Locations | B4: Sampling locations (latitude and longitude)
A5: Property Owners | B5: Property owners of discharge locations and potential treatment areas.
A6: Chemical data | B6: All field and lab data collected during the sampling.
A7: Dixon Run | B7: Field and lab data collected during sampling in Dixon Run.
A8: Sample Run | B8: Field and lab data collected during sampling in Sample Run.
A9: Penn Run | B9: Field and lab data collected during sampling in Penn Run.
A10: Instream Data | B10: Field and lab data collected during sampling at instream locations on UTLC.

Sheet Sampling Locations
C1: Sampling location
A2: ID | B2: Description | C2: Lattitude | D2: Longitude | E2: Sample Type
A3: UTLC Instream
A4: KBLTL3 | B4: Two Lick above Penn Run | C4: 40.6453 | D4: -79.03676 | E4: Instream
A5: S2 | B5: Two Lick above Sample Run | C5: 40.658344 | D5: -79.024439 | E5: Instream
A6: S3 | B6: Two Lick above Dixon Run | C6: 40.669035 | D6: -79.013498 | E6: Instream
A7: S4 | B7: Two Lick above Buck Run | C7: 40.672022 | D7: -79.0026 | E7: Instream
A8: S5 | B8: Two Lick downstream of Diamondville | C8: 40.65778 | D8: -78.97507 | E8: Instream
A9: S6 | B9: Two Lick upstream of Diamondville | C9: 40.66272 | D9: -78.96882 | E9: Instream
A10: S7 | B10: Two Lick upstream South Branch | C10: 40.67557 | D10: -78.96301 | E10: Instream
A11: S8 | B11: Two Lick downstream of Starford | C11: 40.69773 | D11: -78.9583 | E11: Instream
A12: S9 | B12: Two Lick upstream T11 | C12: 40.70712 | D12: -78.95569 | E12: Instream
A13: S10 | B13: Two Lick upstream T12 | C13: 40.71125 | D13: -78.94383 | E13: Instream
A14: S11 | B14: Two Lick headwaters | C14: 40.71473 | D14: -78.92442 | E14: Instream
A15: Misc. and Richards Area
A16: KBLBUC | B16: Buck Run Mouth | C16: 40.672997 | D16: -79.002889 | E16: Tributary
A17: T6 | B17: South Branch Mouth | C17: 40.67466 | D17: -78.96223 | E17: Tributary
A18: D2 | B18: Diamondville borehole | C18: 40.66521 | D18: -78.97201 | E18: Discharge
A19: T11 | B19: UNT to Two Lick | C19: 40.70732 | D19: -78.95738 | E19: Tributary
A20: T12 | B20: UNT to Two Lick | C20: 40.71169 | D20: -78.94461 | E20: Tributary
A21: T5 | B21: UNT to Two Lick | C21: 40.67235 | D21: -78.99234 | E21: Tributary
A22: D1 | B22: Mack mine discharge | C22: 40.66497 | D22: -78.98022 | E22: Discharge
A23: KBLRS6 | B23: Richards system out | C23: 40.66316 | D23: -78.97872 | E23: Treatment system
A24: T1 | B24: Trib across from bare spot on opp. side of rd | C24: 40.66859 | D24: -78.99071 | E24: Discharge
A25: T5.5 | B25: Left trib source from mine dump | C25: 40.67119 | D25: -78.99543 | E25: Discharge
A26: T5.25 | B26: Right trib source from mine dump | C26: 40.67119 | D26: -78.99543 | E26: Discharge
A27: Seep 1 | B27: Richards system seepage | C27: 40.66332 | D27: -78.978949 | E27: Discharge
... A33: T14 | B33: UNT to Two Lick | C33: 40.70977 | D33: -78.92971 | E33: Tributary
A34: Penn Run
A35: KBLPEN | B35: Mouth of Penn Run | C35: 40.63754 | D35: -79.03631 | E35: Tributary
A36: MP14.5 | B36: Mouth of trib to Penn Run | C36: 40.63642 | D36: -79.03165 | E36: Tributary
A37: MP 14.25 | B37: Penn Run Mid | C37: 40.637988 | D37: -79.025632 | E37: Tributary
A38: MP14 | B38: Mouth of trib to Penn Run | C38: 40.63914 | D38: -79.01811 | E38: Tributary
A39: MP 12 | B39: Penn Run US of MP13 | C39: 40.635556 | D39: -79.012578 | E39: Tributary
A40: MP13 | B40: Mouth of trib to Penn Run | C40: 40.63382 | D40: -79.01358 | E40: Tributary
A41: MP7 | B41: Mouth of trib to Penn Run | C41: 40.63926 | D41: -79.00915 | E41: Tributary
A42: MP 1.5 | B42: Downstream of instream seepage (US PD1) | C42: 40.63872 | D42: -79.00731 | E42: Tributary
A43: MP1 | B43: Penn Run upstream of AMD, Penn Run upstream TMDL | C43: 40.63799 | D43: -79.00465 | E43: Tributary
A44: PR1 | B44: Penn Run refuse seepage | C44: 40.63875 | D44: -79.00708 | E44: Discharge
A45: PD1 | B45: AMD discharge. Upstream most discharge on north | C45: 40.63876 | D45: -79.00748 | E45: Discharge
A46: PD2 | B46: AMD discharge. Second discharge on north | C46: 40.63882 | D46: -79.00774 | E46: Discharge
... A55: MP14.3 | B55: Seep on south side | C55: 40.635024 | D55: -79.01387 | E55: Discharge
A56: Sample Run
A57: KBLSAM | B57: Mouth of Sample Run | C57: 40.660511 | D57: -79.035276 | E57: Tributary
A58: Sam2 | B58: Refuse pile trib | C58: 40.66163 | D58: -79.0363 | E58: Tributary
A59: Sam3 | B59: Sample Run upstream of refuse pile trib | C59: 40.66171 | D59: -79.03653 | E59: Tributary
A60: Sam4 | B60: Clean trib | C60: 40.6614 | D60: -79.03657 | E60: Tributary
A61: Dixon Run
A62: KBLDIX | B62: Mouth of Dixon Run | C62: 40.670039 | D62: -79.015269 | E62: Tributary
A63: T15 | B63: Dixon run @ Dixonville | C63: 40.7177 | D63: -79.00632 | E63: Tributary
A64: Dixon Moose | B64: Dixon Run @ Moose Lodge | C64: 40.704991 | D64: -79.007758 | E64: Tributary
A65: Dixon AMD 1 | B65: Harris St discharge in Dixon Run report | C65: 40.67937 | D65: -79.01395 | E65: Discharge
A66: Dixon AMD 2 | B66: Discharge near Mears Complex | C66: 40.6832 | D66: -79.01304 | E66: Discharge
A67: Dixon Mid | B67: Dixon Run upstream of Mears | C67: 40.68888 | D67: -79.00964 | E67: Tributary
A68: Dixon Barr | B68: Barr Slope tributary | C68: 40.70974 | D68: -79.0092 | E68: Tributary
A69: Dixon 3 | B69: Seepage downstream of Barr Slope tributary | C69: 40.708004 | D69: -79.008316 | E69: Discharge

Sheet Property Owners
A1: Property ownership as of November 2023
A2: ID | B2: Description | C2: Lattitude | D2: Longitude | E2: Acres | F2: Parcel Number | G2: Parcel | H2: ID | I2: Last Name | J2: Address | K2: City | L2: Combined | M2: State | N2: Zipcode | O2: Lot Type | P2: Terrain | Q2: Sewer | R2: Water | S2: Road | T2: Dwelling Type
A3: D2 | B3: Diamondville borehole | C3: 40.66521 | D3: -78.97201 | E3: 66.51 | F3: 107 | G3: 13-004-107 | H3: 13801 | I3: WANCHISN, JOHN A AL | J3: 1565 ROUTE 553 HWY | K3: PENN RUN | L3: DIAMONDVILLE RD | M3: PA | N3: 15765-8204 | O3: Rural | P3: Rollng | Q3: Unknown | R3: None | S3: Paved
A4: D1 | B4: Mack mine discharge | C4: 40.66497 | D4: -78.98022 | E4: 39 | F4: 120.01 | G4: 13-010-120.01 | H4: 14161 | I4: MYERS, TODD A UX | J4: 776 RAILROAD AVE | K4: CLYMER | L4: 776 RAILROAD AVE | M4: PA | N4: 15728-8239 | O4: Rural | P4: Steep | Q4: Septic | R4: Spring | S4: Dirt/Grv | T4: MODULR
A5: KBLRS6 | B5: Richards system out | C5: 40.66316 | D5: -78.97872 | E5: 21.43 | F5: 100.01A | G5: 13-005-100.01A | H5: 13814 | I5: RICHARDS, DENNIS J AL | J5: 116 PINE VALE RD | K5: MARION CENTER | M5: PA | N5: 15759-3701 | O5: Rural | P5: Rollng | Q5: Unknown | R5: None | S5: Paved
A6: T1 | B6: Trib across from bare spot on opp. side of rd | C6: 40.66859 | D6: -78.99071 | E6: 82.24 | F6: 100.01B | G6: 13-005-100.01B | H6: 13815 | I6: WHITTINGTON, LORI E | J6: 113 MCBRIDE HILL RD | K6: BUTLER | L6: RTE 403 HWY | M6: PA | N6: 16002 | O6: Rural | P6: Steep | Q6: Unknown | R6: None | S6: Paved
A7: T5.5 | B7: Left trib source from mine dump | C7: 40.67119 | D7: -78.99543 | E7: 12.08 | F7: 005-114.04 | G7: 13-005-114.04 | H7: 13866 | I7: US ENERGY EXPLORATION CORP | J7: PO BOX 237 | K7: RURAL VALLEY | L7: 13646 RTE 403 HWY N | M7: PA | N7: 15249 | O7: Rural | P7: Level | Q7: Public | R7: Public | S7: Paved
A8: T5.25 | B8: Right trib source from mine dump | C8: 40.67119 | D8: -78.99543 | E8: 12.08 | F8: 005-114.04 | G8: 13-005-114.04 | H8: 13866 | I8: US ENERGY EXPLORATION CORP | J8: PO BOX 237 | K8: RURAL VALLEY | L8: 13646 RTE 403 HWY N | M8: PA | N8: 15249 | O8: Rural | P8: Level | Q8: Public | R8: Public | S8: Paved
A9: Seep 1 | B9: Richards Seep | C9: 40.66332 | D9: -78.978949 | E9: 21.43 | F9: 100.01A | G9: 13-005-100.01A | H9: 13814 | I9: RICHARDS, DENNIS J AL | J9: 116 PINE VALE RD | K9: MARION CENTER | M9: PA | N9: 15759-3701 | O9: Rural | P9: Rollng | Q9: Unknown | R9: None | S9: Paved
A10: PR1 | B10: Penn Run refuse seepage | C10: 40.63875 | D10: -79.00713 | E10: 11.05 | F10: 114 | G10: 13-009-114 | H10: 14106 | I10: RHINE, KEITH A | J10: 647 RICH HILL RD | K10: PENN RUN | L10: 647 RICH HILL RD | M10: PA | N10: 15765-9129 | O10: Rural | P10: Rollng | Q10: Unknown | R10: None | S10: Paved
A11: PD1 | B11: AMD discharge. Upstream most discharge on north | C11: 40.63876 | D11: -79.00748 | E11: 11.05 | F11: 114 | G11: 13-009-114 | H11: 14106 | I11: RHINE, KEITH A | J11: 647 RICH HILL RD | K11: PENN RUN | L11: 647 RICH HILL RD | M11: PA | N11: 15765-9129 | O11: Rural | P11: Rollng | Q11: Unknown | R11: None | S11: Paved
A12: PD2 | B12: AMD discharge. Second discharge on north | C12: 40.63882 | D12: -79.00774 | E12: 11.05 | F12: 114 | G12: 13-009-114 | H12: 14106 | I12: RHINE, KEITH A | J12: 647 RICH HILL RD | K12: PENN RUN | L12: 647 RICH HILL RD | M12: PA | N12: 15765-9129 | O12: Rural | P12: Rollng | Q12: Unknown | R12: None | S12: Paved
A13: PD3 | B13: AMD discharge. Third discharge on north | C13: 40.63886 | D13: -79.00791 | E13: 11.05 | F13: 114 | G13: 13-009-114 | H13: 14106 | I13: RHINE, KEITH A | J13: 647 RICH HILL RD | K13: PENN RUN | L13: 647 RICH HILL RD | M13: PA | N13: 15765-9129 | O13: Rural | P13: Rollng | Q13: Unknown | R13: None | S13: Paved
A14: PD4 | B14: AMD discharge. Fouth discharge on south | C14: 40.63873 | D14: -79.00799 | E14: 11.05 | F14: 114 | G14: 13-009-114 | H14: 14106 | I14: RHINE, KEITH A | J14: 647 RICH HILL RD | K14: PENN RUN | L14: 647 RICH HILL RD | M14: PA | N14: 15765-9129 | O14: Rural | P14: Rollng | Q14: Unknown | R14: None | S14: Paved
A15: PD5 | B15: Discharge from berm of ponds | C15: 40.63671 | D15: -79.01115 | E15: 270.75 | F15: 104.03 | G15: 13-018-104.03 | H15: 14548 | I15: ACM III | J15: 810 S HARMONY RD | K15: PENN RUN | L15: 399 SPAULDING RD | M15: PA | N15: 15765-7516 | O15: Rural | P15: Rollng | Q15: Septic | R15: Well | S15: Paved | T15: DETACH
A16: Dixon AMD 1 | B16: Harris St discharge in Dixon Run report | C16: 40.67937 | D16: -79.01395 | E16: 10.59 | F16: 120 | G16: 13-002-120 | H16: 13722 | I16: MCCARTHY, ROBERT A AL | J16: 953 S 2ND ST | K16: INDIANA | M16: PA | N16: 15701 | O16: Rural | P16: Low | Q16: Unknown | R16: None | S16: Paved
A17: Dixon AMD 2 | B17: Discharge near Mears Complex | C17: 40.6832 | D17: -79.01304 | E17: 37.02 | F17: 144 | G17: 13-003-144 | H17: 13777 | I17: ROSEBUD MINING COMPANY | J17: 301 MARKET ST | K17: KITTANNING | L17: HARRISON ST | M17: PA | N17: 16201-1504 | O17: Rural | P17: Rollng | Q17: Unknown | R17: None | S17: Paved
B18: Northern Potential Treatment Area for PD1-3 | E18: 11.9 | F18: 114.03 | G18: 13-009-114.03 | H18: 14109 | I18: RHINE, KEITH A | J18: 647 RICH HILL RD | K18: PENN RUN | L18: 647 RICH HILL RD | M18: PA | N18: 15765-9129 | O18: Rural | P18: Rollng | Q18: Septic | R18: Well | S18: Paved | T18: DETACH
E19: 11.05 | F19: 114 | G19: 13-009-114 | H19: 14106 | I19: RHINE, KEITH A | J19: 647 RICH HILL RD | K19: PENN RUN | L19: 647 RICH HILL RD | M19: PA | N19: 15765-9129 | O19: Rural | P19: Rollng | Q19: Unknown | R19: None | S19: Paved
E20: 35 | F20: 130 | G20: 13-018-130 | H20: 14597 | I20: DEITMAN, DAVID M SR UX | J20: 185 MANOR RD | K20: PENN RUN | L20: GRACE CHURCH RD | M20: PA | N20: 15765 | O20: Rural | P20: Steep | Q20: Unknown | R20: None | S20: Dirt/Grv
B21: Southern Potential Treatment Area for PD1-3 | E21: 270.75 | F21: 104.03 | G21: 13-018-104.03 | H21: 14548 | I21: ACM III | J21: 810 S HARMONY RD | K21: PENN RUN | L21: 399 SPAULDING RD | M21: PA | N21: 15765-7516 | O21: Rural | P21: Rollng | Q21: Septic | R21: Well | S21: Paved | T21: DETACH
E22: 11.9 | F22: 114.03 | G22: 13-009-114.03 | H22: 14109 | I22: RHINE, KEITH A | J22: 647 RICH HILL RD | K22: PENN RUN | L22: 647 RICH HILL RD | M22: PA | N22: 15765-9129 | O22: Rural | P22: Rollng | Q22: Septic | R22: Well | S22: Paved | T22: DETACH
E23: 11.05 | F23: 114 | G23: 13-009-114 | H23: 14106 | I23: RHINE, KEITH A | J23: 647 RICH HILL RD | K23: PENN RUN | L23: 647 RICH HILL RD | M23: PA | N23: 15765-9129 | O23: Rural | P23: Rollng | Q23: Unknown | R23: None | S23: Paved
E24: 35 | F24: 130 | G24: 13-018-130 | H24: 14597 | I24: DEITMAN, DAVID M SR UX | J24: 185 MANOR RD | K24: PENN RUN | L24: GRACE CHURCH RD | M24: PA | N24: 15765 | O24: Rural | P24: Steep | Q24: Unknown | R24: None | S24: Dirt/Grv
B25: UTLC Potential Treatment Area for Dixon Run discharges | E25: 602.81 | F25: 120 | G25: 13-009-120 | H25: 14118 | I25: FAIRMAN, KAREN S | J25: 1020 CRAIG RD | K25: CREEKSIDE | L25: MOUNTAIN VIEW RD | M25: PA | N25: 15732-7031 | O25: Rural | P25: Rollng | Q25: Unknown | R25: None | S25: Dirt/Grv
E26: 28 | F26: 120 | G26: 13-006-120 | H26: 13930 | I26: FAIRMAN, KAREN S | J26: 1020 CRAIG RD | K26: CREEKSIDE | M26: PA | N26: 15732 | O26: Rural | P26: Rollng | Q26: Unknown | R26: None | S26: Paved
B27: UTLC Potential Treatment Area for Dixon Run discharges Pipeline | E27: 0 | F27: 724 | G27: 15-005-724 | H27: 16200 | I27: BOROUGH OF CLYMER | J27: 115 6TH ST | K27: CLYMER | L27: SIXTH + ADAM STS | M27: PA | N27: 15728-1188 | O27: Interior | P27: Level | Q27: Public | R27: Public | S27: Paved
E28: 0 | F28: 402 | G28: 15-005-402 | H28: 16152 | I28: WELKER, CHRISTINA M | J28: 475 SHERMAN ST | K28: CLYMER | L28: 830 FRANKLIN ST | M28: PA | N28: 15728-1149 | O28: Interior | P28: Level | Q28: Public | R28: Public | S28: Paved
E29: 5.45 | F29: 201 | G29: 15-006-201 | H29: 16224 | I29: BOROUGH OF CLYMER | J29: 70 ADAMS ST | K29: CLYMER | L29: LEE ST | M29: PA | N29: 15728 | O29: Interior | P29: Level | Q29: Public | R29: Public | S29: Paved
E30: 6.5 | F30: 210 | G30: 15-006-210 | H30: 16225 | I30: CLYMER BOROUGH | J30: 115 6TH ST | K30: CLYMER | L30: PENN + JEFFERSON | M30: PA | N30: 15728-1188 | O30: Interior | P30: Swampy | Q30: Public | R30: Public | S30: Paved
E31: 2.6 | F31: 600 | G31: 15-005-600 | H31: 16178 | I31: BOROUGH OF CLYMER | J31: BOROUGH OFFICES | K31: CLYMER | M31: PA | N31: 15728 | O31: Interior | P31: Rollng | Q31: Public | R31: Public | S31: Paved
E32: 27.25 | F32: 126 | G32: 13-006-126 | H32: 13938 | I32: AFC COAL PROPERTIES INC C/O CLEAN STREAMS FOUNDATION INC | J32: 180 NORTH MILL ST | K32: LEXINGTON | L32: RTE 286 HWY | M32: KY | N32: 40507 | O32: Rural | P32: Rollng | Q32: Unknown | R32: None | S32: Paved
E33: 36 | F33: 121 | G33: 13-006-121 | H33: 13931 | I33: FAIRMAN, KAREN S | J33: 1020 CRAIG RD | K33: CREEKSIDE | M33: PA | N33: 15732 | O33: Rural | P33: Rollng | Q33: Unknown | R33: None | S33: Paved
E34: 99 | F34: 120 | G34: 13-008-120 | H34: 14071 | I34: AFC COAL PROPERITES INC C/O CLEAN STREAMS FOUNDATION INC | J34: 180 NORTH MILL ST | K34: LEXINGTON | L34: GRACE CHURCH RD | M34: KY | N34: 40507 | O34: Rural | P34: Rollng | Q34: Unknown | R34: None | S34: Dirt/Grv
E35: 37.02 | F35: 144 | G35: 13-003-144 | H35: 13777 | I35: ROSEBUD MINING COMPANY | J35: 301 MARKET ST | K35: KITTANNING | L35: HARRISON ST | M35: PA | N35: 16201-1504 | O35: Rural | P35: Rollng | Q35: Unknown | R35: None | S35: Paved
E36: 10.59 | F36: 120 | G36: 13-002-120 | H36: 13722 | I36: MCCARTHY, ROBERT A AL | J36: 953 S 2ND ST | K36: INDIANA | M36: PA | N36: 15701 | O36: Rural | P36: Low | Q36: Unknown | R36: None | S36: Paved
E37: 14 | F37: 127 | G37: 13-006-127 | H37: 13939 | I37: FAIRMAN, KAREN S | J37: 1020 CRAIG RD | K37: CREEKSIDE | M37: PA | N37: 15732 | O37: Rural | P37: Rollng | Q37: Unknown | R37: None | S37: Paved
E38: 4.78 | F38: 727.01 | G38: 15-005-727.01 | H38: 16204 | I38: CLYMER BOROUGH | J38: 115 S SIXTH ST | K38: CLYMER | L38: 10TH ST | M38: PA | N38: 15728 | O38: Interior | P38: Rollng | Q38: Unknown | R38: None | S38: Paved
B39: Diamondville borehole Potential Treatment Area and Pipeline | E39: 87.29 | F39: 106.01 | G39: 13-010-106.01 | H39: 14130 | I39: CL OUTDOORS LLC | J39: 192 BARR RD | K39: CLYMER | M39: PA | N39: 15728 | O39: Rural | P39: Rollng | Q39: Unknown | R39: None | S39: Paved
E40: 66.51 | F40: 107 | G40: 13-004-107 | H40: 13801 | I40: WANCHISN, JOHN A AL | J40: 1565 ROUTE 553 HWY | K40: PENN RUN | L40: DIAMONDVILLE RD | M40: PA | N40: 15765-8204 | O40: Rural | P40: Rollng | Q40: Unknown | R40: None | S40: Paved
E41: 50.82 | F41: 121 | G41: 13-010-121 | H41: 14162 | I41: HILL, WILBERT J UX | J41: 6697 GREENBRIER CEMETERY RD | K41: GREENBRIER | L41: 558 RAILROAD AVE | M41: TN | N41: 37073 | O41: Rural | P41: Rollng | Q41: Septic | R41: Well | S41: Dirt/Grv | T41: DETACH
B42: T1 Potential Treatment Area and Pipeline using existing ponds | E42: 21.43 | F42: 100.01A | G42: 13-005-100.01A | H42: 13814 | I42: RICHARDS, DENNIS J AL | J42: 116 PINE VALE RD | K42: MARION CENTER | M42: PA | N42: 15759-3701 | O42: Rural | P42: Rollng | Q42: Unknown | R42: None | S42: Paved
E43: 82.24 | F43: 100.01B | G43: 13-005-100.01B | H43: 13815 | I43: WHITTINGTON, LORI E | J43: 113 MCBRIDE HILL RD | K43: BUTLER | L43: RTE 403 HWY | M43: PA | N43: 16002 | O43: Rural | P43: Steep | Q43: Unknown | R43: None | S43: Paved
B44: T1 Potential Treatment Area and Pipeline along UTLC | E44: 29.33 | F44: 100.01 | G44: 13-005-100.01 | H44: 13813 | I44: QUEENSTOWN HUNT CLUB INC | J44: 301 MARKET ST | K44: KITTANNING | L44: RTE 403 HWY N | M44: PA | N44: 16201 | O44: Rural | P44: Steep | Q44: Unknown | R44: None | S44: Paved
E45: 82.24 | F45: 100.01B | G45: 13-005-100.01B | H45: 13815 | I45: WHITTINGTON, LORI E | J45: 113 MCBRIDE HILL RD | K45: BUTLER | L45: RTE 403 HWY | M45: PA | N45: 16002 | O45: Rural | P45: Steep | Q45: Unknown | R45: None | S45: Paved
B46: Dixon Run discharges Potential Treatment Areas near discharges and Pipeline | E46: 6.5 | F46: 210 | G46: 15-006-210 | H46: 16225 | I46: CLYMER BOROUGH | J46: 115 6TH ST | K46: CLYMER | L46: PENN + JEFFERSON | M46: PA | N46: 15728-1188 | O46: Interior | P46: Swampy | Q46: Public | R46: Public | S46: Paved
E47: 37.02 | F47: 144 | G47: 13-003-144 | H47: 13777 | I47: ROSEBUD MINING COMPANY | J47: 301 MARKET ST | K47: KITTANNING | L47: HARRISON ST | M47: PA | N47: 16201-1504 | O47: Rural | P47: Rollng | Q47: Unknown | R47: None | S47: Paved
E48: 10.59 | F48: 120 | G48: 13-002-120 | H48: 13722 | I48: MCCARTHY, ROBERT A AL | J48: 953 S 2ND ST | K48: INDIANA | M48: PA | N48: 15701 | O48: Rural | P48: Low | Q48: Unknown | R48: None | S48: Paved

Sheet Chemical Data
A1: Upper Two Lick Creek Watershed Assessment Growing Greener Grant to Indiana County Conservation District. Data managed by Hedin Environmental. Contact Ben Hedin (ben.hedin@hedinenv.com) with questions.
A2: n/m = not measured
W3: tot. | X3: tot. | Y3: tot. | Z3: tot. | AA3: tot. | AB3: tot. | AC3: tot. | AD3: tot. | AE3: tot. | AF3: tot. | AG3: tot. | AH3: tot. | AI3: tot. | AJ3: tot.
A4: Date | B4: Sequence # | C4: Project ID | D4: DEP ID # | E4: Description | F4: Lat | G4: Long | H4: Sampler | I4: Stream mile | J4: Flow | K4: E/M | L4: pH, field | M4: pH, lab | N4: Conductivity, field | O4: Conductivity, lab | P4: Temp | Q4: Alkalinity, field | R4: Alkalinity, lab | S4: Net acidity, lab | T4: Net acidity, calc | U4: DO | V4: DO | W4: Fe, total | X4: Fe+2 | Y4: Fe+3 | Z4: Al | AA4: Mn | AB4: SO4 | AC4: Ca | AD4: Mg | AE4: Na | AF4: K | AG4: Cl | AH4: Ni | AI4: Zn | AJ4: Br | AK4: TSS | AL4: TDS | AN4: Acidity | AO4: Fe | AP4: Al | AQ4: Mn | AR4: SO4 | AS4: Alk | AT4: Notes | AU4: Latitude | AV4: Longitude
I5: mile from reservoir | J5: gpm | N5: uS/cm | O5: uS/cm | P5: C | Q5: mg/L CaCO3 | R5: mg/L CaCO3 | S5: mg/L CaCO3 | T5: mg/L CaCO3 | U5: mg/L | V5: % | W5: mg/L | X5: mg/L | Y5: mg/L | Z5: mg/L | AA5: mg/L | AB5: mg/L | AC5: mg/L | AD5: mg/L | AE5: mg/L | AF5: mg/L | AG5: mg/L | AH5: mg/L | AI5: mg/L | AJ5: mg/L | AK5: mg/L | AL5: mg/L | AN5: ppd | AO5: ppd | AP5: ppd | AQ5: ppd | AR5: ppd | AS5: ppd | AU5: dms | AV5: dms
A7: 37408 | C7: UTLC-103 from Blacklick Creek assessment | E7: Two Lick headwaters | H7: ICCD - Multi County | J7: 557 | M7: 6.8 | R7: 38 | W7: 1.06 | Z7: 0.77 | AA7: 0.07 | AB7: 70
A8: 44845 | B8: 019 | C8: S11 | E8: Two Lick headwaters | F8: 40.71473 | G8: -78.92442 | H8: Sabo | I8: 12.89 | J8: 207.24951 | K8: E | L8: 7.22 | M8: 7.1 | N8: 320 | O8: 156.6 | P8: 10.4 | Q8: 40 | R8: 50.2 | S8: -37.2 | T8: {=_xlfn.IFS(L8<=5,IF(ISNUMBER(X8)=TRUE,X8*1.79+AA8*1.8+Z8*5.56+50000*(10^-L8)-Q8,1.79+AA8*1.8+Z8*5.56+50000*(10^-L8)-Q8),L8>5,IF(ISNUMBER(X8)=TRUE,X8*1.79+AA8*1.8+50000*(10^-L8)-Q8,AA8*1.8+50000*(10^-L8)-Q8))} -> -39.289767 | W8: 0.226 | X8: 0.198 | Z8: 0.3 | AA8: 0.196 | AB8: 16.65 | AC8: 18.51 | AD8: 5.02 | AE8: 3.29 | AF8: 1.61 | AG8: 6.4 | AH8: <0.05 | AI8: <0.03 | AJ8: <0.2 | AN8: =S8*J8*0.012 -> -92.51618 | AO8: =W8*J8*0.012 -> 0.56206066 | AP8: =Z8*J8*0.012 -> 0.74609822 | AQ8: =AA8*J8*0.012 -> 0.48745084 | AR8: =AB8*J8*0.012 -> 41.408451 | AS8: =0.012*R8*J8 -> 124.8471 | AU8: =CONCATENATE(TEXT(ROUNDDOWN(ABS(F8),0),"00"),"° ",TEXT(ROUNDDOWN(ABS((F8-ROUNDDOWN(F8,0))*60),0),"00"),"' ",TEXT(TRUNC((ABS((F8-ROUNDDOWN(F8,0))*60)-ROUNDDOWN(ABS((F8-ROUNDDOWN(F8,0))*60),0))*60,2),"00.00"),"""",IF(F8<0," S"," N")) -> 40° 42' 53.02" N | AV8: =CONCATENATE(TEXT(ROUNDDOWN(ABS(G8),0),"000"),"° ",TEXT(ROUNDDOWN(ABS((G8-ROUNDDOWN(G8,0))*60),0),"00"),"' ",TEXT(TRUNC((ABS((G8-ROUNDDOWN(G8,0))*60)-ROUNDDOWN(ABS((G8-ROUNDDOWN(G8,0))*60),0))*60,2),"00.00"),"""",IF(G8<0," W"," E")) -> 078° 55' 27.91" W
A9: 44903 | B9: 019 | C9: S11 | E9: Two Lick headwaters | F9: 40.71473 | G9: -78.92442 | H9: Lee | I9: 12.89 | J9: 689.33992 | K9: E | L9: 8.11 | M9: 7 | N9: 322 | O9: 150.3 | Q9: 30 | R9: 37.6 | S9: -22.6 | T9: {=_xlfn.IFS(L9<=5,IF(ISNUMBER(X9)=TRUE,X9*1.79+AA9*1.8+Z9*5.56+50000*(10^-L9)-Q9,1.79+AA9*1.8+Z9*5.56+50000*(10^-L9)-Q9),L9>5,IF(ISNUMBER(X9)=TRUE,X9*1.79+AA9*1.8+50000*(10^-L9)-Q9,AA9*1.8+50000*(10^-L9)-Q9))} -> -29.927612 | W9: 0.147 | X9: <0.05 | Z9: 0.3 | AA9: 0.04 | AC9: 17 | AD9: 4.78 | AE9: 4.09 | AF9: 1.49 | AG9: 7.5 | AH9: <0.05 | AI9: <0.03 | AJ9: <0.2 | AN9: =S9*J9*0.012 -> -186.94899 | AO9: =W9*J9*0.012 -> 1.2159956 | AP9: =Z9*J9*0.012 -> 2.4816237 | AQ9: =AA9*J9*0.012 -> 0.33088316 | AR9: =AB9*J9*0.012 -> 0 | AS9: =0.012*R9*J9 -> 311.03017
A10: Average | J10: =AVERAGE(J8:J9) -> 448.29471 | K10: =AVERAGE(K8:K9) -> #DIV/0! | L10: =AVERAGE(L8:L9) -> 7.665 | M10: =AVERAGE(M8:M9) -> 7.05 | N10: =AVERAGE(N8:N9) -> 321 | O10: =AVERAGE(O8:O9) -> 153.45 | Q10: =AVERAGE(Q8:Q9) -> 35 | R10: =AVERAGE(R8:R9) -> 43.9 | S10: =AVERAGE(S8:S9) -> -29.9 | T10: =AVERAGE(T8:T9) -> -34.60869 | W10: =AVERAGE(W8:W9) -> 0.1865 | X10: =AVERAGE(X8:X9) -> 0.198 | Z10: =AVERAGE(Z8:Z9) -> 0.3 | AA10: =AVERAGE(AA8:AA9) -> 0.118 | AB10: =AVERAGE(AB8:AB9) -> 16.65 | AC10: =AVERAGE(AC8:AC9) -> 17.755 | AD10: =AVERAGE(AD8:AD9) -> 4.9 | AE10: =AVERAGE(AE8:AE9) -> 3.69 | AF10: =AVERAGE(AF8:AF9) -> 1.55 | AG10: =AVERAGE(AG8:AG9) -> 6.95 | ... AJ10: =AVERAGE(AJ8:AJ9) -> #DIV/0!
A12: 44846 | B12: 028 | C12: T14 | E12: UNT to Two Lick | F12: 40.70977 | G12: -78.92971 | H12: Hedin | I12: 12.4 | J12: 5 | K12: E | L12: 6.76 | M12: 6.8 | N12: 85 | O12: 81 | P12: 10.5 | Q12: 24 | R12: 23 | S12: -11.8 | T12: {=_xlfn.IFS(L12<=5,IF(ISNUMBER(X12)=TRUE,X12*1.79+AA12*1.8+Z12*5.56+50000*(10^-L12)-Q12,1.79+AA12*1.8+Z12*5.56+50000*(10^-L12)-Q12),L12>5,IF(ISNUMBER(X12)=TRUE,X12*1.79+AA12*1.8+50000*(10^-L12)-Q12,AA12*1.8+50000*(10^-L12)-Q12))} -> -23.806791 | U12: n/m | V12: n/m | W12: 0.167 | X12: 0.088 | Z12: 0.3 | AA12: 0.015 | AB12: 10.11 | AC12: 8.9 | AD12: 2.69 | AE12: 1.83 | AF12: 1.15 | AG12: 4 | AH12: <0.05 | AI12: <0.03 | AJ12: <0.2 | AN12: =S12*J12*0.012 -> -0.708 | AO12: =W12*J12*0.012 -> 0.01002 | AP12: =Z12*J12*0.012 -> 0.018 | AQ12: =AA12*J12*0.012 -> 0.0009 | AR12: =AB12*J12*0.012 -> 0.6066 | AS12: =0.012*R12*J12 -> 1.38 | AT12: No staining. | AU12: =CONCATENATE(TEXT(ROUNDDOWN(ABS(F12),0),"00"),"° ",TEXT(ROUNDDOWN(ABS((F12-ROUNDDOWN(F12,0))*60),0),"00"),"' ",TEXT(TRUNC((ABS((F12-ROUNDDOWN(F12,0))*60)-ROUNDDOWN(ABS((F12-ROUNDDOWN(F12,0))*60),0))*60,2),"00.00"),"""",IF(F12<0," S"," N")) -> 40° 42' 35.17" N | AV12: =CONCATENATE(TEXT(ROUNDDOWN(ABS(G12),0),"000"),"° ",TEXT(ROUNDDOWN(ABS((G12-ROUNDDOWN(G12,0))*60),0),"00"),"' ",TEXT(TRUNC((ABS((G12-ROUNDDOWN(G12,0))*60)-ROUNDDOWN(ABS((G12-ROUNDDOWN(G12,0))*60),0))*60,2),"00.00"),"""",IF(G12<0," W"," E")) -> 078° 55' 46.95" W
A13: 44903 | B13: 028 | C13: T14 | E13: UNT to Two Lick | F13: 40.70977 | G13: -78.92971 | H13: Hedin | I13: 12.4 | J13: 60 | K13: M | L13: 7.35 | M13: 6.6 | N13: 92 | O13: 68.3 | Q13: 19 | R13: 22 | S13: -6.8 | T13: {=_xlfn.IFS(L13<=5,IF(ISNUMBER(X13)=TRUE,X13*1.79+AA13*1.8+Z13*5.56+50000*(10^-L13)-Q13,1.79+AA13*1.8+Z13*5.56+50000*(10^-L13)-Q13),L13>5,IF(ISNUMBER(X13)=TRUE,X13*1.79+AA13*1.8+50000*(10^-L13)-Q13,AA13*1.8+50000*(10^-L13)-Q13))} -> -18.976167 | W13: 0.1 | X13: <0.05 | Z13: 0.3 | AA13: 0.012 | AC13: 7.76 | AD13: 2.31 | AE13: 1.55 | AF13: 1 | AG13: 4 | AH13: <0.05 | AI13: <0.03 | AJ13: <0.2 | AN13: =S13*J13*0.012 -> -4.896 | AO13: =W13*J13*0.012 -> 0.072 | AP13: =Z13*J13*0.012 -> 0.216 | AQ13: =AA13*J13*0.012 -> 0.00864 | AR13: =AB13*J13*0.012 -> 0 | AS13: =0.012*R13*J13 -> 15.84
A14: Average | J14: =AVERAGE(J12:J13) -> 32.5 | K14: =AVERAGE(K12:K13) -> #DIV/0! | L14: =AVERAGE(L12:L13) -> 7.055 | M14: =AVERAGE(M12:M13) -> 6.7 | N14: =AVERAGE(N12:N13) -> 88.5 | O14: =AVERAGE(O12:O13) -> 74.65 | Q14: =AVERAGE(Q12:Q13) -> 21.5 | R14: =AVERAGE(R12:R13) -> 22.5 | S14: =AVERAGE(S12:S13) -> -9.3 | T14: =AVERAGE(T12:T13) -> -21.391479 | W14: =AVERAGE(W12:W13) -> 0.1335 | X14: =AVERAGE(X12:X13) -> 0.088 | Z14: =AVERAGE(Z12:Z13) -> 0.3 | AA14: =AVERAGE(AA12:AA13) -> 0.0135 | AB14: =AVERAGE(AB12:AB13) -> 10.11 | AC14: =AVERAGE(AC12:AC13) -> 8.33 | AD14: =AVERAGE(AD12:AD13) -> 2.5 | AE14: =AVERAGE(AE12:AE13) -> 1.69 | AF14: =AVERAGE(AF12:AF13) -> 1.075 | AG14: =AVERAGE(AG12:AG13) -> 4 | ... AJ14: =AVERAGE(AJ12:AJ13) -> #DIV/0! | AN14: =AVERAGE(AN12:AN13) -> -2.802 | AO14: =AVERAGE(AO12:AO13) -> 0.04101 | AP14: =AVERAGE(AP12:AP13) -> 0.117 | AQ14: =AVERAGE(AQ12:AQ13) -> 0.00477 | AR14: =AVERAGE(AR12:AR13) -> 0.3033 | AS14: =AVERAGE(AS12:AS13) -> 8.61
A16: 44846 | B16: 027 | C16: T13 | E16: UNT to Two Lick | F16: 40.71214 | G16: -78.93998 | H16: Hedin | I16: 11.76 | J16: 3 | K16: M | L16: 6.45 | M16: 6.8 | N16: 95 | O16: 81 | P16: 11.3 | Q16: =AVERAGE(35,34) -> 34.5 | R16: 23 | S16: -20.2 | T16: {=_xlfn.IFS(L16<=5,IF(ISNUMBER(X16)=TRUE,X16*1.79+AA16*1.8+Z16*5.56+50000*(10^-L16)-Q16,1.79+AA16*1.8+Z16*5.56+50000*(10^-L16)-Q16),L16>5,IF(ISNUMBER(X16)=TRUE,X16*1.79+AA16*1.8+50000*(10^-L16)-Q16,AA16*1.8+50000*(10^-L16)-Q16))} -> -34.297739 | U16: n/m | V16: n/m | W16: 0.167 | X16: 0.088 | Z16: 0.3 | AA16: 0.015 | AB16: 10.11 | AC16: 8.913 | AD16: 2.69 | AE16: 1.83 | AF16: 1.15 | AG16: 4 | AH16: <0.05 | AI16: <0.03 | AJ16: <0.2 | AN16: =S16*J16*0.012 -> -0.7272 | AO16: =W16*J16*0.012 -> 0.006012 | AP16: =Z16*J16*0.012 -> 0.0108 | AQ16: =AA16*J16*0.012 -> 0.00054 | AR16: =AB16*J16*0.012 -> 0.36396 | AS16: =0.012*R16*J16 -> 0.828 | AT16: No staining. | AU16: =CONCATENATE(TEXT(ROUNDDOWN(ABS(F16),0),"00"),"° ",TEXT(ROUNDDOWN(ABS((F16-ROUNDDOWN(F16,0))*60),0),"00"),"' ",TEXT(TRUNC((ABS((F16-ROUNDDOWN(F16,0))*60)-ROUNDDOWN(ABS((F16-ROUNDDOWN(F16,0))*60),0))*60,2),"00.00"),"""",IF(F16<0," S"," N")) -> 40° 42' 43.70" N | AV16: =CONCATENATE(TEXT(ROUNDDOWN(ABS(G16),0),"000"),"° ",TEXT(ROUNDDOWN(ABS((G16-ROUNDDOWN(G16,0))*60),0),"00"),"' ",TEXT(TRUNC((ABS((G16-ROUNDDOWN(G16,0))*60)-ROUNDDOWN(ABS((G16-ROUNDDOWN(G16,0))*60),0))*60,2),"00.00"),"""",IF(G16<0," W"," E")) -> 078° 56' 23.92" W
A17: 44903 | B17: 027 | C17: T13 | E17: UNT to Two Lick | F17: 40.71214 | G17: -78.93998 | H17: Hedin | I17: 11.76 | J17: 100 | K17: E | L17: 7.63 | M17: 6.8 | N17: 245 | O17: 224 | Q17: 36 | R17: 40.4 | S17: -30 | T17: {=_xlfn.IFS(L17<=5,IF(ISNUMBER(X17)=TRUE,X17*1.79+AA17*1.8+Z17*5.56+50000*(10^-L17)-Q17,1.79+AA17*1.8+Z17*5.56+50000*(10^-L17)-Q17),L17>5,IF(ISNUMBER(X17)=TRUE,X17*1.79+AA17*1.8+50000*(10^-L17)-Q17,AA17*1.8+50000*(10^-L17)-Q17))} -> -35.934028 | W17: 0.12 | X17: <0.05 | Z17: 0.3 | AA17: 0.036 | AC17: 25.82 | AD17: 7.15 | AE17: 5.44 | AF17: 1.62 | AG17: 4.6 | AH17: <0.05 | AI17: <0.03 | AJ17: <0.2 | AN17: =S17*J17*0.012 -> -36 | AO17: =W17*J17*0.012 -> 0.144 | AP17: =Z17*J17*0.012 -> 0.36 | AQ17: =AA17*J17*0.012 -> 0.0432 | AR17: =AB17*J17*0.012 -> 0 | AS17: =0.012*R17*J17 -> 48.48
A18: Average | J18: =AVERAGE(J16:J17) -> 51.5 | K18: =AVERAGE(K16:K17) -> #DIV/0! | L18: =AVERAGE(L16:L17) -> 7.04 | M18: =AVERAGE(M16:M17) -> 6.8 | N18: =AVERAGE(N16:N17) -> 170 | O18: =AVERAGE(O16:O17) -> 152.5 | Q18: =AVERAGE(Q16:Q17) -> 35.25 | R18: =AVERAGE(R16:R17) -> 31.7 | S18: =AVERAGE(S16:S17) -> -25.1 | T18: =AVERAGE(T16:T17) -> -35.115884 | W18: =AVERAGE(W16:W17) -> 0.1435 | X18: =AVERAGE(X16:X17) -> 0.088 | Z18: =AVERAGE(Z16:Z17) -> 0.3 | AA18: =AVERAGE(AA16:AA17) -> 0.0255 | AB18: =AVERAGE(AB16:AB17) -> 10.11 | AC18: =AVERAGE(AC16:AC17) -> 17.3665 | AD18: =AVERAGE(AD16:AD17) -> 4.92 | AE18: =AVERAGE(AE16:AE17) -> 3.635 | AF18: =AVERAGE(AF16:AF17) -> 1.385 | AG18: =AVERAGE(AG16:AG17) -> 4.3 | ... AJ18: =AVERAGE(AJ16:AJ17) -> #DIV/0! | AN18: =AVERAGE(AN16:AN17) -> -18.3636 | AO18: =AVERAGE(AO16:AO17) -> 0.075006 | AP18: =AVERAGE(AP16:AP17) -> 0.1854 | AQ18: =AVERAGE(AQ16:AQ17) -> 0.02187 | AR18: =AVERAGE(AR16:AR17) -> 0.18198 | AS18: =AVERAGE(AS16:AS17) -> 24.654
A20: 44845 | B20: 018 | C20: S10 | E20: Two Lick upstream T12 | F20: 40.71125 | G20: -78.94383 | H20: Sabo | I20: 11.6 | J20: 512.66983 | K20: E | L20: 7.21 | M20: 7.4 | N20: 434 | O20: 443 | P20: 12 | Q20: 40 | R20: 78.2 | S20: -67.4 | T20: {=_xlfn.IFS(L20<=5,IF(ISNUMBER(X20)=TRUE,X20*1.79+AA20*1.8+Z20*5.56+50000*(10^-L20)-Q20,1.79+AA20*1.8+Z20*5.56+50000*(10^-L20)-Q20),L20>5,IF(ISNUMBER(X20)=TRUE,X20*1.79+AA20*1.8+50000*(10^-L20)-Q20,AA20*1.8+50000*(10^-L20)-Q20))} -> -39.596227 | W20: 0.174 | X20: 0.071 | Z20: 0.3 | AA20: 0.152 | AB20: 136.66 | AC20: 53.81 | AD20: 13.85 | AE20: 14.23 | AF20: 1.95 | AG20: 8.8 | AH20: <0.05 | AI20: <0.03 | AJ20: <0.2 | AN20: =S20*J20*0.012 -> -414.64736 | AO20: =W20*J20*0.012 -> 1.0704546 | AP20: =Z20*J20*0.012 -> 1.8456114 | AQ20: =AA20*J20*0.012 -> 0.93510977 | AR20: =AB20*J20*0.012 -> 840.73751 | AS20: =0.012*R20*J20 -> 481.08937 | AU20: =CONCATENATE(TEXT(ROUNDDOWN(ABS(F20),0),"00"),"° ",TEXT(ROUNDDOWN(ABS((F20-ROUNDDOWN(F20,0))*60),0),"00"),"' ",TEXT(TRUNC((ABS((F20-ROUNDDOWN(F20,0))*60)-ROUNDDOWN(ABS((F20-ROUNDDOWN(F20,0))*60),0))*60,2),"00.00"),"""",IF(F20<0," S"," N")) -> 40° 42' 40.49" N | AV20: =CONCATENATE(TEXT(ROUNDDOWN(ABS(G20),0),"000"),"° ",TEXT(ROUNDDOWN(ABS((G20-ROUNDDOWN(G20,0))*60),0),"00"),"' ",TEXT(TRUNC((ABS((G20-ROUNDDOWN(G20,0))*60)-ROUNDDOWN(ABS((G20-ROUNDDOWN(G20,0))*60),0))*60,2),"00.00"),"""",IF(G20<0," W"," E")) -> 078° 56' 37.78" W
A21: 44903 | B21: 018 | C21: S10 | E21: Two Lick upstream T12 | F21: 40.71125 | G21: -78.94383 | H21: Lee | I21: 11.6 | J21: 1705.2093 | K21: E | L21: 7.34 | M21: 7.2 | N21: 318 | O21: 316 | Q21: 35 | R21: 59.4 | S21: -42.4 | T21: {=_xlfn.IFS(L21<=5,IF(ISNUMBER(X21)=TRUE,X21*1.79+AA21*1.8+Z21*5.56+50000*(10^-L21)-Q21,1.79+AA21*1.8+Z21*5.56+50000*(10^-L21)-Q21),L21>5,IF(ISNUMBER(X21)=TRUE,X21*1.79+AA21*1.8+50000*(10^-L21)-Q21,AA21*1.8+50000*(10^-L21)-Q21))} -> -34.687065 | W21: 0.252 | X21: 0.075 | Z21: 0.3 | AA21: 0.098 | AC21: 37.86 | AD21: 9.83 | AE21: 9.67 | AF21: 1.72 | AG21: 7.9 | AH21: <0.05 | AI21: <0.03 | AJ21: <0.2 | AN21: =S21*J21*0.012 -> -867.61048 | AO21: =W21*J21*0.012 -> 5.1565528 | AP21: =Z21*J21*0.012 -> 6.1387534 | AQ21: =AA21*J21*0.012 -> 2.0053261 | AR21: =AB21*J21*0.012 -> 0 | AS21: =0.012*R21*J21 -> 1215.4732
A22: Average | J22: =AVERAGE(J20:J21) -> 1108.9396 | K22: =AVERAGE(K20:K21) -> #DIV/0! | L22: =AVERAGE(L20:L21) -> 7.275 | M22: =AVERAGE(M20:M21) -> 7.3 | N22: =AVERAGE(N20:N21) -> 376 | O22: =AVERAGE(O20:O21) -> 379.5 | Q22: =AVERAGE(Q20:Q21) -> 37.5 | R22: =AVERAGE(R20:R21) -> 68.8 | S22: =AVERAGE(S20:S21) -> -54.9 | T22: =AVERAGE(T20:T21) -> -37.141646 | W22: =AVERAGE(W20:W21) -> 0.213 | X22: =AVERAGE(X20:X21) -> 0.073 | Z22: =AVERAGE(Z20:Z21) -> 0.3 | AA22: =AVERAGE(AA20:AA21) -> 0.125 | AB22: =AVERAGE(AB20:AB21) -> 136.66 | AC22: =AVERAGE(AC20:AC21) -> 45.835 | AD22: =AVERAGE(AD20:AD21) -> 11.84 | AE22: =AVERAGE(AE20:AE21) -> 11.95 | AF22: =AVERAGE(AF20:AF21) -> 1.835 | AG22: =AVERAGE(AG20:AG21) -> 8.35 | ... AJ22: =AVERAGE(AJ20:AJ21) -> #DIV/0! | AN22: =AVERAGE(AN20:AN21) -> -641.12892 | AO22: =AVERAGE(AO20:AO21) -> 3.1135037 | AP22: =AVERAGE(AP20:AP21) -> 3.9921824 | AQ22: =AVERAGE(AQ20:AQ21) -> 1.4702179 | AR22: =AVERAGE(AR20:AR21) -> 420.36875 | AS22: =AVERAGE(AS20:AS21) -> 848.28127
A24: 37408 | C24: UTLC-051 from Blacklick Creek assessment | E24: UNT to Two Lick | H24: ICCD - Multi County | M24: 4.8 | R24: 2 | W24: 0.19 | Z24: 3.22 | AA24: 0.43 | AB24: 293
A25: 44845 | B25: 017 | C25: T12 | E25: UNT to Two Lick | F25: 40.71169 | G25: -78.94461 | H25: Sabo | I25: 11.53 | J25: 109.07869 | K25: E | L25: 7.35 | M25: 6.8 | N25: 507 | O25: 556 | P25: 11.9 | Q25: 20 | R25: 27.6 | S25: -11.4 | T25: {=_xlfn.IFS(L25<=5,IF(ISNUMBER(X25)=TRUE,X25*1.79+AA25*1.8+Z25*5.56+50000*(10^-L25)-Q25,1.79+AA25*1.8+Z25*5.56+50000*(10^-L25)-Q25),L25>5,IF(ISNUMBER(X25)=TRUE,X25*1.79+AA25*1.8+50000*(10^-L25)-Q25,AA25*1.8+50000*(10^-L25)-Q25))} -> -19.794367 | W25: 0.1 | X25: <0.05 | Z25: 0.3 | AA25: 0.113 | AB25: 252.33 | AC25: 75.37 | AD25: 20.58 | AE25: 6.17 | AF25: 2.02 | AG25: 8.5 | AH25: <0.05 | AI25: <0.03 | AJ25: <0.2 | AN25: =S25*J25*0.012 -> -14.921964 | AO25: =W25*J25*0.012 -> 0.13089443 | AP25: =Z25*J25*0.012 -> 0.39268328 | AQ25: =AA25*J25*0.012 -> 0.1479107 | AR25: =AB25*J25*0.012 -> 330.2859 | AS25: =0.012*R25*J25 -> 36.126861 | AU25: =CONCATENATE(TEXT(ROUNDDOWN(ABS(F25),0),"00"),"° ",TEXT(ROUNDDOWN(ABS((F25-ROUNDDOWN(F25,0))*60),0),"00"),"' ",TEXT(TRUNC((ABS((F25-ROUNDDOWN(F25,0))*60)-ROUNDDOWN(ABS((F25-ROUNDDOWN(F25,0))*60),0))*60,2),"00.00"),"""",IF(F25<0," S"," N")) -> 40° 42' 42.08" N | AV25: =CONCATENATE(TEXT(ROUNDDOWN(ABS(G25),0),"000"),"° ",TEXT(ROUNDDOWN(ABS((G25-ROUNDDOWN(G25,0))*60),0),"00"),"' ",TEXT(TRUNC((ABS((G25-ROUNDDOWN(G25,0))*60)-ROUNDDOWN(ABS((G25-ROUNDDOWN(G25,0))*60),0))*60,2),"00.00"),"""",IF(G25<0," W"," E")) -> 078° 56' 40.59" W
A26: 44903 | B26: 017 | C26: T12 | E26: UNT to Two Lick | F26: 40.71169 | G26: -78.94461 | H26: Lee | I26: 11.53 | J26: n/m | L26: 7.55 | M26: 6.9 | N26: 448 | O26: 466 | Q26: 25 | R26: 28.4 | S26: -15.4 | T26: {=_xlfn.IFS(L26<=5,IF(ISNUMBER(X26)=TRUE,X26*1.79+AA26*1.8+Z26*5.56+50000*(10^-L26)-Q26,1.79+AA26*1.8+Z26*5.56+50000*(10^-L26)-Q26),L26>5,IF(ISNUMBER(X26)=TRUE,X26*1.79+AA26*1.8+50000*(10^-L26)-Q26,AA26*1.8+50000*(10^-L26)-Q26))} -> -24.742991 | W26: 0.107 | X26: no data | Z26: 0.3 | AA26: 0.142 | AC26: 58.9 | AD26: 15.98 | AE26: 8.88 | AF26: 1.82 | AG26: 13.4 | AH26: <0.05 | AI26: <0.03 | AJ26: <0.2
A27: Average | J27: =AVERAGE(J25:J26) -> 109.07869 | K27: =AVERAGE(K25:K26) -> #DIV/0! | L27: =AVERAGE(L25:L26) -> 7.45 | M27: =AVERAGE(M25:M26) -> 6.85 | N27: =AVERAGE(N25:N26) -> 477.5 | O27: =AVERAGE(O25:O26) -> 511 | Q27: =AVERAGE(Q25:Q26) -> 22.5 | R27: =AVERAGE(R25:R26) -> 28 | S27: =AVERAGE(S25:S26) -> -13.4 | T27: =AVERAGE(T25:T26) -> -22.268679 | W27: =AVERAGE(W25:W26) -> 0.1035 | X27: =AVERAGE(X25:X26) -> #DIV/0! | Z27: =AVERAGE(Z25:Z26) -> 0.3 | AA27: =AVERAGE(AA25:AA26) -> 0.1275 | AB27: =AVERAGE(AB25:AB26) -> 252.33 | AC27: =AVERAGE(AC25:AC26) -> 67.135 | AD27: =AVERAGE(AD25:AD26) -> 18.28 | AE27: =AVERAGE(AE25:AE26) -> 7.525 | AF27: =AVERAGE(AF25:AF26) -> 1.92 | AG27: =AVERAGE(AG25:AG26) -> 10.95 | ... AJ27: =AVERAGE(AJ25:AJ26) -> #DIV/0! | AN27: =AVERAGE(AN25:AN26) -> -14.921964 | AO27: =AVERAGE(AO25:AO26) -> 0.13089443 | AP27: =AVERAGE(AP25:AP26) -> 0.39268328 | AQ27: =AVERAGE(AQ25:AQ26) -> 0.1479107 | AR27: =AVERAGE(AR25:AR26) -> 330.2859 | AS27: =AVERAGE(AS25:AS26) -> 36.126861
A29: 44845 | B29: 016 | C29: S9 | E29: Two Lick upstream T11 | F29: 40.70712 | G29: -78.95569 | H29: Sabo | I29: 10.9 | J29: 737.06027 | K29: E | L29: 7.64 | M29: 7.5 | N29: 414 | O29: 453 | P29: 15.2 | Q29: 60 | R29: 71.8 | S29: -63.4 | T29: {=_xlfn.IFS(L29<=5,IF(ISNUMBER(X29)=TRUE,X29*1.79+AA29*1.8+Z29*5.56+50000*(10^-L29)-Q29,1.79+AA29*1.8+Z29*5.56+50000*(10^-L29)-Q29),L29>5,IF(ISNUMBER(X29)=TRUE,X29*1.79+AA29*1.8+50000*(10^-L29)-Q29,AA29*1.8+50000*(10^-L29)-Q29))} -> -59.467145 | W29: 0.7 | X29: 0.109 | Z29: 0.3 | AA29: 0.187 | AB29: 147.28 | AC29: 54.99 | AD29: 14.3 | AE29: 12.72 | AF29: 1.98 | AG29: 9.5 | AH29: <0.05 | AI29: <0.03 | AJ29: <0.2 | AN29: =S29*J29*0.012 -> -560.75546 | AO29: =W29*J29*0.012 -> 6.1913063 | AP29: =Z29*J29*0.012 -> 2.653417 | AQ29: =AA29*J29*0.012 -> 1.6539633 | AR29: =AB29*J29*0.012 -> 1302.6508 | AS29: =0.012*R29*J29 -> 635.05113 | AU29: =CONCATENATE(TEXT(ROUNDDOWN(ABS(F29),0),"00"),"° ",TEXT(ROUNDDOWN(ABS((F29-ROUNDDOWN(F29,0))*60),0),"00"),"' ",TEXT(TRUNC((ABS((F29-ROUNDDOWN(F29,0))*60)-ROUNDDOWN(ABS((F29-ROUNDDOWN(F29,0))*60),0))*60,2),"00.00"),"""",IF(F29<0," S"," N")) -> 40° 42' 25.63" N | AV29: =CONCATENATE(TEXT(ROUNDDOWN(ABS(G29),0),"000"),"° ",TEXT(ROUNDDOWN(ABS((G29-ROUNDDOWN(G29,0))*60),0),"00"),"' ",TEXT(TRUNC((ABS((G29-ROUNDDOWN(G29,0))*60)-ROUNDDOWN(ABS((G29-ROUNDDOWN(G29,0))*60),0))*60,2),"00.00"),"""",IF(G29<0," W"," E")) -> 078° 57' 20.48" W
A30: 44903 | B30: 016 | C30: S9 | E30: Two Lick upstream T11 | F30: 40.70712 | G30: -78.95569 | H30: Lee | I30: 10.9 | J30: 2451.5623 | K30: E | L30: 7.59 | M30: 7.3 | N30: 326 | O30: 329 | Q30: 35 | R30: 57.8 | S30: -44.2 | T30: {=_xlfn.IFS(L30<=5,IF(ISNUMBER(X30)=TRUE,X30*1.79+AA30*1.8+Z30*5.56+50000*(10^-L30)-Q30,1.79+AA30*1.8+Z30*5.56+50000*(10^-L30)-Q30),L30>5,IF(ISNUMBER(X30)=TRUE,X30*1.79+AA30*1.8+50000*(10^-L30)-Q30,AA30*1.8+50000*(10^-L30)-Q30))} -> -34.670055 | W30: 0.278 | X30: 0.074 | Z30: 0.3 | AA30: 0.109 | AC30: 39.34 | AD30: 10.13 | AE30: 9.5 | AF30: 1.69 | AG30: 8.8 | AH30: <0.05 | AI30: <0.03 | AJ30: <0.2 | AN30: =S30*J30*0.012 -> -1300.3086 | AO30: =W30*J30*0.012 -> 8.1784117 | AP30: =Z30*J30*0.012 -> 8.8256242 | AQ30: =AA30*J30*0.012 -> 3.2066434 | AR30: =AB30*J30*0.012 -> 0 | AS30: =0.012*R30*J30 -> 1700.4036
A31: Average | J31: =AVERAGE(J29:J30) -> 1594.3113 | K31: =AVERAGE(K29:K30) -> #DIV/0! | L31: =AVERAGE(L29:L30) -> 7.615 | M31: =AVERAGE(M29:M30) -> 7.4 | N31: =AVERAGE(N29:N30) -> 370 | O31: =AVERAGE(O29:O30) -> 391 | Q31: =AVERAGE(Q29:Q30) -> 47.5 | R31: =AVERAGE(R29:R30) -> 64.8 | S31: =AVERAGE(S29:S30) -> -53.8 | T31: =AVERAGE(T29:T30) -> -47.0686 | W31: =AVERAGE(W29:W30) -> 0.489 | X31: =AVERAGE(X29:X30) -> 0.0915 | Z31: =AVERAGE(Z29:Z30) -> 0.3 | AA31: =AVERAGE(AA29:AA30) -> 0.148 | AB31: =AVERAGE(AB29:AB30) -> 147.28 | AC31: =AVERAGE(AC29:AC30) -> 47.165 | AD31: =AVERAGE(AD29:AD30) -> 12.215 | AE31: =AVERAGE(AE29:AE30) -> 11.11 | AF31: =AVERAGE(AF29:AF30) -> 1.835 | AG31: =AVERAGE(AG29:AG30) -> 9.15 | ... AJ31: =AVERAGE(AJ29:AJ30) -> #DIV/0! | AN31: =AVERAGE(AN29:AN30) -> -930.53204 | AO31: =AVERAGE(AO29:AO30) -> 7.184859 | AP31: =AVERAGE(AP29:AP30) -> 5.7395206 | AQ31: =AVERAGE(AQ29:AQ30) -> 2.4303034 | AR31: =AVERAGE(AR29:AR30) -> 651.32542 | AS31: =AVERAGE(AS29:AS30) -> 1167.7274
A33: 37408 | C33: UTLC-057 from Blacklick Creek assessment | H33: ICCD - Multi County | M33: 6.9 | R33: 19.6 | W33: 0.05 | Z33: 0.13 | AA33: 0.02 | AB33: 45
A34: 44845 | B34: 015 | C34: T11 | E34: UNT to Two Lick | F34: 40.70732 | G34: -78.95738 | H34: Sabo | I34: 10.85 | J34: 373.98407 | K34: E | L34: 7.93 | M34: 7.3 | N34: 224 | O34: 240 | P34: 16.3 | Q34: 46 | R34: 52.6 | S34: -41.4 | T34: {=_xlfn.IFS(L34<=5,IF(ISNUMBER(X34)=TRUE,X34*1.79+AA34*1.8+Z34*5.56+50000*(10^-L34)-Q34,1.79+AA34*1.8+Z34*5.56+50000*(10^-L34)-Q34),L34>5,IF(ISNUMBER(X34)=TRUE,X34*1.79+AA34*1.8+50000*(10^-L34)-Q34,AA34*1.8+50000*(10^-L34)-Q34))} -> -45.972413 | W34: 0.101 | X34: <0.05 | Z34: 0.3 | AA34: 0.015 | AB34: 41.96 | AC34: 26.35 | AD34: 8 | AE34: 7.17 | AF34: 2.05 | AG34: 12 | AH34: <0.05 | AI34: <0.03 | AJ34: <0.2 | AN34: =S34*J34*0.012 -> -185.79529 | AO34: =W34*J34*0.012 -> 0.45326869 | AP34: =Z34*J34*0.012 -> 1.3463427 | AQ34: =AA34*J34*0.012 -> 0.067317133 | AR34: =AB34*J34*0.012 -> 188.30846 | AS34: =0.012*R34*J34 -> 236.05875 | AU34: =CONCATENATE(TEXT(ROUNDDOWN(ABS(F34),0),"00"),"° ",TEXT(ROUNDDOWN(ABS((F34-ROUNDDOWN(F34,0))*60),0),"00"),"' ",TEXT(TRUNC((ABS((F34-ROUNDDOWN(F34,0))*60)-ROUNDDOWN(ABS((F34-ROUNDDOWN(F34,0))*60),0))*60,2),"00.00"),"""",IF(F34<0," S"," N")) -> 40° 42' 26.35" N | AV34: =CONCATENATE(TEXT(ROUNDDOWN(ABS(G34),0),"000"),"° ",TEXT(ROUNDDOWN(ABS((G34-ROUNDDOWN(G34,0))*60),0),"00"),"' ",TEXT(TRUNC((ABS((G34-ROUNDDOWN(G34,0))*60)-ROUNDDOWN(ABS((G34-ROUNDDOWN(G34,0))*60),0))*60,2),"00.00"),"""",IF(G34<0," W"," E")) -> 078° 57' 26.56" W
A35: 44903 | B35: 015 | C35: T11 | E35: UNT to Two Lick | F35: 40.70732 | G35: -78.95738 | H35: Lee | I35: 10.85 | J35: n/m | L35: 7.94 | M35: 7 | N35: 187 | O35: 151.2 | Q35: 25 | R35: 33.4 | S35: -19.6 | T35: {=_xlfn.IFS(L35<=5,IF(ISNUMBER(X35)=TRUE,X35*1.79+AA35*1.8+Z35*5.56+50000*(10^-L35)-Q35,1.79+AA35*1.8+Z35*5.56+50000*(10^-L35)-Q35),L35>5,IF(ISNUMBER(X35)=TRUE,X35*1.79+AA35*1.8+50000*(10^-L35)-Q35,AA35*1.8+50000*(10^-L35)-Q35))} -> -24.865046 | W35: 0.127 | X35: 0.062 | Z35: 0.3 | AA35: 0.013 | AC35: 15.44 | AD35: 4.9 | AE35: 5.18 | AF35: 1.67 | AG35: 8.1 | AH35: <0.05 | AI35: <0.03 | AJ35: <0.2
A36: Average | J36: =AVERAGE(J34:J35) -> 373.98407 | K36: =AVERAGE(K34:K35) -> #DIV/0! | L36: =AVERAGE(L34:L35) -> 7.935 | M36: =AVERAGE(M34:M35) -> 7.15 | N36: =AVERAGE(N34:N35) -> 205.5 | O36: =AVERAGE(O34:O35) -> 195.6 | Q36: =AVERAGE(Q34:Q35) -> 35.5 | R36: =AVERAGE(R34:R35) -> 43 | S36: =AVERAGE(S34:S35) -> -30.5 | T36: =AVERAGE(T34:T35) -> -35.418729 | W36: =AVERAGE(W34:W35) -> 0.114 | X36: =AVERAGE(X34:X35) -> 0.062 | Z36: =AVERAGE(Z34:Z35) -> 0.3 | AA36: =AVERAGE(AA34:AA35) -> 0.014 | AB36: =AVERAGE(AB34:AB35) -> 41.96 | AC36: =AVERAGE(AC34:AC35) -> 20.895 | AD36: =AVERAGE(AD34:AD35) -> 6.45 | AE36: =AVERAGE(AE34:AE35) -> 6.175 | AF36: =AVERAGE(AF34:AF35) -> 1.86 | AG36: =AVERAGE(AG34:AG35) -> 10.05 | ... AJ36: =AVERAGE(AJ34:AJ35) -> #DIV/0! | AN36: =AVERAGE(AN34:AN35) -> -185.79529 | AO36: =AVERAGE(AO34:AO35) -> 0.45326869 | AP36: =AVERAGE(AP34:AP35) -> 1.3463427 | AQ36: =AVERAGE(AQ34:AQ35) -> 0.067317133 | AR36: =AVERAGE(AR34:AR35) -> 188.30846 | AS36: =AVERAGE(AS34:AS35) -> 236.05875
A38: 37408 | C38: UTLC-066 from Blacklick Creek assessment | E38: Mouth Pompey Run | H38: ICCD - Multi County | M38: 7.04 | R38: 23.6 | W38: 0.11 | Z38: 0.11 | AA38: 0.02 | AB38: 28
A39: 44846 | B39: 026 | C39: T10 | E39: Mouth Pompey Run | F39: 40.69928 | G39: -78.95729 | H39: Remy | I39: 10.26 | J39: 60 | K39: E | L39: 7.87 | M39: 7.2 | N39: 255 | O39: 187.5 | P39: 8.8 | Q39: n/m | R39: 48 | S39: -36.2 | T39: {=_xlfn.IFS(L39<=5,IF(ISNUMBER(X39)=TRUE,X39*1.79+AA39*1.8+Z39*5.56+50000*(10^-L39)-R39,1.79+AA39*1.8+Z39*5.56+50000*(10^-L39)-R39),L39>5,IF(ISNUMBER(X39)=TRUE,X39*1.79+AA39*1.8+50000*(10^-L39)-R39,AA39*1.8+50000*(10^-L39)-R39))} -> -47.854226 | W39: 0.1 | X39: 0.07 | Z39: 0.3 | AA39: 0.011 | AB39: 17.49 | AC39: 20.4 | AD39: 6.45 | AE39: 7.49 | AF39: 1.65 | AG39: 15.4 | AH39: <0.05 | AI39: <0.03 | AJ39: <0.2 | AN39: =S39*J39*0.012 -> -26.064 | AO39: =W39*J39*0.012 -> 0.072 | AP39: =Z39*J39*0.012 -> 0.216 | AQ39: =AA39*J39*0.012 -> 0.00792 | AR39: =AB39*J39*0.012 -> 12.5928 | AS39: =0.012*R39*J39 -> 34.56 | AU39: =CONCATENATE(TEXT(ROUNDDOWN(ABS(F39),0),"00"),"° ",TEXT(ROUNDDOWN(ABS((F39-ROUNDDOWN(F39,0))*60),0),"00"),"' ",TEXT(TRUNC((ABS((F39-ROUNDDOWN(F39,0))*60)-ROUNDDOWN(ABS((F39-ROUNDDOWN(F39,0))*60),0))*60,2),"00.00"),"""",IF(F39<0," S"," N")) -> 40° 41' 57.40" N | AV39: =CONCATENATE(TEXT(ROUNDDOWN(ABS(G39),0),"000"),"° ",TEXT(ROUNDDOWN(ABS((G39-ROUNDDOWN(G39,0))*60),0),"00"),"' ",TEXT(TRUNC((ABS((G39-ROUNDDOWN(G39,0))*60)-ROUNDDOWN(ABS((G39-ROUNDDOWN(G39,0))*60),0))*60,2),"00.00"),"""",IF(G39<0," W"," E")) -> 078° 57' 26.24" W
A40: 44903 | B40: 026 | C40: T10 | E40: Mouth Pompey Run | F40: 40.69928 | G40: -78.95729 | H40: Remy | I40: 10.26 | J40: 100 | K40: E | L40: 7.24 | M40: 6.7 | N40: 152 | O40: 139.8 | R40: 31.6 | S40: -19.6 | T40: {=_xlfn.IFS(L40<=5,IF(ISNUMBER(X40)=TRUE,X40*1.79+AA40*1.8+Z40*5.56+50000*(10^-L40)-R40,1.79+AA40*1.8+Z40*5.56+50000*(10^-L40)-R40),L40>5,IF(ISNUMBER(X40)=TRUE,X40*1.79+AA40*1.8+50000*(10^-L40)-R40,AA40*1.8+50000*(10^-L40)-R40))} -> -31.579123 | W40: 0.131 | X40: <0.05 | Z40: 0.3 | AA40: 0.01 | AC40: 13.02 | AD40: 4.4 | AE40: 6.53 | AF40: 1.4 | AG40: 11.5 | AH40: <0.05 | AI40: <0.03 | AJ40: <0.2 | AN40: =S40*J40*0.012 -> -23.52 | AO40: =W40*J40*0.012 -> 0.1572 | AP40: =Z40*J40*0.012 -> 0.36 | AQ40: =AA40*J40*0.012 -> 0.012 | AR40: =AB40*J40*0.012 -> 0 | AS40: =0.012*R40*J40 -> 37.92
A41: Average | J41: =AVERAGE(J39:J40) -> 80 | K41: =AVERAGE(K39:K40) -> #DIV/0! | L41: =AVERAGE(L39:L40) -> 7.555 | M41: =AVERAGE(M39:M40) -> 6.95 | N41: =AVERAGE(N39:N40) -> 203.5 | O41: =AVERAGE(O39:O40) -> 163.65 | Q41: =AVERAGE(Q39:Q40) -> #DIV/0! | R41: =AVERAGE(R39:R40) -> 39.8 | S41: =AVERAGE(S39:S40) -> -27.9 | T41: =AVERAGE(T39:T40) -> -39.716674 | W41: =AVERAGE(W39:W40) -> 0.1155 | X41: =AVERAGE(X39:X40) -> 0.07 | Z41: =AVERAGE(Z39:Z40) -> 0.3 | AA41: =AVERAGE(AA39:AA40) -> 0.0105 | AB41: =AVERAGE(AB39:AB40) -> 17.49 | AC41: =AVERAGE(AC39:AC40) -> 16.71 | AD41: =AVERAGE(AD39:AD40) -> 5.425 | AE41: =AVERAGE(AE39:AE40) -> 7.01 | AF41: =AVERAGE(AF39:AF40) -> 1.525 | AG41: =AVERAGE(AG39:AG40) -> 13.45 | ... AJ41: =AVERAGE(AJ39:AJ40) -> #DIV/0! | AN41: =AVERAGE(AN39:AN40) -> -24.792 | AO41: =AVERAGE(AO39:AO40) -> 0.1146 | AP41: =AVERAGE(AP39:AP40) -> 0.288 | AQ41: =AVERAGE(AQ39:AQ40) -> 0.00996 | AR41: =AVERAGE(AR39:AR40) -> 6.2964 | AS41: =AVERAGE(AS39:AS40) -> 36.24
A43: 44845 | B43: 014 | C43: S8 | E43: Two Lick south of Starford | F43: 40.69773 | G43: -78.9583 | H43: Hedin | I43: 10.16 | J43: =3.52*449 -> 1580.48 | K43: M | L43: 7.58 | M43: 7.4 | N43: 411 | O43: 416 | P43: 10.9 | Q43: =AVERAGE(63,65) -> 64 | R43: 61 | S43: -50.4 | T43: {=_xlfn.IFS(L43<=5,IF(ISNUMBER(X43)=TRUE,X43*1.79+AA43*1.8+Z43*5.56+50000*(10^-L43)-Q43,1.79+AA43*1.8+Z43*5.56+50000*(10^-L43)-Q43),L43>5,IF(ISNUMBER(X43)=TRUE,X43*1.79+AA43*1.8+50000*(10^-L43)-Q43,AA43*1.8+50000*(10^-L43)-Q43))} -> -63.585485 | U43: 10.72 | V43: 96.8 | W43: 0.182 | X43: 0.08 | Z43: <0.3 | AA43: 0.15 | AB43: 135.23 | AC43: 48.19 | AD43: 13.4 | AE43: 11.02 | AF43: 1.9 | AG43: 9.9 | AH43: <0.05 | AI43: <0.03 | AJ43: <0.2 | AN43: =S43*J43*0.012 -> -955.8743 | AO43: =W43*J43*0.012 -> 3.4517683 | AP43: =Z43*J43*0.012 -> #VALUE! | AQ43: =AA43*J43*0.012 -> 2.844864 | AR43: =AB43*J43*0.012 -> 2564.7397 | AS43: =0.012*R43*J43 -> 1156.9114 | AT43: No staining. Lots of caddisfly larvae under rocks. | AU43: =CONCATENATE(TEXT(ROUNDDOWN(ABS(F43),0),"00"),"° ",TEXT(ROUNDDOWN(ABS((F43-ROUNDDOWN(F43,0))*60),0),"00"),"' ",TEXT(TRUNC((ABS((F43-ROUNDDOWN(F43,0))*60)-ROUNDDOWN(ABS((F43-ROUNDDOWN(F43,0))*60),0))*60,2),"00.00"),"""",IF(F43<0," S"," N")) -> 40° 41' 51.82" N | AV43: =CONCATENATE(TEXT(ROUNDDOWN(ABS(G43),0),"000"),"° ",TEXT(ROUNDDOWN(ABS((G43-ROUNDDOWN(G43,0))*60),0),"00"),"' ",TEXT(TRUNC((ABS((G43-ROUNDDOWN(G43,0))*60)-ROUNDDOWN(ABS((G43-ROUNDDOWN(G43,0))*60),0))*60,2),"00.00"),"""",IF(G43<0," W"," E")) -> 078° 57' 29.87" W
A44: 44903 | B44: 014 | C44: S8 | E44: Two Lick south of Starford | F44: 40.69773 | G44: -78.9583 | H44: Hedin | I44: 10.16 | J44: 6398 | K44: M | L44: 7.53 | M44: 7.2 | N44: 275 | O44: 275 | P44: 8 | Q44: 42 | R44: 47.2 | S44: -35.8 | T44: {=_xlfn.IFS(L44<=5,IF(ISNUMBER(X44)=TRUE,X44*1.79+AA44*1.8+Z44*5.56+50000*(10^-L44)-Q44,1.79+AA44*1.8+Z44*5.56+50000*(10^-L44)-Q44),L44>5,IF(ISNUMBER(X44)=TRUE,X44*1.79+AA44*1.8+50000*(10^-L44)-Q44,AA44*1.8+50000*(10^-L44)-Q44))} -> -41.998524 | U44: 11.31 | V44: 96 | W44: 0.194 | X44: <0.5 | Z44: <0.3 | AC44: 31.6 | AD44: 8.47 | AE44: 8.07 | AF44: 1.66 | AG44: 9.4 | AH44: <0.05 | AI44: <0.03 | AJ44: <0.2 | AN44: =S44*J44*0.012 -> -2748.5808 | AO44: =W44*J44*0.012 -> 14.894544 | AP44: =Z44*J44*0.012 -> #VALUE! | AQ44: =AA44*J44*0.012 -> 0 | AR44: =AB44*J44*0.012 -> 0 | AS44: =0.012*R44*J44 -> 3623.8272
A45: 44964 | B45: 014 | C45: S8 | E45: Two Lick south of Starford | F45: 40.69773 | G45: -78.9583 | H45: BCWA | J45: N/M | L45: 7.03 | M45: 6.9 | N45: 446 | O45: 332 | Q45: 43 | R45: 49.4 | S45: -37.4 | T45: {=_xlfn.IFS(L45<=5,IF(ISNUMBER(X45)=TRUE,X45*1.79+AA45*1.8+Z45*5.56+50000*(10^-L45)-Q45,1.79+AA45*1.8+Z45*5.56+50000*(10^-L45)-Q45),L45>5,IF(ISNUMBER(X45)=TRUE,X45*1.79+AA45*1.8+50000*(10^-L45)-Q45,AA45*1.8+50000*(10^-L45)-Q45))} -> -42.662834 | W45: 0.182 | X45: 0.05 | Z45: <0.3 | AA45: 0.135 | AB45: 95.31 | AC45: 37.73 | AD45: 10.68 | AE45: 8.75 | AF45: 1.62 | AG45: 9.9 | AH45: <0.05 | AI45: <0.03 | AJ45: <0.2
A46: 45022 | B46: 030 | C46: S8 | E46: Two Lick south of Starford | F46: 40.69773 | G46: -78.9583 | H46: BCWA | J46: N/M | L46: 7.61 | M46: 6.7 | N46: 265 | O46: 277 | Q46: 38 | R46: 43.4 | S46: -31.2 | T46: {=_xlfn.IFS(L46<=5,IF(ISNUMBER(X46)=TRUE,X46*1.79+AA46*1.8+Z46*5.56+50000*(10^-L46)-Q46,1.79+AA46*1.8+Z46*5.56+50000*(10^-L46)-Q46),L46>5,IF(ISNUMBER(X46)=TRUE,X46*1.79+AA46*1.8+50000*(10^-L46)-Q46,AA46*1.8+50000*(10^-L46)-Q46))} -> -37.761673 | W46: 0.258 | X46: 0.05 | Z46: 0.3 | AA46: 0.082 | AB46: 76.12 | AC46: 26.89 | AD46: 7.92 | AE46: 6.69 | AF46: 1.51 | AG46: 8.8 | AH46: <0.05 | AI46: <0.03 | AJ46: <0.2
A47: 45098 | B47: 069 | C47: S8 | E47: Two Lick south of Starford | F47: 40.69773 | G47: -78.9583 | H47: BCWA | J47: N/M | L47: 7.56 | M47: 6.5 | N47: 473 | O47: 446 | P47: 15 | Q47: 55 | R47: 66 | S47: -54.6 | T47: {=_xlfn.IFS(L47<=5,IF(ISNUMBER(X47)=TRUE,X47*1.79+AA47*1.8+Z47*5.56+50000*(10^-L47)-Q47,1.79+AA47*1.8+Z47*5.56+50000*(10^-L47)-Q47),L47>5,IF(ISNUMBER(X47)=TRUE,X47*1.79+AA47*1.8+50000*(10^-L47)-Q47,AA47*1.8+50000*(10^-L47)-Q47))} -> -54.626603 | W47: 0.141 | X47: 0.058 | Z47: 0.3 | AA47: 0.149 | AB47: 142.5 | AC47: 55.05 | AD47: 15.1 | AE47: 11.82 | AF47: 2.06 | AG47: 9.9 | AH47: 0.05 | AI47: 0.03 | AJ47: 0.2
A48: 45169 | B48: 069 | C48: S8 | E48: Two Lick south of Starford | F48: 40.69773 | G48: -78.9583 | H48: BCWA | J48: N/M | L48: 7.62 | M48: 6.5 | N48: 335 | O48: 334 | P48: 13.9 | Q48: 55 | R48: 54.2 | S48: -47.2 | T48: {=_xlfn.IFS(L48<=5,IF(ISNUMBER(X48)=TRUE,X48*1.79+AA48*1.8+Z48*5.56+50000*(10^-L48)-Q48,1.79+AA48*1.8+Z48*5.56+50000*(10^-L48)-Q48),L48>5,IF(ISNUMBER(X48)=TRUE,X48*1.79+AA48*1.8+50000*(10^-L48)-Q48,AA48*1.8+50000*(10^-L48)-Q48))} -> -54.520701 | W48: 0.809 | X48: 0.07 | Z48: 0.622 | AA48: 0.196 | AB48: 91.33 | AC48: 39.8 | AD48: 10.4 | AE48: 9.34 | AF48: 1.85 | AG48: 8.9 | AH48: 0.05 | AI48: 0.03 | AJ48: 0.2
A49: Average | J49: =AVERAGE(J43:J48) -> 3989.24 | K49: =AVERAGE(K43:K48) -> #DIV/0! | L49: =AVERAGE(L43:L48) -> 7.4883333 | M49: =AVERAGE(M43:M48) -> 6.8666667 | N49: =AVERAGE(N43:N48) -> 367.5 | O49: =AVERAGE(O43:O48) -> 346.66667 | P49: =AVERAGE(P43:P48) -> 11.95 | Q49: =AVERAGE(Q43:Q48) -> 49.5 | ... X49: =AVERAGE(X43:X48) -> 0.0616 | Z49: =AVERAGE(Z43:Z48) -> 0.40733333 | AA49: =AVERAGE(AA43:AA48) -> 0.1424 | AB49: =AVERAGE(AB43:AB48) -> 108.098 | AC49: =AVERAGE(AC43:AC48) -> 39.876667 | AD49: =AVERAGE(AD43:AD48) -> 10.995 | AE49: =AVERAGE(AE43:AE48) -> 9.2816667 | AF49: =AVERAGE(AF43:AF48) -> 1.7666667 | AG49: =AVERAGE(AG43:AG48) -> 9.4666667 | ... AJ49: =AVERAGE(AJ43:AJ48) -> 0.2
A51: 44846 | B51: 025 | C51: T9 | E51: UNT to Two Lick | F51: 40.69637 | G51: -78.96063 | H51: Remy | I51: 10.02 | J51: 6 | K51: M | L51: 4.22 | M51: 4.2 | N51: 672 | O51: 595 | Q51: 0 | R51: 0 | S51: 24.4 | T51: {=_xlfn.IFS(L51<=5,IF(ISNUMBER(X51)=TRUE,X51*1.79+AA51*1.8+Z51*5.56+50000*(10^-L51)-Q51,1.79+AA51*1.8+Z51*5.56+50000*(10^-L51)-Q51),L51>5,IF(ISNUMBER(X51)=TRUE,X51*1.79+AA51*1.8+50000*(10^-L51)-Q51,AA51*1.8+50000*(10^-L51)-Q51))} -> 13.912138 | W51: 0.18 | X51: 0.106 | Z51: 1.64 | AA51: 0.884 | AB51: 283.01 | AC51: 64.3 | AD51: 29.5 | AE51: 8.94 | AF51: 2.73 | AG51: 4 | AH51: 0.054 | AI51: 0.065 | AJ51: <0.2 | AN51: =S51*J51*0.012 -> 1.7568 | AO51: =W51*J51*0.012 -> 0.01296 | AP51: =Z51*J51*0.012 -> 0.11808 | AR51: =AB51*J51*0.012 -> 20.37672 | AS51: =0.012*R51*J51 -> 0 | AU51: =CONCATENATE(TEXT(ROUNDDOWN(ABS(F51),0),"00"),"° ",TEXT(ROUNDDOWN(ABS((F51-ROUNDDOWN(F51,0))*60),0),"00"),"' ",TEXT(TRUNC((ABS((F51-ROUNDDOWN(F51,0))*60)-ROUNDDOWN(ABS((F51-ROUNDDOWN(F51,0))*60),0))*60,2),"00.00"),"""",IF(F51<0," S"," N")) -> 40° 41' 46.93" N | AV51: =CONCATENATE(TEXT(ROUNDDOWN(ABS(G51),0),"000"),"° ",TEXT(ROUNDDOWN(ABS((G51-ROUNDDOWN(G51,0))*60),0),"00"),"' ",TEXT(TRUNC((ABS((G51-ROUNDDOWN(G51,0))*60)-ROUNDDOWN(ABS((G51-ROUNDDOWN(G51,0))*60),0))*60,2),"00.00"),"""",IF(G51<0," W"," E")) -> 078° 57' 38.26" W
A52: 44903 | B52: 025 | C52: T9 | E52: UNT to Two Lick | F52: 40.69637 | G52: -78.96063 | H52: Remy | I52: 10.02 | J52: 10 | K52: M | L52: 4.57 | M52: 4.3 | N52: 465 | O52: 490 | Q52: 0 | R52: 0 | S52: 20.2 | T52: {=_xlfn.IFS(L52<=5,IF(ISNUMBER(X52)=TRUE,X52*1.79+AA52*1.8+Z52*5.56+50000*(10^-L52)-Q52,1.79+AA52*1.8+Z52*5.56+50000*(10^-L52)-Q52),L52>5,IF(ISNUMBER(X52)=TRUE,X52*1.79+AA52*1.8+50000*(10^-L52)-Q52,AA52*1.8+50000*(10^-L52)-Q52))} -> 11.398617 | W52: 0.179 | X52: 0.063 | Z52: 1.533 | AA52: 0.787 | AC52: 48.52 | AD52: 22.59 | AE52: 6.16 | AF52: 2.44 | AG52: 4 | AH52: <0.05 | AI52: 0.071 | AJ52: <0.2 | AN52: =S52*J52*0.012 -> 2.424 | AO52: =W52*J52*0.012 -> 0.02148 | AP52: =Z52*J52*0.012 -> 0.18396 | AQ52: =AA52*J52*0.012 -> 0.09444 | AR52: =AB52*J52*0.012 -> 0 | AS52: =0.012*R52*J52 -> 0
A53: Average | J53: =AVERAGE(J51:J52) -> 8 | K53: =AVERAGE(K51:K52) -> #DIV/0! | L53: =AVERAGE(L51:L52) -> 4.395 | M53: =AVERAGE(M51:M52) -> 4.25 | N53: =AVERAGE(N51:N52) -> 568.5 | O53: =AVERAGE(O51:O52) -> 542.5 | Q53: =AVERAGE(Q51:Q52) -> 0 | R53: =AVERAGE(R51:R52) -> 0 | S53: =AVERAGE(S51:S52) -> 22.3 | T53: =AVERAGE(T51:T52) -> 12.655378 | W53: =AVERAGE(W51:W52) -> 0.1795 | X53: =AVERAGE(X51:X52) -> 0.0845 | Z53: =AVERAGE(Z51:Z52) -> 1.5865 | AA53: =AVERAGE(AA51:AA52) -> 0.8355 | AB53: =AVERAGE(AB51:AB52) -> 283.01 | AC53: =AVERAGE(AC51:AC52) -> 56.41 | AD53: =AVERAGE(AD51:AD52) -> 26.045 | AE53: =AVERAGE(AE51:AE52) -> 7.55 | AF53: =AVERAGE(AF51:AF52) -> 2.585 | AG53: =AVERAGE(AG51:AG52) -> 4 | ... AJ53: =AVERAGE(AJ51:AJ52) -> #DIV/0! | AN53: =AVERAGE(AN51:AN52) -> 2.0904 | AO53: =AVERAGE(AO51:AO52) -> 0.01722 | AP53: =AVERAGE(AP51:AP52) -> 0.15102 | AQ53: =AVERAGE(AQ51:AQ52) -> 0.09444 | AR53: =AVERAGE(AR51:AR52) -> 10.18836 | AS53: =AVERAGE(AS51:AS52) -> 0
A55: AVG IUP data (fall 2002 to spring 2003) | C55: MP 9 | J55: 979 | M55: 3.9 | S55: 42 | W55: 0.7 | Z55: 3 | AA55: 0.7 | AB55: 183
A56: 44846 | B56: 024 | C56: T8 | E56: UNT to Two Lick | F56: 40.68608 | G56: -78.96535 | H56: Remy | I56: 9.05 | J56: 60 | K56: M | L56: 4.25 | M56: 4.3 | N56: 346 | O56: 314 | Q56: 0 | R56: 0 | S56: 19.2 | T56: {=_xlfn.IFS(L56<=5,IF(ISNUMBER(X56)=TRUE,X56*1.79+AA56*1.8+Z56*5.56+50000*(10^-L56)-Q56,1.79+AA56*1.8+Z56*5.56+50000*(10^-L56)-Q56),L56>5,IF(ISNUMBER(X56)=TRUE,X56*1.79+AA56*1.8+50000*(10^-L56)-Q56,AA56*1.8+50000*(10^-L56)-Q56))} -> 10.207017 | W56: 0.304 | X56: 0.109 | Z56: 1.16 | AA56: 0.417 | AB56: 133.18 | AC56: 34.7 | AD56: 12 | AE56: 2.18 | AF56: 1.88 | AG56: 4 | AH56: <0.05 | AI56: 0.044 | AJ56: <0.2 | AN56: =S56*J56*0.012 -> 13.824 | AO56: =W56*J56*0.012 -> 0.21888 | AP56: =Z56*J56*0.012 -> 0.8352 | AQ56: =AA56*J56*0.012 -> 0.30024 | AR56: =AB56*J56*0.012 -> 95.8896 | AS56: =0.012*R56*J56 -> 0 | AU56: =CONCATENATE(TEXT(ROUNDDOWN(ABS(F56),0),"00"),"° ",TEXT(ROUNDDOWN(ABS((F56-ROUNDDOWN(F56,0))*60),0),"00"),"' ",TEXT(TRUNC((ABS((F56-ROUNDDOWN(F56,0))*60)-ROUNDDOWN(ABS((F56-ROUNDDOWN(F56,0))*60),0))*60,2),"00.00"),"""",IF(F56<0," S"," N")) -> 40° 41' 09.88" N | AV56: =CONCATENATE(TEXT(ROUNDDOWN(ABS(G56),0),"000"),"° ",TEXT(ROUNDDOWN(ABS((G56-ROUNDDOWN(G56,0))*60),0),"00"),"' ",TEXT(TRUNC((ABS((G56-ROUNDDOWN(G56,0))*60)-ROUNDDOWN(ABS((G56-ROUNDDOWN(G56,0))*60),0))*60,2),"00.00"),"""",IF(G56<0," W"," E")) -> 078° 57' 55.26" W
A57: 44903 | B57: 024 | C57: T8 | E57: UNT to Two Lick | F57: 40.68608 | G57: -78.96535 | H57: Remy | I57: 9.05 | J57: 100 | K57: M | L57: 4.39 | M57: 4.5 | N57: 286 | O57: 294 | Q57: 0 | R57: 0 | S57: 19 | T57: {=_xlfn.IFS(L57<=5,IF(ISNUMBER(X57)=TRUE,X57*1.79+AA57*1.8+Z57*5.56+50000*(10^-L57)-Q57,1.79+AA57*1.8+Z57*5.56+50000*(10^-L57)-Q57),L57>5,IF(ISNUMBER(X57)=TRUE,X57*1.79+AA57*1.8+50000*(10^-L57)-Q57,AA57*1.8+50000*(10^-L57)-Q57))} -> 10.941351 | W57: 1.647 | X57: 0.127 | Z57: 1.447 | AA57: 0.351 | AC57: 26.89 | AD57: 9.74 | AE57: 1.41 | AF57: 1.79 | AG57: 4 | AH57: <0.05 | AI57: 0.041 | AJ57: <0.2 | AN57: =S57*J57*0.012 -> 22.8 | AO57: =W57*J57*0.012 -> 1.9764 | AP57: =Z57*J57*0.012 -> 1.7364 | AQ57: =AA57*J57*0.012 -> 0.4212 | AR57: =AB57*J57*0.012 -> 0 | AS57: =0.012*R57*J57 -> 0
A58: Average | J58: =AVERAGE(J56:J57) -> 80 | K58: =AVERAGE(K56:K57) -> #DIV/0! | L58: =AVERAGE(L56:L57) -> 4.32 | M58: =AVERAGE(M56:M57) -> 4.4 | N58: =AVERAGE(N56:N57) -> 316 | O58: =AVERAGE(O56:O57) -> 304 | Q58: =AVERAGE(Q56:Q57) -> 0 | R58: =AVERAGE(R56:R57) -> 0 | S58: =AVERAGE(S56:S57) -> 19.1 | T58: =AVERAGE(T56:T57) -> 10.574184 | W58: =AVERAGE(W56:W57) -> 0.9755 | X58: =AVERAGE(X56:X57) -> 0.118 | Z58: =AVERAGE(Z56:Z57) -> 1.3035 | AA58: =AVERAGE(AA56:AA57) -> 0.384 | AB58: =AVERAGE(AB56:AB57) -> 133.18 | AC58: =AVERAGE(AC56:AC57) -> 30.795 | AD58: =AVERAGE(AD56:AD57) -> 10.87 | AE58: =AVERAGE(AE56:AE57) -> 1.795 | AF58: =AVERAGE(AF56:AF57) -> 1.835 | AG58: =AVERAGE(AG56:AG57) -> 4 | ... AJ58: =AVERAGE(AJ56:AJ57) -> #DIV/0! | AN58: =AVERAGE(AN56:AN57) -> 18.312 | AO58: =AVERAGE(AO56:AO57) -> 1.09764 | AP58: =AVERAGE(AP56:AP57) -> 1.2858 | AQ58: =AVERAGE(AQ56:AQ57) -> 0.36072 | AR58: =AVERAGE(AR56:AR57) -> 47.9448 | AS58: =AVERAGE(AS56:AS57) -> 0
A60: 44846 | B60: 023 | C60: T7 | E60: UNT to Two Lick | F60: 40.68437 | G60: -78.96351 | H60: Remy | I60: 8.93 | J60: 0 | K60: M | AN60: =S60*J60*0.012 -> 0 | AO60: =W60*J60*0.012 -> 0 | AP60: =Z60*J60*0.012 -> 0 | AQ60: =AA60*J60*0.012 -> 0 | AR60: =AB60*J60*0.012 -> 0 | AS60: =0.012*R60*J60 -> 0 | AU60: =CONCATENATE(TEXT(ROUNDDOWN(ABS(F60),0),"00"),"° ",TEXT(ROUNDDOWN(ABS((F60-ROUNDDOWN(F60,0))*60),0),"00"),"' ",TEXT(TRUNC((ABS((F60-ROUNDDOWN(F60,0))*60)-ROUNDDOWN(ABS((F60-ROUNDDOWN(F60,0))*60),0))*60,2),"00.00"),"""",IF(F60<0," S"," N")) -> 40° 41' 03.73" N | AV60: =CONCATENATE(TEXT(ROUNDDOWN(ABS(G60),0),"000"),"° ",TEXT(ROUNDDOWN(ABS((G60-ROUNDDOWN(G60,0))*60),0),"00"),"' ",TEXT(TRUNC((ABS((G60-ROUNDDOWN(G60,0))*60)-ROUNDDOWN(ABS((G60-ROUNDDOWN(G60,0))*60),0))*60,2),"00.00"),"""",IF(G60<0," W"," E")) -> 078° 57' 48.63" W
A61: 44903 | B61: 023 | C61: T7 | E61: UNT to Two Lick | F61: 40.68437 | G61: -78.96351 | H61: Remy | I61: 8.93 | J61: 30 | K61: E | L61: 5.56 | M61: 6.4 | N61: 94 | O61: 90.1 | Q61: 2 | R61: 7.4 | S61: -1.4 | T61: {=_xlfn.IFS(M61<=5,IF(ISNUMBER(X61)=TRUE,X61*1.79+AA61*1.8+Z61*5.56+50000*(10^-M61)-Q61,1.79+AA61*1.8+Z61*5.56+50000*(10^-M61)-Q61),M61>5,IF(ISNUMBER(X61)=TRUE,X61*1.79+AA61*1.8+50000*(10^-M61)-Q61,AA61*1.8+50000*(10^-M61)-Q61))} -> -1.9620946 | W61: 0.932 | X61: <0.05 | Z61: 0.3 | AA61: 0.01 | AC61: 6.626 | AD61: 2.68 | AE61: 4.81 | AF61: 1.15 | AG61: 6.5 | AH61: <0.05 | AI61: <0.03 | AJ61: <0.2 | AN61: =S61*J61*0.012 -> -0.504 | AO61: =W61*J61*0.012 -> 0.33552 | AP61: =Z61*J61*0.012 -> 0.108 | AQ61: =AA61*J61*0.012 -> 0.0036 | AR61: =AB61*J61*0.012 -> 0 | AS61: =0.012*R61*J61 -> 2.664
A62: Average | J62: =AVERAGE(J60:J61) -> 15 | K62: =AVERAGE(K60:K61) -> #DIV/0! | L62: =AVERAGE(L60:L61) -> 5.56 | M62: =AVERAGE(M60:M61) -> 6.4 | N62: =AVERAGE(N60:N61) -> 94 | O62: =AVERAGE(O60:O61) -> 90.1 | Q62: =AVERAGE(Q60:Q61) -> 2 | R62: =AVERAGE(R60:R61) -> 7.4 | S62: =AVERAGE(S60:S61) -> -1.4 | T62: =AVERAGE(T60:T61) -> -1.9620946 | W62: =AVERAGE(W60:W61) -> 0.932 | X62: =AVERAGE(X60:X61) -> #DIV/0! | Z62: =AVERAGE(Z60:Z61) -> 0.3 | AA62: =AVERAGE(AA60:AA61) -> 0.01 | AB62: =AVERAGE(AB60:AB61) -> #DIV/0! | AC62: =AVERAGE(AC60:AC61) -> 6.626 | AD62: =AVERAGE(AD60:AD61) -> 2.68 | AE62: =AVERAGE(AE60:AE61) -> 4.81 | AF62: =AVERAGE(AF60:AF61) -> 1.15 | AG62: =AVERAGE(AG60:AG61) -> 6.5 | ... AJ62: =AVERAGE(AJ60:AJ61) -> #DIV/0! | AN62: =AVERAGE(AN60:AN61) -> -0.252 | AO62: =AVERAGE(AO60:AO61) -> 0.16776 | AP62: =AVERAGE(AP60:AP61) -> 0.054 | AQ62: =AVERAGE(AQ60:AQ61) -> 0.0018 | AR62: =AVERAGE(AR60:AR61) -> 0 | AS62: =AVERAGE(AS60:AS61) -> 1.332
A64: 35998 | C64: UTLC-104 from Blacklick Creek assessment | E64: Two Lick upstream South Branch | H64: Twolick Study- PADEP | J64: 5330 | M64: 6.8 | R64: 38 | W64: 1.7 | X64: 0.3 | Z64: 1.1 | AA64: 0.4 | AB64: 123 | AS64: =0.012*R64*J64 -> 2430.48
A65: 37406 | C65: UTLC-224 from Blacklick Creek assessment | E65: Two Lick upstream South Branch | H65: Twolick Creek - IUP | M65: 6.74 | R65: 22.2 | W65: 0.61 | Z65: 0.59 | AA65: 0.28 | AB65: 122
A66: 37435 | C66: UTLC-224 from Blacklick Creek assessment | E66: Two Lick upstream South Branch | H66: Twolick Creek - IUP | M66: 6.71 | R66: 32 | W66: 0.57 | Z66: 1.16 | AA66: 0.39 | AB66: 163.7
A67: 37463 | C67: UTLC-224 from Blacklick Creek assessment | E67: Two Lick upstream South Branch | H67: Twolick Creek - IUP | M67: 7.19 | R67: 40 | W67: 0.71 | Z67: 0.72 | AA67: 0.43 | AB67: 218.1
A68: 37508 | C68: UTLC-224 from Blacklick Creek assessment | E68: Two Lick upstream South Branch | H68: Twolick Creek - IUP | M68: 6.88 | R68: 42.6 | W68: 0.89 | Z68: 2.5 | AA68: 0.45 | AB68: 233.5
A69: 37529 | C69: UTLC-224 from Blacklick Creek assessment | E69: Two Lick upstream South Branch | H69: Twolick Creek - IUP | M69: 7.35 | R69: 42.8 | W69: 0.6 | Z69: 0.18 | AA69: 0.61 | AB69: 207.1
A70: 37559 | C70: UTLC-224 from Blacklick Creek assessment | E70: Two Lick upstream South Branch | H70: Twolick Creek - IUP | M70: 6.87 | R70: 36.8 | W70: 1.11 | Z70: <0.1 | AA70: 0.88 | AB70: 126
A71: 37586 | C71: UTLC-224 from Blacklick Creek assessment | E71: Two Lick upstream South Branch | H71: Twolick Creek - IUP | M71: 6.79 | R71: 28.9 | W71: 0.53 | Z71: 0.32 | AA71: 0.36 | AB71: 143.8
A72: 37613 | C72: UTLC-224 from Blacklick Creek assessment | E72: Two Lick upstream South Branch | H72: Twolick Creek - IUP | M72: 6.7 | R72: 15.8 | W72: 0.4 | Z72: 0.18 | AA72: 0.21 | AB72: 83.5
A73: 37651 | C73: UTLC-224 from Blacklick Creek assessment | E73: Two Lick upstream South Branch | H73: Twolick Creek - IUP | M73: 6.72 | R73: 29 | W73: 0.71 | Z73: 0.5 | AA73: 0.46 | AB73: 182.4
A74: 37684 | C74: UTLC-224 from Blacklick Creek assessment | E74: Two Lick upstream South Branch | H74: Twolick Creek - IUP | M74: 7.06 | R74: 21.4 | W74: 0.51 | Z74: 0.54 | AA74: 0.27 | AB74: 117.3
A75: 37710 | C75: UTLC-224 from Blacklick Creek assessment | E75: Two Lick upstream South Branch | H75: Twolick Creek - IUP | M75: 6.64 | R75: 21.9 | W75: 0.67 | Z75: 1.05 | AA75: 0.32 | AB75: 132.3
A76: 37741 | C76: UTLC-224 from Blacklick Creek assessment | E76: Two Lick upstream South Branch | H76: Twolick Creek - IUP | M76: 7.26 | R76: 27 | W76: 0.47 | Z76: <0.1 | AA76: 0.39 | AB76: 179.4
A77: 44845 | B77: 013 | C77: S7 | E77: Two Lick upstream South Branch | F77: 40.67557 | G77: -78.96301 | H77: Hedin | I77: 8.39 | J77: =4.23*449 -> 1899.27 | K77: M | L77: 7.95 | M77: 7.5 | N77: 436 | O77: 440 | P77: 9 | Q77: =AVERAGE(68,67) -> 67.5 | R77: 63.8 | S77: -51.6 | T77: {=_xlfn.IFS(L77<=5,IF(ISNUMBER(X77)=TRUE,X77*1.79+AA77*1.8+Z77*5.56+50000*(10^-L77)-Q77,1.79+AA77*1.8+Z77*5.56+50000*(10^-L77)-Q77),L77>5,IF(ISNUMBER(X77)=TRUE,X77*1.79+AA77*1.8+50000*(10^-L77)-Q77,AA77*1.8+50000*(10^-L77)-Q77))} -> -66.949709 | U77: 11.28 | V77: 97.2 | W77: 0.317 | X77: 0.107 | Z77: 0.3 | AA77: 0.199 | AB77: 145.83 | AC77: 52.15 | AD77: 15.19 | AE77: 12.32 | AF77: 2.16 | AG77: 10.3 | AH77: <0.05 | AI77: <0.03 | AJ77: <0.2 | AN77: =S77*J77*0.012 -> -1176.028 | AO77: =W77*J77*0.012 -> 7.2248231 | AP77: =Z77*J77*0.012 -> 6.837372 | AQ77: =AA77*J77*0.012 -> 4.5354568 | AR77: =AB77*J77*0.012 -> 3323.6465 | AS77: =0.012*R77*J77 -> 1454.0811 | AT77: No staining. Turtle in stream | AU77: =CONCATENATE(TEXT(ROUNDDOWN(ABS(F77),0),"00"),"° ",TEXT(ROUNDDOWN(ABS((F77-ROUNDDOWN(F77,0))*60),0),"00"),"' ",TEXT(TRUNC((ABS((F77-ROUNDDOWN(F77,0))*60)-ROUNDDOWN(ABS((F77-ROUNDDOWN(F77,0))*60),0))*60,2),"00.00"),"""",IF(F77<0," S"," N")) -> 40° 40' 32.05" N | AV77: =CONCATENATE(TEXT(ROUNDDOWN(ABS(G77),0),"000"),"° ",TEXT(ROUNDDOWN(ABS((G77-ROUNDDOWN(G77,0))*60),0),"00"),"' ",TEXT(TRUNC((ABS((G77-ROUNDDOWN(G77,0))*60)-ROUNDDOWN(ABS((G77-ROUNDDOWN(G77,0))*60),0))*60,2),"00.00"),"""",IF(G77<0," W"," E")) -> 078° 57' 46.83" W
A78: 44903 | B78: 013 | C78: S7 | E78: Two Lick upstream South Branch | F78: 40.67557 | G78: -78.96301 | H78: Hedin | I78: 8.39 | J78: 6659 | K78: M | L78: 7.5 | M78: 7.3 | N78: 294 | O78: 291 | P78: 5 | Q78: 52 | R78: 48.2 | S78: -33.4 | T78: {=_xlfn.IFS(L78<=5,IF(ISNUMBER(X78)=TRUE,X78*1.79+AA78*1.8+Z78*5.56+50000*(10^-L78)-Q78,1.79+AA78*1.8+Z78*5.56+50000*(10^-L78)-Q78),L78>5,IF(ISNUMBER(X78)=TRUE,X78*1.79+AA78*1.8+50000*(10^-L78)-Q78,AA78*1.8+50000*(10^-L78)-Q78))} -> -51.637209 | U78: 11.25 | V78: 95.1 | W78: 0.35 | X78: 0.059 | Z78: 0.3 | AA78: 0.142 | AC78: 33.1 | AD78: 9.28 | AE78: 8.63 | AF78: 1.74 | AG78: 9.6 | AH78: <0.05 | AI78: <0.03 | AJ78: <0.2 | AN78: =S78*J78*0.012 -> -2668.9272 | AO78: =W78*J78*0.012 -> 27.9678 | AP78: =Z78*J78*0.012 -> 23.9724 | AQ78: =AA78*J78*0.012 -> 11.346936 | AR78: =AB78*J78*0.012 -> 0 | AS78: =0.012*R78*J78 -> 3851.5656
A79: 44964 | B79: 013 | C79: S7 | E79: Two Lick upstream South Branch | F79: 40.67557 | G79: -78.96301 | H79: BCWA | J79: N/M | L79: 7.29 | M79: 7.2 | N79: 317 | O79: 234 | Q79: 80 | R79: 80 | S79: -72.8 | T79: {=_xlfn.IFS(L79<=5,IF(ISNUMBER(X88)=TRUE,X88*1.79+AA88*1.8+Z88*5.56+50000*(10^-L79)-Q79,1.79+AA88*1.8+Z88*5.56+50000*(10^-L79)-Q79),L79>5,IF(ISNUMBER(X88)=TRUE,X88*1.79+AA88*1.8+50000*(10^-L79)-Q79,AA88*1.8+50000*(10^-L79)-Q79))} -> -79.848536 | W79: 0.317 | X79: 0.05 | Z79: 0.3 | AA79: 0.198 | AB79: 101.61 | AC79: 38.83 | AD79: 11.65 | AE79: 9.19 | AF79: 1.68 | AG79: 9.7 | AH79: <0.05 | AI79: <0.03 | AJ79: <0.2
A80: 45022 | B80: 029 | C80: S7 | E80: Two Lick upstream South Branch | F80: 40.67557 | G80: -78.96301 | H80: BCWA | J80: N/M | L80: 7.52 | M80: 6.8 | N80: 275 | O80: 194 | Q80: 39 | R80: 42.6 | S80: -29.4 | T80: {=_xlfn.IFS(L80<=5,IF(ISNUMBER(X89)=TRUE,X89*1.79+AA89*1.8+Z89*5.56+50000*(10^-L80)-Q80,1.79+AA89*1.8+Z89*5.56+50000*(10^-L80)-Q80),L80>5,IF(ISNUMBER(X89)=TRUE,X89*1.79+AA89*1.8+50000*(10^-L80)-Q80,AA89*1.8+50000*(10^-L80)-Q80))} -> -38.8263 | W80: 0.312 | X80: 0.05 | Z80: 0.3 | AA80: 0.12 | AB80: 84.79 | AC80: 29.06 | AD80: 9.04 | AE80: 7.28 | AF80: 1.66 | AG80: 8.6 | AH80: <0.05 | AI80: <0.03 | AJ80: <0.2
A81: 45098 | B81: 068 | C81: S7 | E81: Two Lick upstream South Branch | F81: 40.67557 | G81: -78.96301 | H81: BCWA | J81: N/M | L81: 7.71 | M81: 6.8 | N81: 485 | O81: 463 | P81: 15.7 | Q81: 60 | R81: 67 | S81: -54.2 | T81: {=_xlfn.IFS(L81<=5,IF(ISNUMBER(X90)=TRUE,X90*1.79+AA90*1.8+Z90*5.56+50000*(10^-L81)-Q81,1.79+AA90*1.8+Z90*5.56+50000*(10^-L81)-Q81),L81>5,IF(ISNUMBER(X90)=TRUE,X90*1.79+AA90*1.8+50000*(10^-L81)-Q81,AA90*1.8+50000*(10^-L81)-Q81))} -> -59.783525 | W81: 0.222 | X81: 0.05 | Z81: 0.3 | AA81: 0.125 | AB81: 149.59 | AC81: 55.95 | AD81: 16.11 | AE81: 12.9 | AF81: 2.3 | AG81: 10.6 | AH81: 0.05 | AI81: 0.03 | AJ81: 0.2
A82: 45169 | B82: 068 | C82: S7 | E82: Two Lick upstream South Branch | F82: 40.67557 | G82: -78.96301 | H82: BCWA | J82: N/M | L82: 7.62 | M82: 6.5 | N82: 367 | O82: 348 | P82: 14.1 | Q82: 54 | R82: 54.2 | S82: -47 | T82: {=_xlfn.IFS(L82<=5,IF(ISNUMBER(X91)=TRUE,X91*1.79+AA91*1.8+Z91*5.56+50000*(10^-L82)-Q82,1.79+AA91*1.8+Z91*5.56+50000*(10^-L82)-Q82),L82>5,IF(ISNUMBER(X91)=TRUE,X91*1.79+AA91*1.8+50000*(10^-L82)-Q82,AA91*1.8+50000*(10^-L82)-Q82))} -> -53.776391 | W82: 0.374 | X82: 0.06 | Z82: 0.3 | AA82: 0.141 | AB82: 99.83 | AC82: 41.7 | AD82: 9.47 | AE82: 11.3 | AF82: 1.88 | AG82: 8.5 | AH82: 0.05 | AI82: 0.03 | AJ82: 0.2
A83: Average | J83: =AVERAGE(J77:J82) -> 4279.135 | K83: =AVERAGE(K77:K82) -> #DIV/0! | L83: =AVERAGE(L77:L82) -> 7.5983333 | M83: =AVERAGE(M77:M82) -> 7.0166667 | N83: =AVERAGE(N77:N82) -> 362.33333 | O83: =AVERAGE(O77:O82) -> 328.33333 | P83: =AVERAGE(P77:P82) -> 10.95 | Q83: =AVERAGE(Q77:Q82) -> 58.75 | ... X83: =AVERAGE(X77:X82) -> 0.062666667 | Z83: =AVERAGE(Z77:Z82) -> 0.3 | AA83: =AVERAGE(AA77:AA82) -> 0.15416667 | AB83: =AVERAGE(AB77:AB82) -> 116.33 | AC83: =AVERAGE(AC77:AC82) -> 41.798333 | AD83: =AVERAGE(AD77:AD82) -> 11.79 | AE83: =AVERAGE(AE77:AE82) -> 10.27 | AF83: =AVERAGE(AF77:AF82) -> 1.9033333 | AG83: =AVERAGE(AG77:AG82) -> 9.55 | ... AJ83: =AVERAGE(AJ77:AJ82) -> 0.2 | AN83: =AVERAGE(AN77:AN81) -> -1922.4776 | AO83: =AVERAGE(AO77:AO81) -> 17.596312 | AP83: =AVERAGE(AP77:AP81) -> 15.404886 | AQ83: =AVERAGE(AQ77:AQ81) -> 7.9411964 | AR83: =AVERAGE(AR77:AR81) -> 1661.8233 | AS83: =AVERAGE(AS77:AS81) -> 2652.8234
A85: 35998 | C85: UTLC-253 from Blacklick Creek assessment | E85: Mouth of South Branch Two Lick | H85: Twolick Study- PADEP | J85: 5377.3 | M85: 8.4 | R85: 252 | W85: 0.58 | X85: 0.08 | Z85: 0.2 | AA85: 0.04 | AB85: 98 | AS85: =0.012*R85*J85 -> 16260.955
A86: 44845 | B86: 012 | C86: T6 | E86: Mouth of South Branch Two Lick | F86: 40.67466 | G86: -78.96223 | H86: Hedin | I86: 8.25 | J86: =6.83*449 -> 3066.67 | K86: M | L86: 8.08 | M86: 8.1 | N86: 349 | O86: 354 | P86: 8.6 | Q86: =AVERAGE(154,159) -> 156.5 | R86: 153.8 | S86: -137 | T86: {=_xlfn.IFS(L86<=5,IF(ISNUMBER(X86)=TRUE,X86*1.79+AA86*1.8+Z86*5.56+50000*(10^-L86)-Q86,1.79+AA86*1.8+Z86*5.56+50000*(10^-L86)-Q86),L86>5,IF(ISNUMBER(X86)=TRUE,X86*1.79+AA86*1.8+50000*(10^-L86)-Q86,AA86*1.8+50000*(10^-L86)-Q86))} -> -156.16787 | U86: 11.45 | V86: 96.9 | W86: 0.26 | X86: 0.129 | Z86: 0.3 | AA86: 0.056 | AB86: 16.46 | AC86: 18.85 | AD86: 5.07 | AE86: 51.1 | AF86: 1.4 | AG86: 10.2 | AH86: <0.05 | AI86: <0.03 | AJ86: <0.2 | AN86: =S86*J86*0.012 -> -5041.6055 | AO86: =W86*J86*0.012 -> 9.5680104 | AP86: =Z86*J86*0.012 -> 11.040012 | AQ86: =AA86*J86*0.012 -> 2.0608022 | AR86: =AB86*J86*0.012 -> 605.72866 | AS86: =0.012*R86*J86 -> 5659.8462 | AT86: No staining | AU86: =CONCATENATE(TEXT(ROUNDDOWN(ABS(F86),0),"00"),"° ",TEXT(ROUNDDOWN(ABS((F86-ROUNDDOWN(F86,0))*60),0),"00"),"' ",TEXT(TRUNC((ABS((F86-ROUNDDOWN(F86,0))*60)-ROUNDDOWN(ABS((F86-ROUNDDOWN(F86,0))*60),0))*60,2),"00.00"),"""",IF(F86<0," S"," N")) -> 40° 40' 28.77" N | AV86: =CONCATENATE(TEXT(ROUNDDOWN(ABS(G86),0),"000"),"° ",TEXT(ROUNDDOWN(ABS((G86-ROUNDDOWN(G86,0))*60),0),"00"),"' ",TEXT(TRUNC((ABS((G86-ROUNDDOWN(G86,0))*60)-ROUNDDOWN(ABS((G86-ROUNDDOWN(G86,0))*60),0))*60,2),"00.00"),"""",IF(G86<0," W"," E")) -> 078° 57' 44.02" W
A87: 44903 | B87: 012 | C87: T6 | E87: Mouth of South Branch Two Lick | F87: 40.67466 | G87: -78.96223 | H87: Hedin | I87: 8.25 | J87: 11243 | K87: M | L87: 7.56 | M87: 7.6 | N87: 200 | O87: 194.3 | P87: 7.5 | Q87: 63.5 | R87: 66.2 | S87: -55.2 | T87: {=_xlfn.IFS(L87<=5,IF(ISNUMBER(X87)=TRUE,X87*1.79+AA87*1.8+Z87*5.56+50000*(10^-L87)-Q87,1.79+AA87*1.8+Z87*5.56+50000*(10^-L87)-Q87),L87>5,IF(ISNUMBER(X87)=TRUE,X87*1.79+AA87*1.8+50000*(10^-L87)-Q87,AA87*1.8+50000*(10^-L87)-Q87))} -> -63.439223 | U87: 11.76 | V87: 98.1 | W87: 0.21 | X87: <0.05 | Z87: 0.3 | AA87: 0.033 | AC87: 13.8 | AD87: 4.13 | AE87: 20.5 | AF87: 1.43 | AG87: 8.3 | AH87: <0.05 | AI87: <0.03 | AJ87: <0.2 | AN87: =S87*J87*0.012 -> -7447.3632 | AO87: =W87*J87*0.012 -> 28.33236 | AP87: =Z87*J87*0.012 -> 40.4748 | AQ87: =AA87*J87*0.012 -> 4.452228 | AR87: =AB87*J87*0.012 -> 0 | AS87: =0.012*R87*J87 -> 8931.4392
A88: 44964 | B88: 012 | C88: T6 | E88: Mouth of South Branch Two Lick | F88: 40.67466 | G88: -78.96223 | H88: BCWA | J88: N/M | L88: 7.26 | M88: 6.8 | N88: 388 | O88: 347 | Q88: 35 | R88: 45.6 | S88: -36.4 | T88: {=_xlfn.IFS(L88<=5,IF(ISNUMBER(X79)=TRUE,X79*1.79+AA79*1.8+Z79*5.56+50000*(10^-L88)-Q88,1.79+AA79*1.8+Z79*5.56+50000*(10^-L88)-Q88),L88>5,IF(ISNUMBER(X79)=TRUE,X79*1.79+AA79*1.8+50000*(10^-L88)-Q88,AA79*1.8+50000*(10^-L88)-Q88))} -> -34.551352 | W88: 0.166 | X88: 0.05 | Z88: 0.3 | AA88: 0.033 | AB88: 19.65 | AC88: 14.64 | AD88: 4.49 | AE88: 27.93 | AF88: 1.17 | AG88: 9.4 | AH88: <0.05 | AI88: <0.03 | AJ88: <0.2
A89: 45022 | B89: 028 | C89: T6 | E89: Mouth of South Branch Two Lick | F89: 40.67466 | G89: -78.96223 | H89: BCWA | J89: N/M | L89: 7.85 | M89: 7.1 | N89: 181 | O89: 190 | Q89: 56 | R89: 64.8 | S89: -50.2 | T89: {=_xlfn.IFS(L89<=5,IF(ISNUMBER(X80)=TRUE,X80*1.79+AA80*1.8+Z80*5.56+50000*(10^-L89)-Q89,1.79+AA80*1.8+Z80*5.56+50000*(10^-L89)-Q89),L89>5,IF(ISNUMBER(X80)=TRUE,X80*1.79+AA80*1.8+50000*(10^-L89)-Q89,AA80*1.8+50000*(10^-L89)-Q89))} -> -55.693794 | W89: 0.238 | X89: 0.061 | Z89: 0.3 | AA89: 0.035 | AB89: 16.82 | AC89: 11.48 | AD89: 3.71 | AE89: 19.42 | AF89: 1.22 | AG89: 8.5 | AH89: <0.05 | AI89: <0.03 | AJ89: <0.2
A90: 45098 | B90: 067 | C90: T6 | E90: Mouth of South Branch Two Lick | F90: 40.67466 | G90: -78.96223 | H90: BCWA | J90: N/M | L90: 8.26 | M90: 8.1 | N90: 483 | O90: 460 | P90: 17.5 | Q90: 178 | R90: 228.6 | S90: -204 | T90: {=_xlfn.IFS(L90<=5,IF(ISNUMBER(X81)=TRUE,X81*1.79+AA81*1.8+Z81*5.56+50000*(10^-L90)-Q90,1.79+AA81*1.8+Z81*5.56+50000*(10^-L90)-Q90),L90>5,IF(ISNUMBER(X81)=TRUE,X81*1.79+AA81*1.8+50000*(10^-L90)-Q90,AA81*1.8+50000*(10^-L90)-Q90))} -> -177.68523 | W90: 0.305 | X90: 0.05 | Z90: 0.3 | AA90: 0.07 | AB90: 19.33 | AC90: 22.26 | AD90: 5.51 | AE90: 76.28 | AF90: 1.6 | AG90: 11.1 | AH90: 0.05 | AI90: 0.03 | AJ90: 0.2
A91: 45169 | B91: 067 | C91: T6 | E91: Mouth of South Branch Two Lick | F91: 40.67466 | G91: -78.96223 | H91: BCWA | J91: N/M | L91: 7.97 | M91: 7 | N91: 264 | O91: 262 | P91: 15.9 | Q91: 112 | R91: 106.2 | S91: -96.4 | T91: {=_xlfn.IFS(L91<=5,IF(ISNUMBER(X82)=TRUE,X82*1.79+AA82*1.8+Z82*5.56+50000*(10^-L91)-Q91,1.79+AA82*1.8+Z82*5.56+50000*(10^-L91)-Q91),L91>5,IF(ISNUMBER(X82)=TRUE,X82*1.79+AA82*1.8+50000*(10^-L91)-Q91,AA82*1.8+50000*(10^-L91)-Q91))} -> -111.63826 | W91: 0.276 | X91: 0.079 | Z91: 0.3 | AA91: 0.045 | AB91: 14.77 | AC91: 17.2 | AD91: 4.62 | AE91: 35.3 | AF91: 1.53 | AG91: 8.3 | AH91: 0.05 | AI91: 0.03 | AJ91: 0.2
A92: Average | J92: =AVERAGE(J86:J91) -> 7154.835 | K92: =AVERAGE(K86:K91) -> #DIV/0! | L92: =AVERAGE(L86:L91) -> 7.83 | M92: =AVERAGE(M86:M91) -> 7.45 | N92: =AVERAGE(N86:N91) -> 310.83333 | O92: =AVERAGE(O86:O91) -> 301.21667 | P92: =AVERAGE(P86:P91) -> 12.375 | Q92: =AVERAGE(Q86:Q91) -> 100.16667 | ... T92: =AVERAGE(T86:T91) -> -99.862622 | U92: =AVERAGE(U86:U90) -> 11.605 | V92: =AVERAGE(V86:V90) -> 97.5 | W92: =AVERAGE(W86:W91) -> 0.2425 | X92: =AVERAGE(X86:X91) -> 0.0738 | Z92: =AVERAGE(Z86:Z91) -> 0.3 | AA92: =AVERAGE(AA86:AA91) -> 0.045333333 | AB92: =AVERAGE(AB86:AB91) -> 17.406 | AC92: =AVERAGE(AC86:AC91) -> 16.371667 | AD92: =AVERAGE(AD86:AD91) -> 4.5883333 | AE92: =AVERAGE(AE86:AE91) -> 38.421667 | AF92: =AVERAGE(AF86:AF91) -> 1.3916667 | AG92: =AVERAGE(AG86:AG91) -> 9.3 | ... AJ92: =AVERAGE(AJ86:AJ91) -> 0.2 | AN92: =AVERAGE(AN86:AN91) -> -6244.4843 | AO92: =AVERAGE(AO86:AO91) -> 18.950185 | AP92: =AVERAGE(AP86:AP91) -> 25.757406 | AQ92: =AVERAGE(AQ86:AQ91) -> 3.2565151 | AR92: =AVERAGE(AR86:AR91) -> 302.86433 | AS92: =AVERAGE(AS86:AS91) -> 7295.6427
A94: 36308 | C94: UTLC-222 from Blacklick Creek Assessment | E94: Two Lick upstream of Diamondville | H94: Twolick Study- PADEP | J94: 14698.26 | M94: 8.1 | R94: 92 | W94: 0.33 | X94: 0.07 | Z94: <0.2 | AA94: 0.15 | AB94: 85 | AS94: =0.012*R94*J94 -> 16226.879
A95: 37406 | C95: UTLC-222 from Blacklick Creek Assessment | E95: Two Lick upstream of Diamondville | H95: Twolick Creek - IUP | M95: 7.33 | R95: 71.9 | W95: 0.33 | Z95: 0.17 | AA95: 0.1 | AB95: 64.7
A96: 37435 | C96: UTLC-222 from Blacklick Creek Assessment | E96: Two Lick upstream of Diamondville | H96: Twolick Creek - IUP | M96: 7.66 | R96: 135.1 | W96: 0.33 | Z96: 0.55 | AA96: 0.1 | AB96: 81.7
A97: 37463 | C97: UTLC-222 from Blacklick Creek Assessment | E97: Two Lick upstream of Diamondville | H97: Twolick Creek - IUP | M97: 8.42 | R97: 215.6 | W97: 0.4 | Z97: 1.86 | AA97: 0.07 | AB97: 121.8
A98: 37508 | C98: UTLC-222 from Blacklick Creek Assessment | E98: Two Lick upstream of Diamondville | H98: Twolick Creek - IUP | M98: 8.34 | R98: 269.4 | W98: 0.21 | Z98: 1.74 | AA98: 0.06 | AB98: 145.6
A99: 37529 | C99: UTLC-222 from Blacklick Creek Assessment | E99: Two Lick upstream of Diamondville | H99: Twolick Creek - IUP | M99: 8.23 | R99: 183.9 | W99: 0.34 | Z99: <0.1 | AA99: 0.11 | AB99: 113.6
A100: 37559 | C100: UTLC-222 from Blacklick Creek Assessment | E100: Two Lick upstream of Diamondville | H100: Twolick Creek - IUP | M100: 7.58 | R100: 106.3 | W100: 0.44 | Z100: <0.1 | AA100: 0.16 | AB100: 74.4
A101: 37586 | C101: UTLC-222 from Blacklick Creek Assessment | E101: Two Lick upstream of Diamondville | H101: Twolick Creek - IUP | M101: 7.42 | R101: 85.4 | W101: 0.29 | Z101: <0.1 | AA101: 0.13 | AB101: 67.5
A102: 37613 | C102: UTLC-222 from Blacklick Creek Assessment | E102: Two Lick upstream of Diamondville | H102: Twolick Creek - IUP | M102: 6.95 | R102: 27.6 | W102: 0.3 | Z102: <0.1 | AA102: 0.06 | AB102: 43.6
A103: 37651 | C103: UTLC-222 from Blacklick Creek Assessment | E103: Two Lick upstream of Diamondville | H103: Twolick Creek - IUP | M103: 7.76 | R103: 141.7 | W103: 0.35 | Z103: 0.18 | AA103: 0.17 | AB103: 94.8
A104: 37684 | C104: UTLC-222 from Blacklick Creek Assessment | E104: Two Lick upstream of Diamondville | H104: Twolick Creek - IUP | M104: 7.69 | R104: 64.5 | W104: 0.29 | Z104: 0.1 | AA104: 0.1 | AB104: 53.5
A105: 37710 | C105: UTLC-222 from Blacklick Creek Assessment | E105: Two Lick upstream of Diamondville | H105: Twolick Creek - IUP | M105: 7.35 | R105: 75 | W105: 0.29 | Z105: 0.43 | AA105: 0.13 | AB105: 69.9
A106: 37741 | C106: UTLC-222 from Blacklick Creek Assessment | E106: Two Lick upstream of Diamondville | H106: Twolick Creek - IUP | M106: 8.1 | R106: 133 | W106: 0.28 | Z106: <0.1 | AA106: 0.14 | AB106: 99.1
A107: 44845 | B107: 011 | C107: S6 | E107: Two Lick upstream of Diamondville | F107: 40.66272 | G107: -78.96882 | H107: Hedin | I107: 6.9 | J107: =12.63*449 -> 5670.87 | K107: M | L107: 7.99 | M107: 8 | N107: 383 | O107: 384 | P107: 8.3 | Q107: =AVERAGE(121,118) -> 119.5 | R107: 116.2 | S107: -98.2 | T107: {=_xlfn.IFS(L107<=5,IF(ISNUMBER(X107)=TRUE,X107*1.79+AA107*1.8+Z107*5.56+50000*(10^-L107)-Q107,1.79+AA107*1.8+Z107*5.56+50000*(10^-L107)-Q107),L107>5,IF(ISNUMBER(X107)=TRUE,X107*1.79+AA107*1.8+50000*(10^-L107)-Q107,AA107*1.8+50000*(10^-L107)-Q107))} -> -119.15865 | U107: 11.53 | V107: 97 | W107: 0.264 | X107: 0.116 | Z107: 0.3 | AA107: 0.074 | AB107: 64.33 | AC107: 31.36 | AD107: 8.9 | AE107: 35.29 | AF107: 1.72 | AG107: 10.1 | AH107: <0.05 | AI107: <0.03 | AJ107: <0.2 | AN107: =S107*J107*0.012 -> -6682.5532 | AO107: =W107*J107*0.012 -> 17.965316 | AP107: =Z107*J107*0.012 -> 20.415132 | AQ107: =AA107*J107*0.012 -> 5.0357326 | AR107: =AB107*J107*0.012 -> 4377.6848 | AS107: =0.012*R107*J107 -> 7907.4611 | AT107: No staining | AU107: =CONCATENATE(TEXT(ROUNDDOWN(ABS(F107),0),"00"),"° ",TEXT(ROUNDDOWN(ABS((F107-ROUNDDOWN(F107,0))*60),0),"00"),"' ",TEXT(TRUNC((ABS((F107-ROUNDDOWN(F107,0))*60)-ROUNDDOWN(ABS((F107-ROUNDDOWN(F107,0))*60),0))*60,2),"00.00"),"""",IF(F107<0," S"," N")) -> 40° 39' 45.79" N | AV107: =CONCATENATE(TEXT(ROUNDDOWN(ABS(G107),0),"000"),"° ",TEXT(ROUNDDOWN(ABS((G107-ROUNDDOWN(G107,0))*60),0),"00"),"' ",TEXT(TRUNC((ABS((G107-ROUNDDOWN(G107,0))*60)-ROUNDDOWN(ABS((G107-ROUNDDOWN(G107,0))*60),0))*60,2),"00.00"),"""",IF(G107<0," W"," E")) -> 078° 58' 07.75" W
A108: 44903 | B108: 011 | C108: S6 | E108: Two Lick upstream of Diamondville | F108: 40.66272 | G108: -78.96882 | H108: Hedin | I108: 6.9 | J108: 18211 | K108: M | L108: 7.6 | M108: 7.4 | N108: 237 | O108: 230 | P108: 7.7 | Q108: 61.5 | R108: 59.8 | S108: -45.6 | T108: {=_xlfn.IFS(L108<=5,IF(ISNUMBER(X108)=TRUE,X108*1.79+AA108*1.8+Z108*5.56+50000*(10^-L108)-Q108,1.79+AA108*1.8+Z108*5.56+50000*(10^-L108)-Q108),L108>5,IF(ISNUMBER(X108)=TRUE,X108*1.79+AA108*1.8+50000*(10^-L108)-Q108,AA108*1.8+50000*(10^-L108)-Q108))} -> -61.276144 | U108: 11.37 | V108: 95.3 | W108: 0.23 | X108: 0.06 | Z108: 0.3 | AA108: 0.064 | AC108: 20.8 | AD108: 5.98 | AE108: 15.3 | AF108: 1.54 | AG108: 8.6 | AH108: <0.05 | AI108: <0.03 | AJ108: <0.2 | AN108: =S108*J108*0.012 -> -9965.0592 | AO108: =W108*J108*0.012 -> 50.26236 | AP108: =Z108*J108*0.012 -> 65.5596 | AQ108: =AA108*J108*0.012 -> 13.986048 | AR108: =AB108*J108*0.012 -> 0 | AS108: =0.012*R108*J108 -> 13068.214
A109: 44964 | B109: 011 | C109: S6 | E109: Two Lick upstream of Diamondville | F109: 40.66272 | G109: -78.96882 | H109: BCWA | J109: N/M | L109: 7.42 | M109: 7 | N109: 306 | O109: 273 | Q109: 57 | R109: 65.4 | S109: -57 | T109: {=_xlfn.IFS(L109<=5,IF(ISNUMBER(X109)=TRUE,X109*1.79+AA109*1.8+Z109*5.56+50000*(10^-L109)-Q109,1.79+AA109*1.8+Z109*5.56+50000*(10^-L109)-Q109),L109>5,IF(ISNUMBER(X109)=TRUE,X109*1.79+AA109*1.8+50000*(10^-L109)-Q109,AA109*1.8+50000*(10^-L109)-Q109))} -> -56.748399 | W109: 0.191 | X109: 0.05 | Z109: 0.3 | AA109: 0.089 | AB109: 50.85 | AC109: 23.67 | AD109: 7.17 | AE109: 19.95 | AF109: 1.34 | AG109: 9.4 | AH109: <0.05 | AI109: <0.03 | AJ109: <0.2
A110: 45022 | B110: 027 | C110: S6 | E110: Two Lick upstream of Diamondville | F110: 40.66272 | G110: -78.96882 | H110: BCWA | J110: N/M | L110: 7.65 | M110: 7 | N110: 224 | O110: 231 | Q110: 49 | R110: 56.4 | S110: -44 | T110: {=_xlfn.IFS(L110<=5,IF(ISNUMBER(X110)=TRUE,X110*1.79+AA110*1.8+Z110*5.56+50000*(10^-L110)-Q110,1.79+AA110*1.8+Z110*5.56+50000*(10^-L110)-Q110),L110>5,IF(ISNUMBER(X110)=TRUE,X110*1.79+AA110*1.8+50000*(10^-L110)-Q110,AA110*1.8+50000*(10^-L110)-Q110))} -> -48.787051 | W110: 0.244 | X110: 0.057 | Z110: 0.3 | AA110: 0.061 | AB110: 43.63 | AC110: 18.76 | AD110: 5.92 | AE110: 14.81 | AF110: 1.48 | AG110: 8.8 | AH110: <0.05 | AI110: <0.03 | AJ110: <0.2
A111: 45098 | B111: 066 | C111: S6 | E111: Two Lick upstream of Diamondville | F111: 40.66272 | G111: -78.96882 | H111: BCWA | J111: N/M | L111: 8.25 | M111: 7.9 | N111: 504 | O111: 504 | P111: 18.4 | Q111: 130 | R111: 161.6 | S111: -136.6 | T111: {=_xlfn.IFS(L111<=5,IF(ISNUMBER(X111)=TRUE,X111*1.79+AA111*1.8+Z111*5.56+50000*(10^-L111)-Q111,1.79+AA111*1.8+Z111*5.56+50000*(10^-L111)-Q111),L111>5,IF(ISNUMBER(X111)=TRUE,X111*1.79+AA111*1.8+50000*(10^-L111)-Q111,AA111*1.8+50000*(10^-L111)-Q111))} -> -129.80942 | W111: 0.267 | X111: 0.05 | Z111: 0.3 | AA111: 0.056 | AB111: 70.65 | AC111: 35.32 | AD111: 9.57 | AE111: 49.11 | AF111: 1.9 | AG111: 11 | AH111: 0.05 | AI111: 0.03 | AJ111: 0.2
A112: 45169 | B112: 066 | C112: S6 | E112: Two Lick upstream of Diamondville | F112: 40.66272 | G112: -78.96882 | H112: BCWA | J112: N/M | L112: 8.05 | M112: 6.8 | N112: 295 | O112: 300 | P112: 15.5 | Q112: 82 | R112: 79.2 | S112: -72.6 | T112: {=_xlfn.IFS(L112<=5,IF(ISNUMBER(X112)=TRUE,X112*1.79+AA112*1.8+Z112*5.56+50000*(10^-L112)-Q112,1.79+AA112*1.8+Z112*5.56+50000*(10^-L112)-Q112),L112>5,IF(ISNUMBER(X112)=TRUE,X112*1.79+AA112*1.8+50000*(10^-L112)-Q112,AA112*1.8+50000*(10^-L112)-Q112))} -> -81.802054 | W112: 0.254 | X112: 0.05 | Z112: 0.3 | AA112: 0.06 | AB112: 55.66 | AC112: 28.1 | AD112: 7.69 | AE112: 21.6 | AF112: 1.68 | AG112: 8.5 | AH112: 0.05 | AI112: 0.03 | AJ112: 0.2
A113: Average | J113: =AVERAGE(J107:J112) -> 11940.935 | L113: =AVERAGE(L107:L112) -> 7.8266667 | M113: =AVERAGE(M107:M112) -> 7.35 | N113: =AVERAGE(N107:N112) -> 324.83333 | O113: =AVERAGE(O107:O112) -> 320.33333 | P113: =AVERAGE(P107:P112) -> 12.475 | Q113: =AVERAGE(Q107:Q112) -> 83.166667 | R113: =AVERAGE(R107:R112) -> 89.766667 | S113: =AVERAGE(S107:S112) -> -75.666667 | T113: =AVERAGE(T107:T112) -> -82.930286 | U113: =AVERAGE(U107:U111) -> 11.45 | V113: =AVERAGE(V107:V111) -> 96.15 | W113: =AVERAGE(W107:W112) -> 0.24166667 | X113: =AVERAGE(X107:X112) -> 0.063833333 | Z113: =AVERAGE(Z107:Z112) -> 0.3 | AA113: =AVERAGE(AA107:AA112) -> 0.067333333 | AB113: =AVERAGE(AB107:AB112) -> 57.024 | AC113: =AVERAGE(AC107:AC112) -> 26.335 | AD113: =AVERAGE(AD107:AD112) -> 7.5383333 | AE113: =AVERAGE(AE107:AE112) -> 26.01 | AF113: =AVERAGE(AF107:AF112) -> 1.61 | AG113: =AVERAGE(AG107:AG112) -> 9.4 | AH113: =AVERAGE(AH107:AH111) -> 0.05 | AI113: =AVERAGE(AI107:AI111) -> 0.03 | AJ113: =AVERAGE(AJ107:AJ111) -> 0.2 | AN113: =AVERAGE(AN107:AN111) -> -8323.8062 | AO113: =AVERAGE(AO107:AO111) -> 34.113838 | AP113: =AVERAGE(AP107:AP111) -> 42.987366 | AQ113: =AVERAGE(AQ107:AQ111) -> 9.5108903 | AR113: =AVERAGE(AR107:AR111) -> 2188.8424 | AS113: =AVERAGE(AS107:AS111) -> 10487.837
A115: 36308 | C115: UTLC-220 from Blacklick Creek assessment | E115: Diamondville discharge | H115: Twolick Study- PADEP | J115: 278.31 | M115: 2.9 | S115: 297 | T115: =W115*1.79+AA115*1.8+Z115*5.56+50000*(10^-M115)-Q115 -> 310.53527 | W115: 46.1 | X115: 3.06 | Z115: 29.2 | AA115: 1.51 | AB115: 474 | AS115: =0.012*R115*J115 -> 0
A116: 35605 | C116: UTLC-220 from Blacklick Creek assessment | E116: Diamondville discharge | H116: Diamondville Remedy | J116: 552 | M116: 2.8 | S116: 392 | T116: =W116*1.79+AA116*1.8+Z116*5.56+50000*(10^-M116)-Q116 -> 329.81566 | W116: 39.7 | X116: 1.5 | Z116: 31.8 | AA116: 1.5 | AB116: 550 | AS116: =0.012*R116*J116 -> 0
...

Sheet Dixon Run
A1: ='Chemical Data'!A1 -> Upper Two Lick Creek Watershed Assessment Growing Greener Grant to Indiana County Conservation District. Data managed by Hedin Environmental. Contact Ben Hedin (ben.hedin@hedinenv.com) with questions.
A2: ='Chemical Data'!A2 -> n/m = not measured
A4: ='Chemical Data'!A4 -> Date | B4: ='Chemical Data'!B4 -> Sequence # | C4: ='Chemical Data'!C4 -> Project ID | E4: ='Chemical Data'!E4 -> Description | F4: ='Chemical Data'!F4 -> Lat | G4: ='Chemical Data'!G4 -> Long | H4: ='Chemical Data'!H4 -> Sampler | I4: ='Chemical Data'!I4 -> Stream mile | J4: ='Chemical Data'!J4 -> Flow | K4: ='Chemical Data'!K4 -> E/M | L4: ='Chemical Data'!L4 -> pH, field | ... X4: ='Chemical Data'!X4 -> Fe+2 | Z4: ='Chemical Data'!Z4 -> Al | AA4: ='Chemical Data'!AA4 -> Mn | AB4: ='Chemical Data'!AB4 -> SO4 | AC4: ='Chemical Data'!AC4 -> Ca | AD4: ='Chemical Data'!AD4 -> Mg | AE4: ='Chemical Data'!AE4 -> Na | AF4: ='Chemical Data'!AF4 -> K | AG4: ='Chemical Data'!AG4 -> Cl | ... AJ4: ='Chemical Data'!AJ4 -> Br | AK4: TSS | AL4: TDS | AN4: ='Chemical Data'!AN4 -> Acidity | AO4: ='Chemical Data'!AO4 -> Fe | AP4: ='Chemical Data'!AP4 -> Al | AQ4: ='Chemical Data'!AQ4 -> Mn | AR4: ='Chemical Data'!AR4 -> SO4 | AS4: Alkalinity
I5: mile from mouth | J5: ='Chemical Data'!J5 -> gpm | N5: ='Chemical Data'!N5 -> uS/cm | O5: ='Chemical Data'!O5 -> uS/cm | P5: ='Chemical Data'!P5 -> C | Q5: ='Chemical Data'!Q5 -> mg/L CaCO3 | R5: ='Chemical Data'!R5 -> mg/L CaCO3 | S5: ='Chemical Data'!S5 -> mg/L CaCO3 | T5: ='Chemical Data'!T5 -> mg/L CaCO3 | U5: ='Chemical Data'!U5 -> mg/L | ... X5: ='Chemical Data'!X5 -> mg/L | Z5: ='Chemical Data'!Z5 -> mg/L | AA5: ='Chemical Data'!AA5 -> mg/L | AB5: ='Chemical Data'!AB5 -> mg/L | AC5: ='Chemical Data'!AC5 -> mg/L | AD5: ='Chemical Data'!AD5 -> mg/L | AE5: ='Chemical Data'!AE5 -> mg/L | AF5: ='Chemical Data'!AF5 -> mg/L | AG5: ='Chemical Data'!AG5 -> mg/L | ... AJ5: ='Chemical Data'!AJ5 -> mg/L | AK5: mg/L | AL5: mg/L | AN5: ='Chemical Data'!AN5 -> ppd | AO5: ='Chemical Data'!AO5 -> ppd | AP5: ='Chemical Data'!AP5 -> ppd | AQ5: ='Chemical Data'!AQ5 -> ppd | AR5: ='Chemical Data'!AR5 -> ppd | AS5: ppd
A7: ='Chemical Data'!A539 -> 44845 | B7: ='Chemical Data'!B539 -> 009 | C7: ='Chemical Data'!C539 -> T15 | E7: ='Chemical Data'!E539 -> Dixon run @ Dixonville | F7: ='Chemical Data'!F539 -> 40.7177 | G7: ='Chemical Data'!G539 -> -79.00632 | H7: ='Chemical Data'!H539 -> Tasker | I7: 3.68 | J7: ='Chemical Data'!J539 -> 915 | K7: ='Chemical Data'!K539 -> M | L7: ='Chemical Data'!L539 -> 7.83 | M7: ='Chemical Data'!M539 -> 7.8 | N7: ='Chemical Data'!N539 -> 464 | O7: ='Chemical Data'!O539 -> 470 | P7: ='Chemical Data'!P539 -> 7.6 | Q7: ='Chemical Data'!Q539 -> 94 | ... X7: ='Chemical Data'!X539 -> <0.05 | Z7: ='Chemical Data'!Z539 -> 0.3 | AA7: ='Chemical Data'!AA539 -> 0.024 | AB7: ='Chemical Data'!AB539 -> 144.76 | AC7: ='Chemical Data'!AC539 -> 59.55 | AD7: ='Chemical Data'!AD539 -> 18.64 | AE7: ='Chemical Data'!AE539 -> 4.91 | AF7: ='Chemical Data'!AF539 -> 1.83 | AG7: ='Chemical Data'!AG539 -> 5.7 | ... AJ7: ='Chemical Data'!AJ539 -> <0.2 | AN7: ='Chemical Data'!AN539 -> -924.516 | AO7: ='Chemical Data'!AO539 -> 1.098 | AP7: ='Chemical Data'!AP539 -> 3.294 | AQ7: ='Chemical Data'!AQ539 -> 0.26352 | AR7: ='Chemical Data'!AR539 -> 1589.4648
A8: ='Chemical Data'!A540 -> 44903 | B8: ='Chemical Data'!B540 -> 009 | C8: ='Chemical Data'!C540 -> T15 | E8: ='Chemical Data'!E540 -> Dixon run @ Dixonville | F8: ='Chemical Data'!F540 -> 40.7177 | G8: ='Chemical Data'!G540 -> -79.00632 | H8: ='Chemical Data'!H540 -> Tasker | I8: 3.68 | J8: ='Chemical Data'!J540 -> 3402 | K8: ='Chemical Data'!K540 -> M | L8: ='Chemical Data'!L540 -> 7.85 | M8: ='Chemical Data'!M540 -> 7.5 | N8: ='Chemical Data'!N540 -> 313 | O8: ='Chemical Data'!O540 -> 323 | P8: ='Chemical Data'!P540 -> 7.9 | Q8: ='Chemical Data'!Q540 -> 67.5 | ... X8: ='Chemical Data'!X540 -> <0.05 | Z8: ='Chemical Data'!Z540 -> 0.3 | AA8: ='Chemical Data'!AA540 -> 0.046 | AC8: ='Chemical Data'!AC540 -> 40.45 | AD8: ='Chemical Data'!AD540 -> 12.49 | AE8: ='Chemical Data'!AE540 -> 4.52 | AF8: ='Chemical Data'!AF540 -> 1.57 | AG8: ='Chemical Data'!AG540 -> 5.4 | AH8: ='Chemical Data'!AH540 -> <0.05 | AI8: ='Chemical Data'!AI540 -> <0.03 | AJ8: ='Chemical Data'!AJ540 -> <0.2 | AN8: ='Chemical Data'!AN540 -> -2531.088 | AO8: ='Chemical Data'!AO540 -> 4.0824 | AP8: ='Chemical Data'!AP540 -> 12.2472 | AQ8: ='Chemical Data'!AQ540 -> 1.877904
A9: ='Chemical Data'!A541 -> 44964 | B9: ='Chemical Data'!B541 -> 009 | C9: ='Chemical Data'!C541 -> T15 | D9: ='Chemical Data'!D541 -> 0 | E9: ='Chemical Data'!E541 -> Dixon run @ Dixonville | F9: ='Chemical Data'!F541 -> 40.7177 | G9: ='Chemical Data'!G541 -> -79.00632 | H9: ='Chemical Data'!H541 -> Hedin/ICCD | J9: ='Chemical Data'!J541 -> 3627.92 | K9: ='Chemical Data'!K541 -> M | L9: ='Chemical Data'!L541 -> 0 | M9: ='Chemical Data'!M541 -> 7.5 | N9: ='Chemical Data'!N541 -> 0 | O9: ='Chemical Data'!O541 -> 371 | P9: ='Chemical Data'!P541 -> 0 | Q9: =R9 -> 72 | R9: ='Chemical Data'!R541 -> 72 | S9: ='Chemical Data'!S541 -> -53.6 | T9: ='Chemical Data'!T541 -> -71.833319 | U9: ='Chemical Data'!U541 -> 0 | V9: ='Chemical Data'!V541 -> 0 | W9: ='Chemical Data'!W541 -> 0.1 | X9: ='Chemical Data'!X541 -> 0.05 | Z9: ='Chemical Data'!Z541 -> 0.3 | AA9: ='Chemical Data'!AA541 -> 0.042 | AB9: ='Chemical Data'!AB541 -> 104.25 | AC9: ='Chemical Data'!AC541 -> 46.27 | AD9: ='Chemical Data'!AD541 -> 14.67 | AE9: ='Chemical Data'!AE541 -> 4.08 | AF9: ='Chemical Data'!AF541 -> 1.51 | AG9: ='Chemical Data'!AG541 -> 5.1 | ... AJ9: ='Chemical Data'!AJ541 -> <0.2 | AN9: ='Chemical Data'!AN541 -> -2333.4781 | AO9: ='Chemical Data'!AO541 -> 4.353504 | AP9: ='Chemical Data'!AP541 -> 13.060512 | AQ9: ='Chemical Data'!AQ541 -> 1.8284717 | AR9: ='Chemical Data'!AR541 -> 4538.5279
A10: ='Chemical Data'!A542 -> 45022 | B10: ='Chemical Data'!B542 -> 019 | C10: ='Chemical Data'!C542 -> T15 | D10: ='Chemical Data'!D542 -> 0 | E10: ='Chemical Data'!E542 -> Dixon run @ Dixonville | F10: ='Chemical Data'!F542 -> 40.7177 | G10: ='Chemical Data'!G542 -> -79.00632 | H10: ='Chemical Data'!H542 -> Hedin/ICCD | J10: ='Chemical Data'!J542 -> 5289 | K10: ='Chemical Data'!K542 -> M | L10: ='Chemical Data'!L542 -> 7.8 | M10: ='Chemical Data'!M542 -> 6.5 | N10: ='Chemical Data'!N542 -> 289 | O10: ='Chemical Data'!O542 -> 315 | P10: ='Chemical Data'!P542 -> 0 | Q10: =R10 -> 65.2 | R10: ='Chemical Data'!R542 -> 65.2 | S10: ='Chemical Data'!S542 -> -56.6 | T10: ='Chemical Data'!T542 -> -65.035908 | U10: ='Chemical Data'!U542 -> 0 | V10: ='Chemical Data'!V542 -> 0 | W10: ='Chemical Data'!W542 -> 0.152 | X10: ='Chemical Data'!X542 -> 0.05 | Z10: ='Chemical Data'!Z542 -> 0.3 | AA10: ='Chemical Data'!AA542 -> 0.041 | AB10: ='Chemical Data'!AB542 -> 90.97 | AC10: ='Chemical Data'!AC542 -> 43 | AD10: ='Chemical Data'!AD542 -> 13.1 | AE10: ='Chemical Data'!AE542 -> 3.96 | AF10: ='Chemical Data'!AF542 -> 1.55 | AG10: ='Chemical Data'!AG542 -> 4.6 | ... AJ10: ='Chemical Data'!AJ542 -> <0.2 | AN10: ='Chemical Data'!AN542 -> -3592.2888 | AO10: ='Chemical Data'!AO542 -> 9.647136 | AP10: ='Chemical Data'!AP542 -> 19.0404 | AQ10: ='Chemical Data'!AQ542 -> 2.602188 | AR10: ='Chemical Data'!AR542 -> 5773.684
A11: ='Chemical Data'!A543 -> 45098 | B11: ='Chemical Data'!B543 -> 047 | C11: ='Chemical Data'!C543 -> T15 | E11: ='Chemical Data'!E543 -> Dixon run @ Dixonville | F11: ='Chemical Data'!F543 -> 40.7177 | G11: ='Chemical Data'!G543 -> -79.00632 | H11: ='Chemical Data'!H543 -> SFU/ICCD | J11: ='Chemical Data'!J543 -> 588 | K11: ='Chemical Data'!K543 -> M | L11: ='Chemical Data'!L543 -> 7.98 | M11: ='Chemical Data'!M543 -> 6.8 | N11: ='Chemical Data'!N543 -> 449.4 | O11: ='Chemical Data'!O543 -> 441 | P11: ='Chemical Data'!P543 -> 0 | Q11: =R11 -> 91.8 | R11: ='Chemical Data'!R543 -> 91.8 | S11: ='Chemical Data'!S543 -> -84.6 | T11: ='Chemical Data'!T543 -> -91.643376 | U11: ='Chemical Data'!U543 -> 0 | V11: ='Chemical Data'!V543 -> 0 | W11: ='Chemical Data'!W543 -> 0.1 | X11: ='Chemical Data'!X543 -> 0.05 | Z11: ='Chemical Data'!Z543 -> 0.3 | AA11: ='Chemical Data'!AA543 -> 0.037 | AB11: ='Chemical Data'!AB543 -> 128.02 | AC11: ='Chemical Data'!AC543 -> 58.75 | AD11: ='Chemical Data'!AD543 -> 17.42 | AE11: ='Chemical Data'!AE543 -> 5.31 | AF11: ='Chemical Data'!AF543 -> 1.94 | AG11: ='Chemical Data'!AG543 -> 6.3 | ... AJ11: ='Chemical Data'!AJ543 -> 0.2 | AN11: ='Chemical Data'!AN543 -> -596.9376 | AO11: ='Chemical Data'!AO543 -> 0.7056 | AP11: ='Chemical Data'!AP543 -> 2.1168 | AQ11: ='Chemical Data'!AQ543 -> 0.261072 | AR11: ='Chemical Data'!AR543 -> 903.30912
A12: 45169 | B12: ='Chemical Data'!B544 -> 033 | C12: ='Chemical Data'!C544 -> T15 | E12: ='Chemical Data'!E544 -> Dixon run @ Dixonville | F12: ='Chemical Data'!F544 -> 40.7177 | G12: ='Chemical Data'!G544 -> -79.00632 | H12: ='Chemical Data'!H544 -> ICCD | J12: ='Chemical Data'!J544 -> 2877.2 | K12: ='Chemical Data'!K544 -> M | L12: ='Chemical Data'!L544 -> 7.74 | M12: ='Chemical Data'!M544 -> 6.9 | N12: ='Chemical Data'!N544 -> 313 | O12: ='Chemical Data'!O544 -> 362 | P12: ='Chemical Data'!P544 -> 0 | Q12: =R12 -> 79.2 | R12: ='Chemical Data'!R544 -> 79.2 | S12: ='Chemical Data'!S544 -> -72.6 | T12: ='Chemical Data'!T544 -> -78.89063 | U12: ='Chemical Data'!U544 -> 0 | V12: ='Chemical Data'!V544 -> 0 | W12: ='Chemical Data'!W544 -> 0.256 | X12: ='Chemical Data'!X544 -> 0.114 | Z12: ='Chemical Data'!Z544 -> 0.3 | AA12: ='Chemical Data'!AA544 -> 0.058 | AB12: ='Chemical Data'!AB544 -> 94.64 | AC12: ='Chemical Data'!AC544 -> 48.7 | AD12: ='Chemical Data'!AD544 -> 14.6 | AE12: ='Chemical Data'!AE544 -> 4.23 | AF12: ='Chemical Data'!AF544 -> 1.74 | AG12: ='Chemical Data'!AG544 -> 4.2 | ... AJ12: ='Chemical Data'!AJ544 -> 0.2 | AN12: ='Chemical Data'!AN544 -> -2506.6166 | AO12: ='Chemical Data'!AO544 -> 8.8387584 | AP12: ='Chemical Data'!AP544 -> 10.35792 | AQ12: ='Chemical Data'!AQ544 -> 2.0025312 | AR12: ='Chemical Data'!AR544 -> 3267.5785
A13: Average | J13: =AVERAGE(J7:J12) -> 2783.1867 | L13: =AVERAGE(L7:L12) -> 6.5333333 | M13: =AVERAGE(M7:M12) -> 7.1666667 | N13: =AVERAGE(N7:N12) -> 304.73333 | O13: =AVERAGE(O7:O12) -> 380.33333 | P13: =AVERAGE(P7:P12) -> 2.5833333 | Q13: =AVERAGE(Q7:Q12) -> 78.283333 | R13: =AVERAGE(R7:R12) -> 79.066667 | S13: =AVERAGE(S7:S12) -> -68.933333 | ... X13: =AVERAGE(X7:X12) -> 0.066 | Z13: =AVERAGE(Z7:Z12) -> 0.3 | AA13: =AVERAGE(AA7:AA12) -> 0.041333333 | AB13: =AVERAGE(AB7:AB12) -> 112.528 | AC13: =AVERAGE(AC7:AC12) -> 49.453333 | AD13: =AVERAGE(AD7:AD12) -> 15.153333 | AE13: =AVERAGE(AE7:AE12) -> 4.5016667 | AF13: =AVERAGE(AF7:AF12) -> 1.69 | AG13: =AVERAGE(AG7:AG12) -> 5.2166667 | ... AJ13: =AVERAGE(AJ7:AJ12) -> 0.2 | AN13: =AVERAGE(AN7:AN12) -> -2080.8209 | AO13: =AVERAGE(AO7:AO12) -> 4.7875664 | AP13: =AVERAGE(AP7:AP12) -> 10.019472 | AQ13: =AVERAGE(AQ7:AQ12) -> 1.4726145 | AR13: =AVERAGE(AR7:AR12) -> 3214.5129
A15: ='Chemical Data'!A614 -> 44964 | B15: ='Chemical Data'!B614 -> 057 | C15: Dixon Barr | D15: ='Chemical Data'!D614 -> 0 | E15: ='Chemical Data'!E614 -> Barr Slope trib | F15: ='Chemical Data'!F614 -> 0 | G15: ='Chemical Data'!G614 -> 0 | H15: ='Chemical Data'!H614 -> Hedin/ICCD | J15: ='Chemical Data'!J614 -> 134 | K15: ='Chemical Data'!K614 -> M | L15: ='Chemical Data'!L614 -> 7.01 | M15: ='Chemical Data'!M614 -> 6.8 | N15: ='Chemical Data'!N614 -> 171 | O15: ='Chemical Data'!O614 -> 172.1 | P15: ='Chemical Data'!P614 -> 0 | Q15: ='Chemical Data'!Q614 -> 0 | ... X15: ='Chemical Data'!X614 -> 0.05 | Z15: ='Chemical Data'!Z614 -> 0.3 | AA15: ='Chemical Data'!AA614 -> 0.01 | AB15: ='Chemical Data'!AB614 -> 24.72 | AC15: ='Chemical Data'!AC614 -> 19.6 | AD15: ='Chemical Data'!AD614 -> 5.79 | AE15: ='Chemical Data'!AE614 -> 5.02 | AF15: ='Chemical Data'!AF614 -> 1.12 | AG15: ='Chemical Data'!AG614 -> 4.9 | ... AJ15: ='Chemical Data'!AJ614 -> <0.2 | AN15: ='Chemical Data'!AN614 -> -61.4256 | AO15: ='Chemical Data'!AO614 -> 0.17688 | AP15: ='Chemical Data'!AP614 -> 0.4824 | AQ15: ='Chemical Data'!AQ614 -> 0.01608 | AR15: ='Chemical Data'!AR614 -> 39.74976
A16: ='Chemical Data'!A615 -> 45022 | B16: ='Chemical Data'!B615 -> no sample | C16: Dixon Barr | D16: ='Chemical Data'!D615 -> 0 | E16: ='Chemical Data'!E615 -> Barr Slope trib | F16: ='Chemical Data'!F615 -> 0 | G16: ='Chemical Data'!G615 -> 0 | H16: ='Chemical Data'!H615 -> Hedin/ICCD | J16: ='Chemical Data'!J615 -> ~500 | K16: ='Chemical Data'!K615 -> E | L16: ='Chemical Data'!L615 -> 6.94 | M16: ='Chemical Data'!M615 -> 0 | N16: ='Chemical Data'!N615 -> 152
A17: ='Chemical Data'!A616 -> 45098 | B17: ='Chemical Data'!B616 -> 046 | C17: ='Chemical Data'!C616 -> Dixon Barr | D17: ='Chemical Data'!D616 -> 0 | E17: ='Chemical Data'!E616 -> Barr Slope trib | F17: ='Chemical Data'!F616 -> 0 | G17: ='Chemical Data'!G616 -> 0 | H17: ='Chemical Data'!H616 -> SFU/ICCD | J17: ='Chemical Data'!J616 -> 849 | K17: ='Chemical Data'!K616 -> M | L17: ='Chemical Data'!L616 -> 6.99 | M17: ='Chemical Data'!M616 -> 6.5 | N17: ='Chemical Data'!N616 -> 464.4 | O17: ='Chemical Data'!O616 -> 454 | P17: ='Chemical Data'!P616 -> 0 | Q17: ='Chemical Data'!Q616 -> 0 | ... X17: ='Chemical Data'!X616 -> 0.084 | Z17: ='Chemical Data'!Z616 -> 6.863 | AA17: ='Chemical Data'!AA616 -> 0.801 | AB17: ='Chemical Data'!AB616 -> 134.9 | AC17: ='Chemical Data'!AC616 -> 61.3 | AD17: ='Chemical Data'!AD616 -> 19.74 | AE17: ='Chemical Data'!AE616 -> 8.8 | AF17: ='Chemical Data'!AF616 -> 2.01 | AG17: ='Chemical Data'!AG616 -> 8.7 | ... AJ17: ='Chemical Data'!AJ616 -> 0.2 | AN17: ='Chemical Data'!AN616 -> -833.3784 | AQ17: ='Chemical Data'!AQ616 -> 8.160588 | AR17: ='Chemical Data'!AR616 -> 1374.3612
A18: ='Chemical Data'!A617 -> 45169 | B18: ='Chemical Data'!B617 -> 032 | C18: ='Chemical Data'!C617 -> Dixon Barr | D18: ='Chemical Data'!D617 -> 0 | E18: ='Chemical Data'!E617 -> Barr Slope trib | F18: ='Chemical Data'!F617 -> Not correct. Measured Dixon Run at Barr Slope trib | G18: ='Chemical Data'!G617 -> 0 | H18: ='Chemical Data'!H617 -> ICCD | J18: ='Chemical Data'!J617 -> 2495.7 | K18: ='Chemical Data'!K617 -> M | L18: ='Chemical Data'!L617 -> 7.45 | M18: ='Chemical Data'!M617 -> 6.6 | N18: ='Chemical Data'!N617 -> 316 | O18: ='Chemical Data'!O617 -> 374 | P18: ='Chemical Data'!P617 -> 0 | Q18: ='Chemical Data'!Q617 -> 0 | ... X18: ='Chemical Data'!X617 -> 0.152 | Z18: ='Chemical Data'!Z617 -> 0.492 | AA18: ='Chemical Data'!AA617 -> 0.133 | AB18: ='Chemical Data'!AB617 -> 98.91 | AC18: ='Chemical Data'!AC617 -> 46.12 | AD18: ='Chemical Data'!AD617 -> 14 | AE18: ='Chemical Data'!AE617 -> 5.28 | AF18: ='Chemical Data'!AF617 -> 1.7 | AG18: ='Chemical Data'!AG617 -> 4.8 | ... AJ18: ='Chemical Data'!AJ617 -> 0.2 | AN18: ='Chemical Data'!AN617 -> -2018.5222 | AO18: ='Chemical Data'!AO617 -> 35.339112 | AP18: ='Chemical Data'!AP617 -> 14.734613 | AQ18: ='Chemical Data'!AQ617 -> 3.9831372 | AR18: ='Chemical Data'!AR617 -> 2962.1962
A19: Average | J19: =AVERAGE(J15:J17) -> 491.5 | L19: =AVERAGE(L15:L17) -> 6.98 | M19: =AVERAGE(M15:M17) -> 4.4333333 | N19: =AVERAGE(N15:N17) -> 262.46667 | O19: =AVERAGE(O15:O17) -> 313.05 | P19: =AVERAGE(P15:P17) -> 0 | Q19: =AVERAGE(Q15:Q17) -> 0 | R19: =AVERAGE(R15:R17) -> 69.2 | S19: =AVERAGE(S15:S17) -> -60 | ... X19: =AVERAGE(X15:X17) -> 0.067 | Z19: =AVERAGE(Z15:Z17) -> 3.5815 | AA19: =AVERAGE(AA15:AA17) -> 0.4055 | AB19: =AVERAGE(AB15:AB17) -> 79.81 | AC19: =AVERAGE(AC15:AC17) -> 40.45 | AD19: =AVERAGE(AD15:AD17) -> 12.765 | AE19: =AVERAGE(AE15:AE17) -> 6.91 | AF19: =AVERAGE(AF15:AF17) -> 1.565 | AG19: =AVERAGE(AG15:AG17) -> 6.8 | ... AJ19: =AVERAGE(AJ15:AJ17) -> 0.2 | AN19: =AVERAGE(AN15:AN17) -> -447.402 | AO19: =AVERAGE(AO15:AO17) -> 0.17688 | AP19: =AVERAGE(AP15:AP17) -> 0.4824 | AQ19: =AVERAGE(AQ15:AQ17) -> 4.088334 | AR19: =AVERAGE(AR15:AR17) -> 707.05548
A21: ='Chemical Data'!A534 -> 45022 | B21: ='Chemical Data'!B534 -> 040 | C21: ='Chemical Data'!C534 -> Dixon 3 | D21: ='Chemical Data'!D534 -> 0 | E21: ='Chemical Data'!E534 -> Refuse seepage just downstream of | F21: ='Chemical Data'!F534 -> 0 | G21: ='Chemical Data'!G534 -> 0 | H21: ='Chemical Data'!H534 -> Hedin/ICCD | J21: =AR21/AB21*83.23 -> 15.817374 | K21: Drips from bank. Flow calculated from SO4 mass balance | L21: ='Chemical Data'!L534 -> 2.33 | M21: ='Chemical Data'!M534 -> 2.2 | N21: ='Chemical Data'!N534 -> >4000 | O21: ='Chemical Data'!O534 -> 6620 | P21: ='Chemical Data'!P534 -> 0 | Q21: ='Chemical Data'!Q534 -> 0 | R21: ='Chemical Data'!R534 -> 0 | S21: ='Chemical Data'!S534 -> 7664.6 | ... X21: ='Chemical Data'!X534 -> 0 | Z21: ='Chemical Data'!Z534 -> 499 | AA21: ='Chemical Data'!AA534 -> 22.7 | AB21: ='Chemical Data'!AB534 -> 8779.35 | AC21: ='Chemical Data'!AC534 -> 235 | AD21: ='Chemical Data'!AD534 -> 134 | AE21: ='Chemical Data'!AE534 -> 3.44 | AF21: ='Chemical Data'!AF534 -> 1 | AG21: ='Chemical Data'!AG534 -> 4 | ... AJ21: ='Chemical Data'!AJ534 -> <0.2 | AN21: =J21*S21/83.23 -> 1456.6123 | AO21: =AO35-AO10 -> 85.314864 | AP21: =AP35-AP10 -> 19.1838 | AQ21: =AQ35-AQ10 -> 11.043612 | AR21: =AR35-AR10 -> 1668.464
A22: 45098 | E22: Refuse seepage just downstream of | J22: =AR22/AB24*83.23 -> 7.9254146 | AN22: =AN36-AN11 -> -303.0384 | AO22: =AO36-AO11 -> 4.741008 | AP22: =AP36-AP11 -> 1.3896 | AQ22: =AQ36-AQ11 -> 3.806352 | AR22: =AR36-AR11 -> 821.60592
A23: ='Chemical Data'!A535 -> 45169 | B23: ='Chemical Data'!B535 -> 031 | C23: ='Chemical Data'!C535 -> Dixon 3 | D23: ='Chemical Data'!D535 -> 0 | E23: ='Chemical Data'!E535 -> Refuse seepage US of Moose Lodge | F23: ='Chemical Data'!F535 -> 40.708448 | G23: ='Chemical Data'!G535 -> -79.008511 | H23: ='Chemical Data'!H535 -> ICCD | J23: =AR23/AB23*83.23 -> 34.215503 | L23: ='Chemical Data'!L535 -> 2.43 | M23: ='Chemical Data'!M535 -> 2.2 | N23: ='Chemical Data'!N535 -> >4000 | O23: ='Chemical Data'!O535 -> 6580 | P23: ='Chemical Data'!P535 -> 0 | Q23: ='Chemical Data'!Q535 -> 0 | R23: ='Chemical Data'!R535 -> 0 | S23: ='Chemical Data'!S535 -> 7066.6 | ... X23: ='Chemical Data'!X535 -> 298.093 | Z23: ='Chemical Data'!Z535 -> 502 | AA23: ='Chemical Data'!AA535 -> 24.6 | AB23: ='Chemical Data'!AB535 -> 8477.1 | AC23: ='Chemical Data'!AC535 -> 221 | AD23: ='Chemical Data'!AD535 -> 136 | AE23: ='Chemical Data'!AE535 -> 3.6 | AF23: ='Chemical Data'!AF535 -> 1 | AG23: ='Chemical Data'!AG535 -> 4 | ... AJ23: ='Chemical Data'!AJ535 -> 0.2 | AN23: =AN37-AN12 -> -87.48984 | AO23: =AO37-AO12 -> 104.7753 | AP23: =AP37-AP12 -> 66.685092 | AQ23: =AQ37-AQ12 -> 30.033709 | AR23: =AR37-AR12 -> 3484.9002
A24: Average | J24: =AVERAGE(J21:J23) -> 19.319431 | K24: =AVERAGE(K21:K23) -> #DIV/0! | L24: =AVERAGE(L21:L23) -> 2.38 | M24: =AVERAGE(M21:M23) -> 2.2 | N24: =AVERAGE(N21:N23) -> #DIV/0! | O24: =AVERAGE(O21:O23) -> 6600 | P24: =AVERAGE(P21:P23) -> 0 | Q24: =AVERAGE(Q21:Q23) -> 0 | ... X24: =AVERAGE(X21:X23) -> 149.0465 | Z24: =AVERAGE(Z21:Z23) -> 500.5 | AA24: =AVERAGE(AA21:AA23) -> 23.65 | AB24: =AVERAGE(AB21:AB23) -> 8628.225 | AC24: =AVERAGE(AC21:AC23) -> 228 | AD24: =AVERAGE(AD21:AD23) -> 135 | AE24: =AVERAGE(AE21:AE23) -> 3.52 | AF24: =AVERAGE(AF21:AF23) -> 1 | AG24: =AVERAGE(AG21:AG23) -> 4 | ... AJ24: =AVERAGE(AJ21:AJ23) -> 0.2 | AN24: =AVERAGE(AN21:AN23) -> 355.36136 | AO24: =AVERAGE(AO21:AO23) -> 64.943725 | AP24: =AVERAGE(AP21:AP23) -> 29.086164 | AQ24: =AVERAGE(AQ21:AQ23) -> 14.961224 | AR24: =AVERAGE(AR21:AR23) -> 1991.6567
A26: ='Chemical Data'!A529 -> 44845 | B26: ='Chemical Data'!B529 -> 029 | C26: ='Chemical Data'!C529 -> T15-2 | E26: ='Chemical Data'!E529 -> Dixon Run at Moose Lodge | F26: ='Chemical Data'!F529 -> 40.70499 | G26: ='Chemical Data'!G529 -> -79.007742 | H26: ='Chemical Data'!H529 -> Tasker | I26: 2.79 | J26: ='Chemical Data'!J529 -> n/m | K26: ='Chemical Data'!K529 -> 0 | L26: ='Chemical Data'!L529 -> 7.11 | M26: ='Chemical Data'!M529 -> 7.3 | N26: ='Chemical Data'!N529 -> 484 | O26: ='Chemical Data'!O529 -> 487 | P26: ='Chemical Data'!P529 -> 9.1 | Q26: ='Chemical Data'!Q529 -> 88 | ... X26: ='Chemical Data'!X529 -> 1.385 | Z26: ='Chemical Data'!Z529 -> 0.828 | AA26: ='Chemical Data'!AA529 -> 0.296 | AB26: ='Chemical Data'!AB529 -> 158.47 | AC26: ='Chemical Data'!AC529 -> 61.47 | AD26: ='Chemical Data'!AD529 -> 19.45 | AE26: ='Chemical Data'!AE529 -> 8.06 | AF26: ='Chemical Data'!AF529 -> 1.98 | AG26: ='Chemical Data'!AG529 -> 7.8 | ... AJ26: ='Chemical Data'!AJ529 -> <0.2
A27: ='Chemical Data'!A530 -> 44903 | B27: ='Chemical Data'!B530 -> 029 | C27: ='Chemical Data'!C530 -> T15-2 | E27: ='Chemical Data'!E530 -> Dixon Run at Moose Lodge | F27: ='Chemical Data'!F530 -> 40.70499 | G27: ='Chemical Data'!G530 -> -79.007742 | H27: ='Chemical Data'!H530 -> Tasker | I27: 2.79 | J27: ='Chemical Data'!J530 -> n/m | K27: ='Chemical Data'!K530 -> 0 | L27: ='Chemical Data'!L530 -> 7.28 | M27: ='Chemical Data'!M530 -> 7.3 | N27: ='Chemical Data'!N530 -> 321.8 | O27: ='Chemical Data'!O530 -> 239 | P27: ='Chemical Data'!P530 -> 7.9 | Q27: ='Chemical Data'!Q530 -> 57.5 | ... X27: ='Chemical Data'!X530 -> 0.522 | Z27: ='Chemical Data'!Z530 -> 0.568 | AA27: ='Chemical Data'!AA530 -> 0.149 | AC27: ='Chemical Data'!AC530 -> 39.83 | AD27: ='Chemical Data'!AD530 -> 12.41 | AE27: ='Chemical Data'!AE530 -> 5.86 | AF27: ='Chemical Data'!AF530 -> 1.73 | AG27: ='Chemical Data'!AG530 -> 6.1 | AH27: ='Chemical Data'!AH530 -> <0.05 | AI27: ='Chemical Data'!AI530 -> <0.03 | AJ27: ='Chemical Data'!AJ530 -> <0.2
A28: ='Chemical Data'!A531 -> 44964 | B28: ='Chemical Data'!B531 -> 029 | C28: ='Chemical Data'!C531 -> T15-2 | D28: ='Chemical Data'!D531 -> 0 | E28: ='Chemical Data'!E531 -> Dixon Run at Moose Lodge | F28: ='Chemical Data'!F531 -> 40.70499 | G28: ='Chemical Data'!G531 -> -79.007742 | H28: ='Chemical Data'!H531 -> Hedin/ICCD | J28: ='Chemical Data'!J531 -> 3942 | K28: ='Chemical Data'!K531 -> M | L28: ='Chemical Data'!L531 -> 6.95 | M28: ='Chemical Data'!M531 -> 7.1 | N28: ='Chemical Data'!N531 -> 368 | O28: ='Chemical Data'!O531 -> 374 | P28: ='Chemical Data'!P531 -> 0 | Q28: ='Chemical Data'!Q531 -> 59 | ... X28: ='Chemical Data'!X531 -> 0.508 | Z28: ='Chemical Data'!Z531 -> 0.561 | AA28: ='Chemical Data'!AA531 -> 0.177 | AB28: ='Chemical Data'!AB531 -> 109.82 | AC28: ='Chemical Data'!AC531 -> 44.5 | AD28: ='Chemical Data'!AD531 -> 14.23 | AE28: ='Chemical Data'!AE531 -> 5.49 | AF28: ='Chemical Data'!AF531 -> 1.49 | AG28: ='Chemical Data'!AG531 -> 6 | ... AJ28: ='Chemical Data'!AJ531 -> <0.2 | AN28: ='Chemical Data'!AN531 -> -2374.6608 | AO28: ='Chemical Data'!AO531 -> 87.98544 | AP28: ='Chemical Data'!AP531 -> 26.537544 | AQ28: ='Chemical Data'!AQ531 -> 8.372808 | AR28: ='Chemical Data'!AR531 -> 5194.9253
A29: ='Chemical Data'!A532 -> 45169 | B29: ='Chemical Data'!B532 -> 030 | C29: ='Chemical Data'!C532 -> 0 | D29: ='Chemical Data'!D532 -> 0 | E29: ='Chemical Data'!E532 -> Dixon Run at Moose Lodge | F29: ='Chemical Data'!F532 -> 40.70499 | G29: ='Chemical Data'!G532 -> -79.007742 | H29: ='Chemical Data'!H532 -> ICCD | J29: ='Chemical Data'!J532 -> 3186.9 | K29: ='Chemical Data'!K532 -> M | L29: ='Chemical Data'!L532 -> 7.3 | M29: ='Chemical Data'!M532 -> 7.1 | N29: ='Chemical Data'!N532 -> 326 | O29: ='Chemical Data'!O532 -> 364 | P29: ='Chemical Data'!P532 -> 0 | Q29: ='Chemical Data'!Q532 -> 0 | ... X29: ='Chemical Data'!X532 -> 0.069 | Z29: ='Chemical Data'!Z532 -> 0.61 | AA29: ='Chemical Data'!AA532 -> 0.183 | AB29: ='Chemical Data'!AB532 -> 100.92 | AC29: ='Chemical Data'!AC532 -> 47.4 | AD29: ='Chemical Data'!AD532 -> 14.4 | AE29: ='Chemical Data'!AE532 -> 5.46 | AF29: ='Chemical Data'!AF532 -> 1.76 | AG29: ='Chemical Data'!AG532 -> 4.8 | ... AJ29: ='Chemical Data'!AJ532 -> <0.2 | AN29: ='Chemical Data'!AN532 -> -2539.3219 | AO29: ='Chemical Data'!AO532 -> 71.514036 | AP29: ='Chemical Data'!AP532 -> 23.328108 | AQ29: ='Chemical Data'!AQ532 -> 6.9984324 | AR29: ='Chemical Data'!AR532 -> 3859.4634
A30: Average | J30: =AVERAGE(J26:J28) -> 3942 | L30: =AVERAGE(L26:L28) -> 7.1133333 | M30: =AVERAGE(M26:M28) -> 7.2333333 | N30: =AVERAGE(N26:N28) -> 391.26667 | O30: =AVERAGE(O26:O28) -> 366.66667 | P30: =AVERAGE(P26:P28) -> 5.6666667 | Q30: =AVERAGE(Q26:Q28) -> 68.166667 | R30: =AVERAGE(R26:R28) -> 72.6 | S30: =AVERAGE(S26:S28) -> -58.733333 | ... X30: =AVERAGE(X26:X28) -> 0.805 | Z30: =AVERAGE(Z26:Z28) -> 0.65233333 | AA30: =AVERAGE(AA26:AA28) -> 0.20733333 | AB30: =AVERAGE(AB26:AB28) -> 134.145 | AC30: =AVERAGE(AC26:AC28) -> 48.6 | AD30: =AVERAGE(AD26:AD28) -> 15.363333 | AE30: =AVERAGE(AE26:AE28) -> 6.47 | AF30: =AVERAGE(AF26:AF28) -> 1.7333333 | AG30: =AVERAGE(AG26:AG28) -> 6.6333333 | ... AJ30: =AVERAGE(AJ26:AJ28) -> #DIV/0! | AN30: =AVERAGE(AN26:AN28) -> -2374.6608 | AO30: =AVERAGE(AO26:AO28) -> 87.98544 | AP30: =AVERAGE(AP26:AP28) -> 26.537544 | AQ30: =AVERAGE(AQ26:AQ28) -> 8.372808 | AR30: =AVERAGE(AR26:AR28) -> 5194.9253
A32: ='Chemical Data'!A612 -> 44964 | B32: ='Chemical Data'!B612 -> 081 | C32: ='Chemical Data'!C612 -> Dix5P | D32: ='Chemical Data'!D612 -> 0 | E32: ='Chemical Data'!E612 -> pipe discharge into Dix 5 | H32: ='Chemical Data'!H612 -> Hedin/ICCD | J32: ='Chemical Data'!J612 -> 2.88 | K32: ='Chemical Data'!K612 -> M | L32: ='Chemical Data'!L612 -> 5.04 | M32: ='Chemical Data'!M612 -> 4.7 | N32: ='Chemical Data'!N612 -> 1869 | O32: ='Chemical Data'!O612 -> 1960 | P32: ='Chemical Data'!P612 -> 0 | Q32: ='Chemical Data'!Q612 -> 0 | ... X32: ='Chemical Data'!X612 -> 0.05 | Z32: ='Chemical Data'!Z612 -> 11.6 | AA32: ='Chemical Data'!AA612 -> 7.47 | AB32: ='Chemical Data'!AB612 -> 1253.86 | AC32: ='Chemical Data'!AC612 -> 212 | AD32: ='Chemical Data'!AD612 -> 119 | AE32: ='Chemical Data'!AE612 -> 75.7 | AF32: ='Chemical Data'!AF612 -> 3.45 | AG32: ='Chemical Data'!AG612 -> 10 | ... AJ32: ='Chemical Data'!AJ612 -> <0.2 | AN32: ='Chemical Data'!AN612 -> 2.66112 | AO32: ='Chemical Data'!AO612 -> 0.003456 | AP32: ='Chemical Data'!AP612 -> 0.400896 | AQ32: ='Chemical Data'!AQ612 -> 0.2581632 | AR32: ='Chemical Data'!AR612 -> 43.333402
A34: ='Chemical Data'!A605 -> 44964 | B34: ='Chemical Data'!B605 -> 056 | C34: DixonMid | D34: ='Chemical Data'!D605 -> 0 | E34: ='Chemical Data'!E605 -> Dixion Run upstream of Mears | H34: ='Chemical Data'!H605 -> Hedin/ICCD | J34: ='Chemical Data'!J605 -> 4346 | K34: ='Chemical Data'!K605 -> M | L34: ='Chemical Data'!L605 -> 7.07 | M34: ='Chemical Data'!M605 -> 6.8 | N34: ='Chemical Data'!N605 -> 365 | O34: ='Chemical Data'!O605 -> 381 | P34: ='Chemical Data'!P605 -> 0 | Q34: ='Chemical Data'!Q605 -> 57 | ... T34: ='Chemical Data'!T605 -> -56.139614 | W34: ='Chemical Data'!W605 -> 1.5 | X34: ='Chemical Data'!X605 -> 0.247 | Z34: ='Chemical Data'!Z605 -> 0.493 | AA34: ='Chemical Data'!AA605 -> 0.23 | AB34: ='Chemical Data'!AB605 -> 113.51 | AC34: ='Chemical Data'!AC605 -> 47.2 | AD34: ='Chemical Data'!AD605 -> 14.7 | AE34: ='Chemical Data'!AE605 -> 5.98 | AF34: ='Chemical Data'!AF605 -> 1.58 | AG34: ='Chemical Data'!AG605 -> 6.2 | ... AJ34: ='Chemical Data'!AJ605 -> <0.2 | AN34: ='Chemical Data'!AN605 -> -2889.2208 | AO34: ='Chemical Data'!AO605 -> 78.228 | AP34: ='Chemical Data'!AP605 -> 25.710936 | AQ34: ='Chemical Data'!AQ605 -> 11.99496 | AR34: ='Chemical Data'!AR605 -> 5919.7735 | AS34: ='Chemical Data'!AS605 -> 3129.12
A35: ='Chemical Data'!A606 -> 45022 | B35: ='Chemical Data'!B606 -> 016 | C35: ='Chemical Data'!C606 -> DixonMid | D35: ='Chemical Data'!D606 -> 0 | E35: ='Chemical Data'!E606 -> Dixion Run upstream of Mears | H35: ='Chemical Data'!H606 -> Hedin/ICCD | J35: ='Chemical Data'!J606 -> 6650 | K35: ='Chemical Data'!K606 -> M | L35: ='Chemical Data'!L606 -> 7.16 | M35: ='Chemical Data'!M606 -> 6.6 | N35: ='Chemical Data'!N606 -> 291 | O35: ='Chemical Data'!O606 -> 319 | P35: ='Chemical Data'!P606 -> 0 | Q35: =R35 -> 63 | R35: ='Chemical Data'!R606 -> 63 | S35: ='Chemical Data'!S606 -> -49 | T35: ='Chemical Data'!T606 -> -62.472151 | W35: ='Chemical Data'!W606 -> 1.19 | X35: ='Chemical Data'!X606 -> 0.121 | Z35: ='Chemical Data'!Z606 -> 0.479 | AA35: ='Chemical Data'!AA606 -> 0.171 | AB35: ='Chemical Data'!AB606 -> 93.26 | AC35: ='Chemical Data'!AC606 -> 42.1 | AD35: ='Chemical Data'!AD606 -> 12.8 | AE35: ='Chemical Data'!AE606 -> 5.51 | AF35: ='Chemical Data'!AF606 -> 1.6 | AG35: ='Chemical Data'!AG606 -> 5.7 | ... AJ35: ='Chemical Data'!AJ606 -> <0.2 | AN35: ='Chemical Data'!AN606 -> -3910.2 | AO35: ='Chemical Data'!AO606 -> 94.962 | AP35: ='Chemical Data'!AP606 -> 38.2242 | AQ35: ='Chemical Data'!AQ606 -> 13.6458 | AR35: ='Chemical Data'!AR606 -> 7442.148 | AS35: ='Chemical Data'!AS606 -> 5027.4
A36: ='Chemical Data'!A607 -> 45098 | B36: ='Chemical Data'!B607 -> 043 | C36: ='Chemical Data'!C607 -> DixonMid | D36: ='Chemical Data'!D607 -> 0 | E36: ='Chemical Data'!E607 -> Dixion Run upstream of Mears | H36: ='Chemical Data'!H607 -> SFU/ICCD | J36: ='Chemical Data'!J607 -> 974 | K36: ='Chemical Data'!K607 -> M | L36: ='Chemical Data'!L607 -> 7.46 | M36: ='Chemical Data'!M616 -> 6.5 | N36: ='Chemical Data'!N607 -> 505 | O36: ='Chemical Data'!O616 -> 454 | P36: ='Chemical Data'!P607 -> 0 | Q36: =R36 -> 90 | R36: ='Chemical Data'!R607 -> 90 | S36: ='Chemical Data'!S607 -> -77 | T36: ='Chemical Data'!T607 -> -89.282366 | W36: ='Chemical Data'!W607 -> 0.466 | X36: ='Chemical Data'!X607 -> 0.05 | Z36: ='Chemical Data'!Z607 -> 0.3 | AA36: ='Chemical Data'!AA607 -> 0.348 | AB36: ='Chemical Data'!AB607 -> 147.58 | AC36: ='Chemical Data'!AC607 -> 60.31 | AD36: ='Chemical Data'!AD607 -> 18.23 | AE36: ='Chemical Data'!AE607 -> 12.59 | AF36: ='Chemical Data'!AF607 -> 2.06 | AG36: ='Chemical Data'!AG607 -> 14.5 | ... AJ36: ='Chemical Data'!AJ607 -> 0.2 | AN36: ='Chemical Data'!AN607 -> -899.976 | AO36: ='Chemical Data'!AO607 -> 5.446608 | AP36: ='Chemical Data'!AP607 -> 3.5064 | AQ36: ='Chemical Data'!AQ607 -> 4.067424 | AR36: ='Chemical Data'!AR607 -> 1724.915 | AS36: ='Chemical Data'!AS607 -> 1051.92
A37: 45169 | B37: ='Chemical Data'!B608 -> 027 | C37: ='Chemical Data'!C608 -> DixonMid | D37: ='Chemical Data'!D608 -> 0 | E37: ='Chemical Data'!E608 -> Dixon Run upstream of Rosebud | H37: ='Chemical Data'!H608 -> Hedin | J37: ='Chemical Data'!J608 -> 4063.45 | K37: ='Chemical Data'!K608 -> M | L37: ='Chemical Data'!L608 -> 6.29 | M37: ='Chemical Data'!M617 -> 6.6 | N37: ='Chemical Data'!N608 -> 410 | O37: ='Chemical Data'!O608 -> 422 | P37: ='Chemical Data'!P608 -> 17.4 | Q37: ='Chemical Data'!Q608 -> 63 | R37: ='Chemical Data'!R608 -> 62.4 | S37: ='Chemical Data'!S608 -> -53.2 | T37: ='Chemical Data'!T608 -> -61.392587 | W37: ='Chemical Data'!W608 -> 2.33 | X37: ='Chemical Data'!X608 -> 0.223 | Z37: ='Chemical Data'!Z608 -> 1.58 | AA37: ='Chemical Data'!AA608 -> 0.657 | AB37: ='Chemical Data'!AB608 -> 138.48 | AC37: ='Chemical Data'!AC608 -> 51.3 | AD37: ='Chemical Data'!AD608 -> 16.5 | AE37: ='Chemical Data'!AE608 -> 8 | AF37: ='Chemical Data'!AF608 -> 1.85 | AG37: ='Chemical Data'!AG608 -> 5.4 | ... AJ37: ='Chemical Data'!AJ608 -> 0.2 | AN37: ='Chemical Data'!AN608 -> -2594.1065 | AO37: ='Chemical Data'!AO608 -> 113.61406 | AP37: ='Chemical Data'!AP608 -> 77.043012 | AQ37: ='Chemical Data'!AQ608 -> 32.03624 | AR37: ='Chemical Data'!AR608 -> 6752.4787 | AS37: ='Chemical Data'!AS608 -> 3042.7114
A38: ='Chemical Data'!A609 -> 45366 | B38: ='Chemical Data'!B609 -> 010 | C38: ='Chemical Data'!C609 -> DixonMid | D38: ='Chemical Data'!D609 -> 0 | E38: ='Chemical Data'!E609 -> Dixon Run upstream of Rosebud | H38: ='Chemical Data'!H609 -> Hedin/ICCD | J38: ='Chemical Data'!J609 -> 11804.21 | K38: ='Chemical Data'!K609 -> M | L38: ='Chemical Data'!L609 -> 5.43 | N38: ='Chemical Data'!N609 -> 810 | P38: ='Chemical Data'!P609 -> 10.5 | R38: ='Chemical Data'!R609 -> 45.8 | S38: ='Chemical Data'!S609 -> -21.4 | T38: ='Chemical Data'!T609 -> -44.207482 | W38: ='Chemical Data'!W609 -> 1.291 | X38: ='Chemical Data'!X609 -> 0.265 | Z38: ='Chemical Data'!Z609 -> 1.291 | AA38: ='Chemical Data'!AA609 -> 0.518 | AB38: ='Chemical Data'!AB609 -> 412.4 | AN38: ='Chemical Data'!AN609 -> -3031.3211 | AO38: ='Chemical Data'!AO609 -> 182.87082 | AP38: ='Chemical Data'!AP609 -> 182.87082 | AQ38: ='Chemical Data'!AQ609 -> 73.374969 | AR38: ='Chemical Data'!AR609 -> 58416.674 | AS38: ='Chemical Data'!AS609 -> 6487.5938
A39: ='Chemical Data'!A610 -> 45527 | B39: ='Chemical Data'!B610 -> 010 | C39: ='Chemical Data'!C610 -> DixonMid | D39: ='Chemical Data'!D610 -> 0 | E39: ='Chemical Data'!E610 -> Dixon Run upstream of Rosebud | H39: ='Chemical Data'!H610 -> Hedin | J39: ='Chemical Data'!J610 -> 2316.84 | K39: ='Chemical Data'!K610 -> M | L39: ='Chemical Data'!L610 -> 7.55 | M39: ='Chemical Data'!M610 -> 7.2 | N39: ='Chemical Data'!N610 -> 434 | P39: ='Chemical Data'!P610 -> 17.5 | Q39: ='Chemical Data'!Q610 -> 153 | R39: ='Chemical Data'!R610 -> 79.8 | S39: ='Chemical Data'!S610 -> -67.2 | T39: ='Chemical Data'!T610 -> -79.114131 | W39: ='Chemical Data'!W610 -> 0.944 | X39: ='Chemical Data'!X610 -> 0.134 | Z39: ='Chemical Data'!Z610 -> 0.5 | AA39: ='Chemical Data'!AA610 -> 0.247 | AB39: ='Chemical Data'!AB610 -> 133.6 | AK39: ='Chemical Data'!AK610 -> <20 | AL39: ='Chemical Data'!AL610 -> 276 | AN39: ='Chemical Data'!AN610 -> -1868.2998 | AO39: ='Chemical Data'!AO610 -> 26.245164 | AP39: ='Chemical Data'!AP610 -> 13.90104 | AQ39: ='Chemical Data'!AQ610 -> 6.8671138 | AR39: ='Chemical Data'!AR610 -> 3714.3579 | AS39: ='Chemical Data'!AS610 -> 2218.606
A40: Average | J40: =AVERAGE(J34:J39) -> 5025.75 | L40: =AVERAGE(L34:L39) -> 6.8266667 | M40: =AVERAGE(M34:M39) -> 6.74 | N40: =AVERAGE(N34:N39) -> 469.16667 | O40: =AVERAGE(O34:O39) -> 394 | P40: =AVERAGE(P34:P39) -> 7.5666667 | Q40: =AVERAGE(Q34:Q39) -> 85.2 | R40: =AVERAGE(R34:R39) -> 66.833333 | S40: =AVERAGE(S34:S39) -> -53.866667 | ... X40: =AVERAGE(X34:X39) -> 0.17333333 | Z40: =AVERAGE(Z34:Z39) -> 0.77383333 | AA40: =AVERAGE(AA34:AA39) -> 0.36183333 | AB40: =AVERAGE(AB34:AB39) -> 173.13833 | AC40: =AVERAGE(AC34:AC39) -> 50.2275 | AD40: =AVERAGE(AD34:AD39) -> 15.5575 | AE40: =AVERAGE(AE34:AE39) -> 8.02 | AF40: =AVERAGE(AF34:AF39) -> 1.7725 | AG40: =AVERAGE(AG34:AG39) -> 7.95 | ... AJ40: =AVERAGE(AJ34:AJ39) -> 0.2 | AN40: =AVERAGE(AN34:AN39) -> -2532.1874 | AO40: =AVERAGE(AO34:AO39) -> 83.561109 | AP40: =AVERAGE(AP34:AP39) -> 56.876068 | AQ40: =AVERAGE(AQ34:AQ39) -> 23.664418 | AR40: =AVERAGE(AR34:AR39) -> 13995.058 | AS40: =AVERAGE(AS34:AS39) -> 3492.8919
A42: ='Chemical Data'!A587 -> 44964 | B42: ='Chemical Data'!B587 -> 055 | C42: DixonAMD2 | E42: ='Chemical Data'!E587 -> Discharge near Mears Complex | H42: ='Chemical Data'!H587 -> Hedin/ICCD | J42: =IF(ISNUMBER('Chemical Data'!J587),'Chemical Data'!J587,"") -> 210.5 | K42: ='Chemical Data'!K587 -> M | L42: =IF(ISNUMBER('Chemical Data'!L587),'Chemical Data'!L587,"") -> 3.4 | M42: =IF(ISNUMBER('Chemical Data'!M587),'Chemical Data'!M587,"") -> 3.1 | N42: =IF(ISNUMBER('Chemical Data'!N587),'Chemical Data'!N587,"") -> 1770 | O42: =IF(ISNUMBER('Chemical Data'!O587),'Chemical Data'!O587,"") -> 1799 | P42: =IF(ISNUMBER('Chemical Data'!P587),'Chemical Data'!P587,"") | Q42: =IF(ISNUMBER('Chemical Data'!Q587),'Chemical Data'!Q587,"") -> 0 | R42: =IF(ISNUMBER('Chemical Data'!R587),'Chemical Data'!R587,"") -> 0 | S42: =IF(ISNUMBER('Chemical Data'!S587),'Chemical Data'!S587,"") -> 273.6 | ... X42: =IF(ISNUMBER('Chemical Data'!X587),'Chemical Data'!X587,"") -> 5.015 | Z42: =IF(ISNUMBER('Chemical Data'!Z587),'Chemical Data'!Z587,"") -> 24.5 | AA42: =IF(ISNUMBER('Chemical Data'!AA587),'Chemical Data'!AA587,"") -> 3.79 | AB42: =IF(ISNUMBER('Chemical Data'!AB587),'Chemical Data'!AB587,"") -> 1094.99 | AC42: =IF(ISNUMBER('Chemical Data'!AC587),'Chemical Data'!AC587,"") -> 171 | AD42: =IF(ISNUMBER('Chemical Data'!AD587),'Chemical Data'!AD587,"") -> 65.7 | AE42: =IF(ISNUMBER('Chemical Data'!AE587),'Chemical Data'!AE587,"") -> 46.7 | AF42: =IF(ISNUMBER('Chemical Data'!AF587),'Chemical Data'!AF587,"") -> 3.2 | AG42: =IF(ISNUMBER('Chemical Data'!AG587),'Chemical Data'!AG587,"") -> 9.3 | ... AS42: =IF(ISNUMBER('Chemical Data'!AS587),'Chemical Data'!AS587,"") -> 0
A43: ='Chemical Data'!A588 -> 45022 | B43: ='Chemical Data'!B588 -> 015 | C43: ='Chemical Data'!C588 -> DixonAMD2 | E43: ='Chemical Data'!E588 -> Discharge near Mears Complex | H43: ='Chemical Data'!H588 -> Hedin/ICCD | J43: =IF(ISNUMBER('Chemical Data'!J588),'Chemical Data'!J588,"") -> 222.255 | K43: ='Chemical Data'!K588 -> M | L43: =IF(ISNUMBER('Chemical Data'!L588),'Chemical Data'!L588,"") -> 3.02 | M43: =IF(ISNUMBER('Chemical Data'!M588),'Chemical Data'!M588,"") -> 3 | N43: =IF(ISNUMBER('Chemical Data'!N588),'Chemical Data'!N588,"") -> 1920 | O43: =IF(ISNUMBER('Chemical Data'!O588),'Chemical Data'!O588,"") -> 2000 | P43: =IF(ISNUMBER('Chemical Data'!P588),'Chemical Data'!P588,"") | Q43: =IF(ISNUMBER('Chemical Data'!Q588),'Chemical Data'!Q588,"") -> 0 | R43: =IF(ISNUMBER('Chemical Data'!R588),'Chemical Data'!R588,"") -> 0 | S43: =IF(ISNUMBER('Chemical Data'!S588),'Chemical Data'!S588,"") -> 344.2 | ... X43: =IF(ISNUMBER('Chemical Data'!X588),'Chemical Data'!X588,"") -> 11.035 | Z43: =IF(ISNUMBER('Chemical Data'!Z588),'Chemical Data'!Z588,"") -> 30.1 | AA43: =IF(ISNUMBER('Chemical Data'!AA588),'Chemical Data'!AA588,"") -> 4.836 | AB43: =IF(ISNUMBER('Chemical Data'!AB588),'Chemical Data'!AB588,"") -> 1214.19 | AC43: =IF(ISNUMBER('Chemical Data'!AC588),'Chemical Data'!AC588,"") -> 198 | AD43: =IF(ISNUMBER('Chemical Data'!AD588),'Chemical Data'!AD588,"") -> 77.2 | AE43: =IF(ISNUMBER('Chemical Data'!AE588),'Chemical Data'!AE588,"") -> 53.4 | AF43: =IF(ISNUMBER('Chemical Data'!AF588),'Chemical Data'!AF588,"") -> 3.55 | AG43: =IF(ISNUMBER('Chemical Data'!AG588),'Chemical Data'!AG588,"") -> 6.5 | ... AS43: =IF(ISNUMBER('Chemical Data'!AS588),'Chemical Data'!AS588,"") -> 0
A44: ='Chemical Data'!A589 -> 45098 | C44: ='Chemical Data'!C589 -> DixonAMD2 | E44: ='Chemical Data'!E589 -> Discharge near Mears Complex | J44: =IF(ISNUMBER('Chemical Data'!J589),'Chemical Data'!J589,"") -> 21.98
A45: 45169 | B45: ='Chemical Data'!B590 -> 026 | C45: ='Chemical Data'!C590 -> DixonAMD2 | E45: Discharge near Mears Complex | H45: ='Chemical Data'!H590 -> Hedin | J45: =IF(ISNUMBER('Chemical Data'!J590),'Chemical Data'!J590,"") -> 162.275 | K45: M | L45: =IF(ISNUMBER('Chemical Data'!L590),'Chemical Data'!L590,"") -> 2.37 | M45: =IF(ISNUMBER('Chemical Data'!M590),'Chemical Data'!M590,"") -> 3 | N45: =IF(ISNUMBER('Chemical Data'!N590),'Chemical Data'!N590,"") -> 2219 | O45: =IF(ISNUMBER('Chemical Data'!O590),'Chemical Data'!O590,"") -> 2180 | P45: =IF(ISNUMBER('Chemical Data'!P590),'Chemical Data'!P590,"") -> 13.1 | Q45: =IF(ISNUMBER('Chemical Data'!Q590),'Chemical Data'!Q590,"") -> 0 | R45: =IF(ISNUMBER('Chemical Data'!R590),'Chemical Data'!R590,"") -> 0 | S45: =IF(ISNUMBER('Chemical Data'!S590),'Chemical Data'!S590,"") -> 331.8 | ... X45: =IF(ISNUMBER('Chemical Data'!X590),'Chemical Data'!X590,"") -> 2.894 | Z45: =IF(ISNUMBER('Chemical Data'!Z590),'Chemical Data'!Z590,"") -> 32.7 | AA45: =IF(ISNUMBER('Chemical Data'!AA590),'Chemical Data'!AA590,"") -> 5.07 | AB45: =IF(ISNUMBER('Chemical Data'!AB590),'Chemical Data'!AB590,"") -> 1363.49 | AC45: =IF(ISNUMBER('Chemical Data'!AC590),'Chemical Data'!AC590,"") -> 207 | AD45: =IF(ISNUMBER('Chemical Data'!AD590),'Chemical Data'!AD590,"") -> 77.3 | AE45: =IF(ISNUMBER('Chemical Data'!AE590),'Chemical Data'!AE590,"") -> 66.2 | AF45: =IF(ISNUMBER('Chemical Data'!AF590),'Chemical Data'!AF590,"") -> 3.67 | AG45: =IF(ISNUMBER('Chemical Data'!AG590),'Chemical Data'!AG590,"") -> 6.7 | ... AS45: =IF(ISNUMBER('Chemical Data'!AS590),'Chemical Data'!AS590,"") -> 0
A46: ='Chemical Data'!A591 -> 45366 | B46: ='Chemical Data'!B591 -> 008 | C46: ='Chemical Data'!C591 -> DixonAMD2 | E46: Discharge near Mears Complex | H46: ='Chemical Data'!H591 -> Hedin/ICCD | J46: =IF(ISNUMBER('Chemical Data'!J591),'Chemical Data'!J591,"") -> 438 | K46: M | L46: =IF(ISNUMBER('Chemical Data'!L591),'Chemical Data'!L591,"") -> 2.36 | M46: =IF(ISNUMBER('Chemical Data'!M591),'Chemical Data'!M591,"") -> 3 | N46: =IF(ISNUMBER('Chemical Data'!N591),'Chemical Data'!N591,"") -> 1960 | O46: =IF(ISNUMBER('Chemical Data'!O591),'Chemical Data'!O591,"") | P46: =IF(ISNUMBER('Chemical Data'!P591),'Chemical Data'!P591,"") -> 11.8 | Q46: =IF(ISNUMBER('Chemical Data'!Q591),'Chemical Data'!Q591,"") -> 0 | R46: =IF(ISNUMBER('Chemical Data'!R591),'Chemical Data'!R591,"") -> 0 | S46: =IF(ISNUMBER('Chemical Data'!S591),'Chemical Data'!S591,"") -> 298 | ... X46: =IF(ISNUMBER('Chemical Data'!X591),'Chemical Data'!X591,"") -> 5.8 | Z46: =IF(ISNUMBER('Chemical Data'!Z591),'Chemical Data'!Z591,"") -> 27.95 | AA46: =IF(ISNUMBER('Chemical Data'!AA591),'Chemical Data'!AA591,"") -> 4.035 | AB46: =IF(ISNUMBER('Chemical Data'!AB591),'Chemical Data'!AB591,"") -> 1090.1 | AC46: =IF(ISNUMBER('Chemical Data'!AC591),'Chemical Data'!AC591,"") | AD46: =IF(ISNUMBER('Chemical Data'!AD591),'Chemical Data'!AD591,"") | AE46: =IF(ISNUMBER('Chemical Data'!AE591),'Chemical Data'!AE591,"") | AF46: =IF(ISNUMBER('Chemical Data'!AF591),'Chemical Data'!AF591,"") | AG46: =IF(ISNUMBER('Chemical Data'!AG591),'Chemical Data'!AG591,"") | ... AS46: =IF(ISNUMBER('Chemical Data'!AS591),'Chemical Data'!AS591,"") -> 0
A47: ='Chemical Data'!A592 -> 45392 | C47: ='Chemical Data'!C592 -> DixonAMD2 | E47: Discharge near Mears Complex | H47: ='Chemical Data'!H592 -> Hedin/ICCD | J47: =IF(ISNUMBER('Chemical Data'!J592),'Chemical Data'!J592,"") -> 456 | K47: M | L47: =IF(ISNUMBER('Chemical Data'!L592),'Chemical Data'!L592,"") -> 2.52 | M47: =IF(ISNUMBER('Chemical Data'!M592),'Chemical Data'!M592,"") -> 3 | N47: =IF(ISNUMBER('Chemical Data'!N592),'Chemical Data'!N592,"") -> 2308 | O47: =IF(ISNUMBER('Chemical Data'!O592),'Chemical Data'!O592,"") | P47: =IF(ISNUMBER('Chemical Data'!P592),'Chemical Data'!P592,"") -> 11.6 | Q47: =IF(ISNUMBER('Chemical Data'!Q592),'Chemical Data'!Q592,"") -> 0 | R47: =IF(ISNUMBER('Chemical Data'!R592),'Chemical Data'!R592,"") -> 0 | S47: =IF(ISNUMBER('Chemical Data'!S592),'Chemical Data'!S592,"") -> 454.6 | ... X47: =IF(ISNUMBER('Chemical Data'!X592),'Chemical Data'!X592,"") -> 9.081 | Z47: =IF(ISNUMBER('Chemical Data'!Z592),'Chemical Data'!Z592,"") -> 46.211 | AA47: =IF(ISNUMBER('Chemical Data'!AA592),'Chemical Data'!AA592,"") -> 4.925 | AB47: =IF(ISNUMBER('Chemical Data'!AB592),'Chemical Data'!AB592,"") -> 1437.6 | AC47: =IF(ISNUMBER('Chemical Data'!AC592),'Chemical Data'!AC592,"") | AD47: =IF(ISNUMBER('Chemical Data'!AD592),'Chemical Data'!AD592,"") | AE47: =IF(ISNUMBER('Chemical Data'!AE592),'Chemical Data'!AE592,"") | AF47: =IF(ISNUMBER('Chemical Data'!AF592),'Chemical Data'!AF592,"") | AG47: =IF(ISNUMBER('Chemical Data'!AG592),'Chemical Data'!AG592,"") | ... AS47: =IF(ISNUMBER('Chemical Data'!AS592),'Chemical Data'!AS592,"") -> 0
A48: ='Chemical Data'!A593 -> 45442 | C48: ='Chemical Data'!C593 -> DixonAMD2 | E48: Discharge near Mears Complex | H48: ='Chemical Data'!H593 -> Hedin/ICCD | J48: =IF(ISNUMBER('Chemical Data'!J593),'Chemical Data'!J593,"") -> 140.1 | K48: M | L48: =IF(ISNUMBER('Chemical Data'!L593),'Chemical Data'!L593,"") -> 2.76 | M48: =IF(ISNUMBER('Chemical Data'!M593),'Chemical Data'!M593,"") -> 3 | N48: =IF(ISNUMBER('Chemical Data'!N593),'Chemical Data'!N593,"") -> 2290 | O48: =IF(ISNUMBER('Chemical Data'!O593),'Chemical Data'!O593,"") | P48: =IF(ISNUMBER('Chemical Data'!P593),'Chemical Data'!P593,"") -> 12.5 | Q48: =IF(ISNUMBER('Chemical Data'!Q593),'Chemical Data'!Q593,"") -> 0 | R48: =IF(ISNUMBER('Chemical Data'!R593),'Chemical Data'!R593,"") -> 0 | S48: =IF(ISNUMBER('Chemical Data'!S593),'Chemical Data'!S593,"") -> 341.6 | ... X48: =IF(ISNUMBER('Chemical Data'!X593),'Chemical Data'!X593,"") -> 1.455 | Z48: =IF(ISNUMBER('Chemical Data'!Z593),'Chemical Data'!Z593,"") -> 29.64 | AA48: =IF(ISNUMBER('Chemical Data'!AA593),'Chemical Data'!AA593,"") -> 4.403 | AB48: =IF(ISNUMBER('Chemical Data'!AB593),'Chemical Data'!AB593,"") -> 922.4 | AC48: =IF(ISNUMBER('Chemical Data'!AC593),'Chemical Data'!AC593,"") | AD48: =IF(ISNUMBER('Chemical Data'!AD593),'Chemical Data'!AD593,"") | AE48: =IF(ISNUMBER('Chemical Data'!AE593),'Chemical Data'!AE593,"") | AF48: =IF(ISNUMBER('Chemical Data'!AF593),'Chemical Data'!AF593,"") | AG48: =IF(ISNUMBER('Chemical Data'!AG593),'Chemical Data'!AG593,"") | ... AS48: =IF(ISNUMBER('Chemical Data'!AS593),'Chemical Data'!AS593,"") -> 0
A49: 45461 | C49: ='Chemical Data'!C594 -> DixonAMD2 | E49: Discharge near Mears Complex | H49: ='Chemical Data'!H594 -> Hedin/ICCD | J49: =IF(ISNUMBER('Chemical Data'!J594),'Chemical Data'!J594,"") -> 116.57 | K49: M | L49: =IF(ISNUMBER('Chemical Data'!L594),'Chemical Data'!L594,"") -> 2.43 | M49: =IF(ISNUMBER('Chemical Data'!M594),'Chemical Data'!M594,"") -> 3 | N49: =IF(ISNUMBER('Chemical Data'!N594),'Chemical Data'!N594,"") -> 2245 | O49: =IF(ISNUMBER('Chemical Data'!O594),'Chemical Data'!O594,"") | P49: =IF(ISNUMBER('Chemical Data'!P594),'Chemical Data'!P594,"") -> 12.1 | Q49: =IF(ISNUMBER('Chemical Data'!Q594),'Chemical Data'!Q594,"") -> 0 | R49: =IF(ISNUMBER('Chemical Data'!R594),'Chemical Data'!R594,"") -> 0 | S49: =IF(ISNUMBER('Chemical Data'!S594),'Chemical Data'!S594,"") -> 357.6 | ... X49: =IF(ISNUMBER('Chemical Data'!X594),'Chemical Data'!X594,"") -> 1.794 | Z49: =IF(ISNUMBER('Chemical Data'!Z594),'Chemical Data'!Z594,"") -> 31.417 | AA49: =IF(ISNUMBER('Chemical Data'!AA594),'Chemical Data'!AA594,"") -> 4.282 | AB49: =IF(ISNUMBER('Chemical Data'!AB594),'Chemical Data'!AB594,"") -> 1146.1 | AC49: =IF(ISNUMBER('Chemical Data'!AC594),'Chemical Data'!AC594,"") | AD49: =IF(ISNUMBER('Chemical Data'!AD594),'Chemical Data'!AD594,"") | AE49: =IF(ISNUMBER('Chemical Data'!AE594),'Chemical Data'!AE594,"") | AF49: =IF(ISNUMBER('Chemical Data'!AF594),'Chemical Data'!AF594,"") | AG49: =IF(ISNUMBER('Chemical Data'!AG594),'Chemical Data'!AG594,"") | ... AS49: =IF(ISNUMBER('Chemical Data'!AS594),'Chemical Data'!AS594,"") -> 0
A50: 45483 | C50: ='Chemical Data'!C595 -> DixonAMD2 | E50: Discharge near Mears Complex | H50: ='Chemical Data'!H595 -> Hedin/ICCD | J50: =IF(ISNUMBER('Chemical Data'!J595),'Chemical Data'!J595,"") -> 83.35 | K50: M | L50: =IF(ISNUMBER('Chemical Data'!L595),'Chemical Data'!L595,"") -> 2.92 | M50: =IF(ISNUMBER('Chemical Data'!M595),'Chemical Data'!M595,"") -> 3 | N50: =IF(ISNUMBER('Chemical Data'!N595),'Chemical Data'!N595,"") -> 2146 | O50: =IF(ISNUMBER('Chemical Data'!O595),'Chemical Data'!O595,"") | P50: =IF(ISNUMBER('Chemical Data'!P595),'Chemical Data'!P595,"") -> 15.3 | Q50: =IF(ISNUMBER('Chemical Data'!Q595),'Chemical Data'!Q595,"") -> 0 | R50: =IF(ISNUMBER('Chemical Data'!R595),'Chemical Data'!R595,"") -> 0 | S50: =IF(ISNUMBER('Chemical Data'!S595),'Chemical Data'!S595,"") -> 562.8 | ... X50: =IF(ISNUMBER('Chemical Data'!X595),'Chemical Data'!X595,"") -> 3.482 | Z50: =IF(ISNUMBER('Chemical Data'!Z595),'Chemical Data'!Z595,"") -> 32.06 | AA50: =IF(ISNUMBER('Chemical Data'!AA595),'Chemical Data'!AA595,"") -> 4.287 | AB50: =IF(ISNUMBER('Chemical Data'!AB595),'Chemical Data'!AB595,"") -> 919 | AC50: =IF(ISNUMBER('Chemical Data'!AC595),'Chemical Data'!AC595,"") | AD50: =IF(ISNUMBER('Chemical Data'!AD595),'Chemical Data'!AD595,"") | AE50: =IF(ISNUMBER('Chemical Data'!AE595),'Chemical Data'!AE595,"") | AF50: =IF(ISNUMBER('Chemical Data'!AF595),'Chemical Data'!AF595,"") | AG50: =IF(ISNUMBER('Chemical Data'!AG595),'Chemical Data'!AG595,"") | ... AS50: =IF(ISNUMBER('Chemical Data'!AS595),'Chemical Data'!AS595,"") -> 0
A51: 45527 | C51: ='Chemical Data'!C596 -> DixonAMD2 | E51: Discharge near Mears Complex | H51: ='Chemical Data'!H596 -> Hedin/ICCD | J51: =IF(ISNUMBER('Chemical Data'!J596),'Chemical Data'!J596,"") -> 93 | K51: M | L51: =IF(ISNUMBER('Chemical Data'!L596),'Chemical Data'!L596,"") -> 3.94 | M51: =IF(ISNUMBER('Chemical Data'!M596),'Chemical Data'!M596,"") -> 2.9 | N51: =IF(ISNUMBER('Chemical Data'!N596),'Chemical Data'!N596,"") -> 2247 | O51: =IF(ISNUMBER('Chemical Data'!O596),'Chemical Data'!O596,"") | P51: =IF(ISNUMBER('Chemical Data'!P596),'Chemical Data'!P596,"") | Q51: =IF(ISNUMBER('Chemical Data'!Q596),'Chemical Data'!Q596,"") -> 0 | R51: =IF(ISNUMBER('Chemical Data'!R596),'Chemical Data'!R596,"") -> 0 | S51: =IF(ISNUMBER('Chemical Data'!S596),'Chemical Data'!S596,"") -> 403.8 | ... X51: =IF(ISNUMBER('Chemical Data'!X596),'Chemical Data'!X596,"") -> 1.598 | Z51: =IF(ISNUMBER('Chemical Data'!Z596),'Chemical Data'!Z596,"") -> 39.177 | AA51: =IF(ISNUMBER('Chemical Data'!AA596),'Chemical Data'!AA596,"") -> 5.664 | AB51: =IF(ISNUMBER('Chemical Data'!AB596),'Chemical Data'!AB596,"") -> 5075.2 | AC51: =IF(ISNUMBER('Chemical Data'!AC596),'Chemical Data'!AC596,"") | AD51: =IF(ISNUMBER('Chemical Data'!AD596),'Chemical Data'!AD596,"") | AE51: =IF(ISNUMBER('Chemical Data'!AE596),'Chemical Data'!AE596,"") | AF51: =IF(ISNUMBER('Chemical Data'!AF596),'Chemical Data'!AF596,"") | AG51: =IF(ISNUMBER('Chemical Data'!AG596),'Chemical Data'!AG596,"") | ... AS51: =IF(ISNUMBER('Chemical Data'!AS596),'Chemical Data'!AS596,"") -> 0
A52: 45547 | C52: ='Chemical Data'!C597 -> DixonAMD2 | E52: Discharge near Mears Complex | H52: ='Chemical Data'!H597 -> Hedin/ICCD | J52: =IF(ISNUMBER('Chemical Data'!J597),'Chemical Data'!J597,"") -> 80.27 | K52: M | L52: =IF(ISNUMBER('Chemical Data'!L597),'Chemical Data'!L597,"") -> 2.73 | M52: =IF(ISNUMBER('Chemical Data'!M597),'Chemical Data'!M597,"") -> 3 | N52: =IF(ISNUMBER('Chemical Data'!N597),'Chemical Data'!N597,"") -> 2444 | O52: =IF(ISNUMBER('Chemical Data'!O597),'Chemical Data'!O597,"") | P52: =IF(ISNUMBER('Chemical Data'!P597),'Chemical Data'!P597,"") -> 13.3 | Q52: =IF(ISNUMBER('Chemical Data'!Q597),'Chemical Data'!Q597,"") -> 0 | R52: =IF(ISNUMBER('Chemical Data'!R597),'Chemical Data'!R597,"") -> 0 | S52: =IF(ISNUMBER('Chemical Data'!S597),'Chemical Data'!S597,"") -> 411.2 | ... X52: =IF(ISNUMBER('Chemical Data'!X597),'Chemical Data'!X597,"") -> 2.708 | Z52: =IF(ISNUMBER('Chemical Data'!Z597),'Chemical Data'!Z597,"") -> 37.011 | AA52: =IF(ISNUMBER('Chemical Data'!AA597),'Chemical Data'!AA597,"") -> 5.44 | AB52: =IF(ISNUMBER('Chemical Data'!AB597),'Chemical Data'!AB597,"") -> 1237.6 | AC52: =IF(ISNUMBER('Chemical Data'!AC597),'Chemical Data'!AC597,"") | AD52: =IF(ISNUMBER('Chemical Data'!AD597),'Chemical Data'!AD597,"") | AE52: =IF(ISNUMBER('Chemical Data'!AE597),'Chemical Data'!AE597,"") | AF52: =IF(ISNUMBER('Chemical Data'!AF597),'Chemical Data'!AF597,"") | AG52: =IF(ISNUMBER('Chemical Data'!AG597),'Chemical Data'!AG597,"") | ... AS52: =IF(ISNUMBER('Chemical Data'!AS597),'Chemical Data'!AS597,"") -> 0
A53: 45595 | C53: ='Chemical Data'!C598 -> DixonAMD2 | E53: Discharge near Mears Complex | H53: ='Chemical Data'!H598 -> Hedin/ICCD | J53: =IF(ISNUMBER('Chemical Data'!J598),'Chemical Data'!J598,"") -> 79.54 | K53: M | L53: =IF(ISNUMBER('Chemical Data'!L598),'Chemical Data'!L598,"") -> 2.78 | M53: =IF(ISNUMBER('Chemical Data'!M598),'Chemical Data'!M598,"") -> 3 | N53: =IF(ISNUMBER('Chemical Data'!N598),'Chemical Data'!N598,"") -> 2274 | O53: =IF(ISNUMBER('Chemical Data'!O598),'Chemical Data'!O598,"") | P53: =IF(ISNUMBER('Chemical Data'!P598),'Chemical Data'!P598,"") -> 12.3 | Q53: =IF(ISNUMBER('Chemical Data'!Q598),'Chemical Data'!Q598,"") -> 0 | R53: =IF(ISNUMBER('Chemical Data'!R598),'Chemical Data'!R598,"") -> 0 | S53: =IF(ISNUMBER('Chemical Data'!S598),'Chemical Data'!S598,"") -> 407.4 | ... X53: =IF(ISNUMBER('Chemical Data'!X598),'Chemical Data'!X598,"") -> 6.46 | Z53: =IF(ISNUMBER('Chemical Data'!Z598),'Chemical Data'!Z598,"") -> 34.717 | AA53: =IF(ISNUMBER('Chemical Data'!AA598),'Chemical Data'!AA598,"") -> 5.027 | AB53: =IF(ISNUMBER('Chemical Data'!AB598),'Chemical Data'!AB598,"") | AC53: =IF(ISNUMBER('Chemical Data'!AC598),'Chemical Data'!AC598,"") | AD53: =IF(ISNUMBER('Chemical Data'!AD598),'Chemical Data'!AD598,"") | AE53: =IF(ISNUMBER('Chemical Data'!AE598),'Chemical Data'!AE598,"") | AF53: =IF(ISNUMBER('Chemical Data'!AF598),'Chemical Data'!AF598,"") | AG53: =IF(ISNUMBER('Chemical Data'!AG598),'Chemical Data'!AG598,"") | ... AS53: =IF(ISNUMBER('Chemical Data'!AS598),'Chemical Data'!AS598,"") -> 0
A54: 45617 | C54: ='Chemical Data'!C599 -> DixonAMD2 | E54: Discharge near Mears Complex | H54: ='Chemical Data'!H599 -> Hedin/ICCD | J54: =IF(ISNUMBER('Chemical Data'!J599),'Chemical Data'!J599,"") -> 96.7 | K54: M | L54: =IF(ISNUMBER('Chemical Data'!L599),'Chemical Data'!L599,"") -> 3.67 | M54: =IF(ISNUMBER('Chemical Data'!M599),'Chemical Data'!M599,"") -> 3 | N54: =IF(ISNUMBER('Chemical Data'!N599),'Chemical Data'!N599,"") -> 2401 | O54: =IF(ISNUMBER('Chemical Data'!O599),'Chemical Data'!O599,"") | P54: =IF(ISNUMBER('Chemical Data'!P599),'Chemical Data'!P599,"") -> 10.8 | Q54: =IF(ISNUMBER('Chemical Data'!Q599),'Chemical Data'!Q599,"") -> 0 | R54: =IF(ISNUMBER('Chemical Data'!R599),'Chemical Data'!R599,"") -> 0 | S54: =IF(ISNUMBER('Chemical Data'!S599),'Chemical Data'!S599,"") -> 419.6 | ... X54: =IF(ISNUMBER('Chemical Data'!X599),'Chemical Data'!X599,"") -> 4.73 | Z54: =IF(ISNUMBER('Chemical Data'!Z599),'Chemical Data'!Z599,"") -> 37.052 | AA54: =IF(ISNUMBER('Chemical Data'!AA599),'Chemical Data'!AA599,"") -> 6.113 | AB54: =IF(ISNUMBER('Chemical Data'!AB599),'Chemical Data'!AB599,"") -> 1444.5 | AC54: =IF(ISNUMBER('Chemical Data'!AC599),'Chemical Data'!AC599,"") | AD54: =IF(ISNUMBER('Chemical Data'!AD599),'Chemical Data'!AD599,"") | AE54: =IF(ISNUMBER('Chemical Data'!AE599),'Chemical Data'!AE599,"") | AF54: =IF(ISNUMBER('Chemical Data'!AF599),'Chemical Data'!AF599,"") | AG54: =IF(ISNUMBER('Chemical Data'!AG599),'Chemical Data'!AG599,"") | ... AS54: =IF(ISNUMBER('Chemical Data'!AS599),'Chemical Data'!AS599,"") -> 0
A55: 45644 | C55: ='Chemical Data'!C600 -> DixonAMD2 | E55: Discharge near Mears Complex | H55: ='Chemical Data'!H600 -> Hedin | J55: =IF(ISNUMBER('Chemical Data'!J600),'Chemical Data'!J600,"") -> 151.1 | K55: M | L55: =IF(ISNUMBER('Chemical Data'!L600),'Chemical Data'!L600,"") -> 2.86 | M55: =IF(ISNUMBER('Chemical Data'!M600),'Chemical Data'!M600,"") -> 3 | N55: =IF(ISNUMBER('Chemical Data'!N600),'Chemical Data'!N600,"") -> 2404 | O55: =IF(ISNUMBER('Chemical Data'!O600),'Chemical Data'!O600,"") | P55: =IF(ISNUMBER('Chemical Data'!P600),'Chemical Data'!P600,"") -> 10 | Q55: =IF(ISNUMBER('Chemical Data'!Q600),'Chemical Data'!Q600,"") -> 0 | R55: =IF(ISNUMBER('Chemical Data'!R600),'Chemical Data'!R600,"") -> 0 | S55: =IF(ISNUMBER('Chemical Data'!S600),'Chemical Data'!S600,"") -> 507.4 | ... X55: =IF(ISNUMBER('Chemical Data'!X600),'Chemical Data'!X600,"") -> 3.77 | Z55: =IF(ISNUMBER('Chemical Data'!Z600),'Chemical Data'!Z600,"") -> 44.213 | AA55: =IF(ISNUMBER('Chemical Data'!AA600),'Chemical Data'!AA600,"") -> 5.796 | AB55: =IF(ISNUMBER('Chemical Data'!AB600),'Chemical Data'!AB600,"") -> 1507.7 | AC55: =IF(ISNUMBER('Chemical Data'!AC600),'Chemical Data'!AC600,"") | AD55: =IF(ISNUMBER('Chemical Data'!AD600),'Chemical Data'!AD600,"") | AE55: =IF(ISNUMBER('Chemical Data'!AE600),'Chemical Data'!AE600,"") | AF55: =IF(ISNUMBER('Chemical Data'!AF600),'Chemical Data'!AF600,"") | AG55: =IF(ISNUMBER('Chemical Data'!AG600),'Chemical Data'!AG600,"") | ... AS55: =IF(ISNUMBER('Chemical Data'!AS600),'Chemical Data'!AS600,"") -> 0
A56: 45687 | C56: ='Chemical Data'!C601 -> DixonAMD2 | E56: Discharge near Mears Complex | H56: ='Chemical Data'!H601 -> Hedin/ICCD | J56: =IF(ISNUMBER('Chemical Data'!J601),'Chemical Data'!J601,"") -> 86.5 | K56: M | L56: =IF(ISNUMBER('Chemical Data'!L601),'Chemical Data'!L601,"") -> 2.95 | M56: =IF(ISNUMBER('Chemical Data'!M601),'Chemical Data'!M601,"") -> 3 | N56: =IF(ISNUMBER('Chemical Data'!N601),'Chemical Data'!N601,"") -> 2262 | O56: =IF(ISNUMBER('Chemical Data'!O601),'Chemical Data'!O601,"") | P56: =IF(ISNUMBER('Chemical Data'!P601),'Chemical Data'!P601,"") -> 9.1 | Q56: =IF(ISNUMBER('Chemical Data'!Q601),'Chemical Data'!Q601,"") -> 0 | R56: =IF(ISNUMBER('Chemical Data'!R601),'Chemical Data'!R601,"") -> 0 | S56: =IF(ISNUMBER('Chemical Data'!S601),'Chemical Data'!S601,"") -> 432.2 | ... X56: =IF(ISNUMBER('Chemical Data'!X601),'Chemical Data'!X601,"") -> 4.022 | Z56: =IF(ISNUMBER('Chemical Data'!Z601),'Chemical Data'!Z601,"") -> 38.67 | AA56: =IF(ISNUMBER('Chemical Data'!AA601),'Chemical Data'!AA601,"") -> 5.465 | AB56: =IF(ISNUMBER('Chemical Data'!AB601),'Chemical Data'!AB601,"") -> 1302.4 | AC56: =IF(ISNUMBER('Chemical Data'!AC601),'Chemical Data'!AC601,"") | AD56: =IF(ISNUMBER('Chemical Data'!AD601),'Chemical Data'!AD601,"") | AE56: =IF(ISNUMBER('Chemical Data'!AE601),'Chemical Data'!AE601,"") | AF56: =IF(ISNUMBER('Chemical Data'!AF601),'Chemical Data'!AF601,"") | AG56: =IF(ISNUMBER('Chemical Data'!AG601),'Chemical Data'!AG601,"") | ... AS56: =IF(ISNUMBER('Chemical Data'!AS601),'Chemical Data'!AS601,"") -> 0
A57: Average | J57: =AVERAGE(J42:J56) -> 162.54267 | K57: =AVERAGE(K42:K56) -> #DIV/0! | L57: =AVERAGE(L42:L56) -> 2.9078571 | M57: =AVERAGE(M42:M56) -> 3 | N57: =AVERAGE(N42:N56) -> 2206.4286 | O57: =AVERAGE(O42:O56) -> 1993 | P57: =AVERAGE(P42:P56) -> 11.990909 | Q57: =AVERAGE(Q42:Q56) -> 0 | ... T57: =AVERAGE(T42:T56) -> 369.38601 | W57: =AVERAGE(W42:W56) -> 29.394286 | X57: =AVERAGE(X42:X56) -> 4.5602857 | Z57: =AVERAGE(Z42:Z56) -> 34.672714 | AA57: =AVERAGE(AA42:AA56) -> 4.9380714 | AB57: =AVERAGE(AB42:AB56) -> 1519.6362 | AC57: =AVERAGE(AC42:AC56) -> 192 | AD57: =AVERAGE(AD42:AD56) -> 73.4 | AE57: =AVERAGE(AE42:AE56) -> 55.433333 | AF57: =AVERAGE(AF42:AF56) -> 3.4733333 | AG57: =AVERAGE(AG42:AG56) -> 7.5 | ... AJ57: =AVERAGE(AJ42:AJ56) -> 0.2 | AL57: =AVERAGE(AL42:AL56) -> 1896.7273 | AN57: =AVERAGE(AN42:AN56) -> 788.40357 | AO57: =AVERAGE(AO42:AO56) -> 63.697866 | AP57: =AVERAGE(AP42:AP56) -> 71.947775 | AQ57: =AVERAGE(AQ42:AQ56) -> 9.8440393 | AR57: =AVERAGE(AR42:AR56) -> 2995.8855 | AS57: =AVERAGE(AS42:AS56) -> 0
A59: ='Chemical Data'!A571 -> 44964 | B59: ='Chemical Data'!B571 -> 054 | C59: DixonAMD1 | E59: ='Chemical Data'!E571 -> Harris St Discharge in Dixon Run report | H59: ='Chemical Data'!H571 -> Hedin/ICCD | J59: =IF(ISNUMBER('Chemical Data'!J571),'Chemical Data'!J571,"") -> 62 | K59: ='Chemical Data'!K571 -> M | L59: =IF(ISNUMBER('Chemical Data'!L571),'Chemical Data'!L571,"") -> 3.08 | M59: =IF(ISNUMBER('Chemical Data'!M571),'Chemical Data'!M571,"") -> 3.1 | N59: =IF(ISNUMBER('Chemical Data'!N571),'Chemical Data'!N571,"") -> 986 | O59: =IF(ISNUMBER('Chemical Data'!O571),'Chemical Data'!O571,"") -> 919 | P59: =IF(ISNUMBER('Chemical Data'!P571),'Chemical Data'!P571,"") | Q59: =IF(ISNUMBER('Chemical Data'!Q571),'Chemical Data'!Q571,"") -> 0 | R59: =IF(ISNUMBER('Chemical Data'!R571),'Chemical Data'!R571,"") -> 0 | S59: =IF(ISNUMBER('Chemical Data'!S571),'Chemical Data'!S571,"") -> 205 | T59: =IF(ISNUMBER('Chemical Data'!T571),'Chemical Data'!T571,"") -> 181.06802 | W59: =IF(ISNUMBER('Chemical Data'!W571),'Chemical Data'!W571,"") -> 9.29 | X59: =IF(ISNUMBER('Chemical Data'!X571),'Chemical Data'!X571,"") -> 0.373 | Z59: =IF(ISNUMBER('Chemical Data'!Z571),'Chemical Data'!Z571,"") -> 20.2 | AA59: =IF(ISNUMBER('Chemical Data'!AA571),'Chemical Data'!AA571,"") -> 1.43 | AB59: =IF(ISNUMBER('Chemical Data'!AB571),'Chemical Data'!AB571,"") -> 475.51 | AC59: =IF(ISNUMBER('Chemical Data'!AC571),'Chemical Data'!AC571,"") -> 65.1 | AD59: =IF(ISNUMBER('Chemical Data'!AD571),'Chemical Data'!AD571,"") -> 28.6 | AE59: =IF(ISNUMBER('Chemical Data'!AE571),'Chemical Data'!AE571,"") -> 1.31 | AF59: =IF(ISNUMBER('Chemical Data'!AF571),'Chemical Data'!AF571,"") -> 1.21 | AG59: =IF(ISNUMBER('Chemical Data'!AG571),'Chemical Data'!AG571,"") -> 4 | ... AS59: =IF(ISNUMBER('Chemical Data'!AS571),'Chemical Data'!AS571,"") -> 0
A60: ='Chemical Data'!A572 -> 45022 | B60: ='Chemical Data'!B572 -> 014 | C60: ='Chemical Data'!C572 -> DixonAMD1 | E60: ='Chemical Data'!E572 -> Harris St Discharge in Dixon Run report | H60: ='Chemical Data'!H572 -> Hedin/ICCD | J60: =IF(ISNUMBER('Chemical Data'!J572),'Chemical Data'!J572,"") -> 62 | K60: ='Chemical Data'!K572 -> M | L60: =IF(ISNUMBER('Chemical Data'!L572),'Chemical Data'!L572,"") -> 3.15 | M60: =IF(ISNUMBER('Chemical Data'!M572),'Chemical Data'!M572,"") -> 3.2 | N60: =IF(ISNUMBER('Chemical Data'!N572),'Chemical Data'!N572,"") -> 727 | O60: =IF(ISNUMBER('Chemical Data'!O572),'Chemical Data'!O572,"") -> 734 | P60: =IF(ISNUMBER('Chemical Data'!P572),'Chemical Data'!P572,"") | Q60: =IF(ISNUMBER('Chemical Data'!Q572),'Chemical Data'!Q572,"") -> 0 | R60: =IF(ISNUMBER('Chemical Data'!R572),'Chemical Data'!R572,"") -> 0 | S60: =IF(ISNUMBER('Chemical Data'!S572),'Chemical Data'!S572,"") -> 152 | T60: =IF(ISNUMBER('Chemical Data'!T572),'Chemical Data'!T572,"") -> 139.78753 | W60: =IF(ISNUMBER('Chemical Data'!W572),'Chemical Data'!W572,"") -> 6.55 | X60: =IF(ISNUMBER('Chemical Data'!X572),'Chemical Data'!X572,"") -> 0.324 | Z60: =IF(ISNUMBER('Chemical Data'!Z572),'Chemical Data'!Z572,"") -> 15.3 | AA60: =IF(ISNUMBER('Chemical Data'!AA572),'Chemical Data'!AA572,"") -> 1.13 | AB60: =IF(ISNUMBER('Chemical Data'!AB572),'Chemical Data'!AB572,"") -> 368.82 | AC60: =IF(ISNUMBER('Chemical Data'!AC572),'Chemical Data'!AC572,"") -> 55.2 | AD60: =IF(ISNUMBER('Chemical Data'!AD572),'Chemical Data'!AD572,"") -> 23.4 | AE60: =IF(ISNUMBER('Chemical Data'!AE572),'Chemical Data'!AE572,"") -> 1.31 | AF60: =IF(ISNUMBER('Chemical Data'!AF572),'Chemical Data'!AF572,"") -> 1.18 | AG60: =IF(ISNUMBER('Chemical Data'!AG572),'Chemical Data'!AG572,"") -> 4 | ... AS60: =IF(ISNUMBER('Chemical Data'!AS572),'Chemical Data'!AS572,"") -> 0
A61: ='Chemical Data'!A573 -> 45098 | B61: ='Chemical Data'!B573 -> 041 | C61: ='Chemical Data'!C573 -> DixonAMD1 | E61: ='Chemical Data'!E573 -> Harris St Discharge in Dixon Run report | H61: ='Chemical Data'!H573 -> SFU/ICCD | J61: =IF(ISNUMBER('Chemical Data'!J573),'Chemical Data'!J573,"") -> 20.02 | K61: ='Chemical Data'!K573 -> M | L61: =IF(ISNUMBER('Chemical Data'!L573),'Chemical Data'!L573,"") -> 3.21 | M61: =IF(ISNUMBER('Chemical Data'!M573),'Chemical Data'!M573,"") -> 3 | N61: =IF(ISNUMBER('Chemical Data'!N573),'Chemical Data'!N573,"") -> 1244 | O61: =IF(ISNUMBER('Chemical Data'!O573),'Chemical Data'!O573,"") -> 1099 | P61: =IF(ISNUMBER('Chemical Data'!P573),'Chemical Data'!P573,"") | Q61: =IF(ISNUMBER('Chemical Data'!Q573),'Chemical Data'!Q573,"") -> 0 | R61: =IF(ISNUMBER('Chemical Data'!R573),'Chemical Data'!R573,"") -> 0 | S61: =IF(ISNUMBER('Chemical Data'!S573),'Chemical Data'!S573,"") -> 251.2 | T61: =IF(ISNUMBER('Chemical Data'!T573),'Chemical Data'!T573,"") -> 197.21547 | W61: =IF(ISNUMBER('Chemical Data'!W573),'Chemical Data'!W573,"") -> 8.127 | X61: =IF(ISNUMBER('Chemical Data'!X573),'Chemical Data'!X573,"") -> 0.746 | Z61: =IF(ISNUMBER('Chemical Data'!Z573),'Chemical Data'!Z573,"") -> 25.54 | AA61: =IF(ISNUMBER('Chemical Data'!AA573),'Chemical Data'!AA573,"") -> 1.795 | AB61: =IF(ISNUMBER('Chemical Data'!AB573),'Chemical Data'!AB573,"") -> 601.11 | AC61: =IF(ISNUMBER('Chemical Data'!AC573),'Chemical Data'!AC573,"") -> 72.78 | AD61: =IF(ISNUMBER('Chemical Data'!AD573),'Chemical Data'!AD573,"") -> 34.09 | AE61: =IF(ISNUMBER('Chemical Data'!AE573),'Chemical Data'!AE573,"") -> 1.31 | AF61: =IF(ISNUMBER('Chemical Data'!AF573),'Chemical Data'!AF573,"") -> 1.19 | AG61: =IF(ISNUMBER('Chemical Data'!AG573),'Chemical Data'!AG573,"") -> 4 | ... AS61: =IF(ISNUMBER('Chemical Data'!AS573),'Chemical Data'!AS573,"") -> 0
A62: 45169 | B62: ='Chemical Data'!B574 -> 025 | C62: ='Chemical Data'!C574 -> DixonAMD1 | E62: ='Chemical Data'!E574 -> Harris St Discharge in Dixon Run report | H62: ='Chemical Data'!H574 -> Hedin | J62: =IF(ISNUMBER('Chemical Data'!J574),'Chemical Data'!J574,"") -> 33.675 | K62: ='Chemical Data'!K574 -> M | L62: =IF(ISNUMBER('Chemical Data'!L574),'Chemical Data'!L574,"") -> 2.67 | M62: =IF(ISNUMBER('Chemical Data'!M574),'Chemical Data'!M574,"") -> 3.1 | N62: =IF(ISNUMBER('Chemical Data'!N574),'Chemical Data'!N574,"") -> 1142 | O62: =IF(ISNUMBER('Chemical Data'!O574),'Chemical Data'!O574,"") -> 1091 | P62: =IF(ISNUMBER('Chemical Data'!P574),'Chemical Data'!P574,"") -> 11.7 | Q62: =IF(ISNUMBER('Chemical Data'!Q574),'Chemical Data'!Q574,"") -> 0 | R62: =IF(ISNUMBER('Chemical Data'!R574),'Chemical Data'!R574,"") -> 0 | S62: =IF(ISNUMBER('Chemical Data'!S574),'Chemical Data'!S574,"") -> 259 | T62: =IF(ISNUMBER('Chemical Data'!T574),'Chemical Data'!T574,"") -> 295.23382 | W62: =IF(ISNUMBER('Chemical Data'!W574),'Chemical Data'!W574,"") -> 9.62 | X62: =IF(ISNUMBER('Chemical Data'!X574),'Chemical Data'!X574,"") -> 0.412 | Z62: =IF(ISNUMBER('Chemical Data'!Z574),'Chemical Data'!Z574,"") -> 28.7 | AA62: =IF(ISNUMBER('Chemical Data'!AA574),'Chemical Data'!AA574,"") -> 1.84 | AB62: =IF(ISNUMBER('Chemical Data'!AB574),'Chemical Data'!AB574,"") -> 589.7 | AC62: =IF(ISNUMBER('Chemical Data'!AC574),'Chemical Data'!AC574,"") -> 81.4 | AD62: =IF(ISNUMBER('Chemical Data'!AD574),'Chemical Data'!AD574,"") -> 36.3 | AE62: =IF(ISNUMBER('Chemical Data'!AE574),'Chemical Data'!AE574,"") -> 1.49 | AF62: =IF(ISNUMBER('Chemical Data'!AF574),'Chemical Data'!AF574,"") -> 1.37 | AG62: =IF(ISNUMBER('Chemical Data'!AG574),'Chemical Data'!AG574,"") -> 4 | ... AS62: =IF(ISNUMBER('Chemical Data'!AS574),'Chemical Data'!AS574,"") -> 0
A63: ='Chemical Data'!A575 -> 45366 | B63: ='Chemical Data'!B575 -> 007 | C63: ='Chemical Data'!C575 -> DixonAMD1 | E63: ='Chemical Data'!E575 -> Harris St Discharge in Dixon Run report | H63: ='Chemical Data'!H575 -> Hedin/ICCD | J63: =IF(ISNUMBER('Chemical Data'!J575),'Chemical Data'!J575,"") -> 86 | K63: ='Chemical Data'!K575 -> M | L63: =IF(ISNUMBER('Chemical Data'!L575),'Chemical Data'!L575,"") -> 2.47 | M63: =IF(ISNUMBER('Chemical Data'!M575),'Chemical Data'!M575,"") -> 3.3 | N63: =IF(ISNUMBER('Chemical Data'!N575),'Chemical Data'!N575,"") -> 753 | O63: =IF(ISNUMBER('Chemical Data'!O575),'Chemical Data'!O575,"") | P63: =IF(ISNUMBER('Chemical Data'!P575),'Chemical Data'!P575,"") -> 10.1 | Q63: =IF(ISNUMBER('Chemical Data'!Q575),'Chemical Data'!Q575,"") | R63: =IF(ISNUMBER('Chemical Data'!R575),'Chemical Data'!R575,"") -> 0 | S63: =IF(ISNUMBER('Chemical Data'!S575),'Chemical Data'!S575,"") -> 149 | T63: =IF(ISNUMBER('Chemical Data'!T575),'Chemical Data'!T575,"") -> 270.10427 | W63: =IF(ISNUMBER('Chemical Data'!W575),'Chemical Data'!W575,"") -> 6.696 | X63: =IF(ISNUMBER('Chemical Data'!X575),'Chemical Data'!X575,"") -> 0.489 | Z63: =IF(ISNUMBER('Chemical Data'!Z575),'Chemical Data'!Z575,"") -> 14.614 | AA63: =IF(ISNUMBER('Chemical Data'!AA575),'Chemical Data'!AA575,"") -> 1.054 | AB63: =IF(ISNUMBER('Chemical Data'!AB575),'Chemical Data'!AB575,"") -> 297.7 | AC63: =IF(ISNUMBER('Chemical Data'!AC575),'Chemical Data'!AC575,"") | AD63: =IF(ISNUMBER('Chemical Data'!AD575),'Chemical Data'!AD575,"") | AE63: =IF(ISNUMBER('Chemical Data'!AE575),'Chemical Data'!AE575,"") | AF63: =IF(ISNUMBER('Chemical Data'!AF575),'Chemical Data'!AF575,"") | AG63: =IF(ISNUMBER('Chemical Data'!AG575),'Chemical Data'!AG575,"") | ... AS63: =IF(ISNUMBER('Chemical Data'!AS575),'Chemical Data'!AS575,"") -> 0
A64: ='Chemical Data'!A576 -> 45392 | B64: ='Chemical Data'!B576 -> 007 | C64: ='Chemical Data'!C576 -> DixonAMD1 | E64: ='Chemical Data'!E576 -> Harris St Discharge in Dixon Run report | H64: ='Chemical Data'!H576 -> Hedin/ICCD | J64: =IF(ISNUMBER('Chemical Data'!J576),'Chemical Data'!J576,"") -> 158.6 | K64: ='Chemical Data'!K576 -> M | L64: =IF(ISNUMBER('Chemical Data'!L576),'Chemical Data'!L576,"") -> 2.5 | M64: =IF(ISNUMBER('Chemical Data'!M576),'Chemical Data'!M576,"") -> 2.9 | N64: =IF(ISNUMBER('Chemical Data'!N576),'Chemical Data'!N576,"") -> 1377 | O64: =IF(ISNUMBER('Chemical Data'!O576),'Chemical Data'!O576,"") | P64: =IF(ISNUMBER('Chemical Data'!P576),'Chemical Data'!P576,"") -> 11.6 | Q64: =IF(ISNUMBER('Chemical Data'!Q576),'Chemical Data'!Q576,"") -> 0 | R64: =IF(ISNUMBER('Chemical Data'!R576),'Chemical Data'!R576,"") -> 0 | S64: =IF(ISNUMBER('Chemical Data'!S576),'Chemical Data'!S576,"") -> 364.4 | T64: =IF(ISNUMBER('Chemical Data'!T576),'Chemical Data'!T576,"") -> 445.06431 | W64: =IF(ISNUMBER('Chemical Data'!W576),'Chemical Data'!W576,"") -> 35.82 | X64: =IF(ISNUMBER('Chemical Data'!X576),'Chemical Data'!X576,"") -> 0.781 | Z64: =IF(ISNUMBER('Chemical Data'!Z576),'Chemical Data'!Z576,"") -> 33.671 | AA64: =IF(ISNUMBER('Chemical Data'!AA576),'Chemical Data'!AA576,"") -> 2.438 | AB64: =IF(ISNUMBER('Chemical Data'!AB576),'Chemical Data'!AB576,"") -> 661.3 | AC64: =IF(ISNUMBER('Chemical Data'!AC576),'Chemical Data'!AC576,"") | AD64: =IF(ISNUMBER('Chemical Data'!AD576),'Chemical Data'!AD576,"") | AE64: =IF(ISNUMBER('Chemical Data'!AE576),'Chemical Data'!AE576,"") | AF64: =IF(ISNUMBER('Chemical Data'!AF576),'Chemical Data'!AF576,"") | AG64: =IF(ISNUMBER('Chemical Data'!AG576),'Chemical Data'!AG576,"") | ... AS64: =IF(ISNUMBER('Chemical Data'!AS576),'Chemical Data'!AS576,"") -> 0
A65: ='Chemical Data'!A577 -> 45442 | B65: ='Chemical Data'!B577 -> 007 | C65: ='Chemical Data'!C577 -> DixonAMD1 | E65: ='Chemical Data'!E577 -> Harris St Discharge in Dixon Run report | H65: ='Chemical Data'!H577 -> Hedin/ICCD | J65: =IF(ISNUMBER('Chemical Data'!J577),'Chemical Data'!J577,"") -> 50.33 | K65: ='Chemical Data'!K577 -> M | L65: =IF(ISNUMBER('Chemical Data'!L577),'Chemical Data'!L577,"") -> 2.9 | M65: =IF(ISNUMBER('Chemical Data'!M577),'Chemical Data'!M577,"") -> 3.1 | N65: =IF(ISNUMBER('Chemical Data'!N577),'Chemical Data'!N577,"") -> 1074 | O65: =IF(ISNUMBER('Chemical Data'!O577),'Chemical Data'!O577,"") | P65: =IF(ISNUMBER('Chemical Data'!P577),'Chemical Data'!P577,"") -> 11.2 | Q65: =IF(ISNUMBER('Chemical Data'!Q577),'Chemical Data'!Q577,"") -> 0 | R65: =IF(ISNUMBER('Chemical Data'!R577),'Chemical Data'!R577,"") -> 0 | S65: =IF(ISNUMBER('Chemical Data'!S577),'Chemical Data'!S577,"") -> 223.4 | T65: =IF(ISNUMBER('Chemical Data'!T577),'Chemical Data'!T577,"") -> 211.85789 | W65: =IF(ISNUMBER('Chemical Data'!W577),'Chemical Data'!W577,"") -> 8.932 | X65: =IF(ISNUMBER('Chemical Data'!X577),'Chemical Data'!X577,"") -> 0.592 | Z65: =IF(ISNUMBER('Chemical Data'!Z577),'Chemical Data'!Z577,"") -> 22.012 | AA65: =IF(ISNUMBER('Chemical Data'!AA577),'Chemical Data'!AA577,"") -> 1.711 | AB65: =IF(ISNUMBER('Chemical Data'!AB577),'Chemical Data'!AB577,"") -> 475.2 | AC65: =IF(ISNUMBER('Chemical Data'!AC577),'Chemical Data'!AC577,"") | AD65: =IF(ISNUMBER('Chemical Data'!AD577),'Chemical Data'!AD577,"") | AE65: =IF(ISNUMBER('Chemical Data'!AE577),'Chemical Data'!AE577,"") | AF65: =IF(ISNUMBER('Chemical Data'!AF577),'Chemical Data'!AF577,"") | AG65: =IF(ISNUMBER('Chemical Data'!AG577),'Chemical Data'!AG577,"") | ... AS65: =IF(ISNUMBER('Chemical Data'!AS577),'Chemical Data'!AS577,"") -> 0
A66: 45461 | B66: 6 | C66: ='Chemical Data'!C578 -> DixonAMD1 | E66: ='Chemical Data'!E578 -> Harris St Discharge in Dixon Run report | H66: ='Chemical Data'!H578 -> Hedin/ICCD | J66: =IF(ISNUMBER('Chemical Data'!J578),'Chemical Data'!J578,"") -> 30.75 | K66: M | L66: =IF(ISNUMBER('Chemical Data'!L578),'Chemical Data'!L578,"") -> 2.59 | M66: =IF(ISNUMBER('Chemical Data'!M578),'Chemical Data'!M578,"") -> 3.1 | N66: =IF(ISNUMBER('Chemical Data'!N578),'Chemical Data'!N578,"") -> 1269 | O66: =IF(ISNUMBER('Chemical Data'!O578),'Chemical Data'!O578,"") | P66: =IF(ISNUMBER('Chemical Data'!P578),'Chemical Data'!P578,"") -> 12.1 | Q66: =IF(ISNUMBER('Chemical Data'!Q578),'Chemical Data'!Q578,"") -> 0 | R66: =IF(ISNUMBER('Chemical Data'!R578),'Chemical Data'!R578,"") -> 0 | S66: =IF(ISNUMBER('Chemical Data'!S578),'Chemical Data'!S578,"") -> 252.8 | ... X66: =IF(ISNUMBER('Chemical Data'!X578),'Chemical Data'!X578,"") -> 0.6 | Z66: =IF(ISNUMBER('Chemical Data'!Z578),'Chemical Data'!Z578,"") -> 26.289 | AA66: =IF(ISNUMBER('Chemical Data'!AA578),'Chemical Data'!AA578,"") -> 1.99 | AB66: =IF(ISNUMBER('Chemical Data'!AB578),'Chemical Data'!AB578,"") -> 544.1 | AC66: =IF(ISNUMBER('Chemical Data'!AC578),'Chemical Data'!AC578,"") | AD66: =IF(ISNUMBER('Chemical Data'!AD578),'Chemical Data'!AD578,"") | AE66: =IF(ISNUMBER('Chemical Data'!AE578),'Chemical Data'!AE578,"") | AF66: =IF(ISNUMBER('Chemical Data'!AF578),'Chemical Data'!AF578,"") | AG66: =IF(ISNUMBER('Chemical Data'!AG578),'Chemical Data'!AG578,"") | ... AS66: =IF(ISNUMBER('Chemical Data'!AS578),'Chemical Data'!AS578,"") -> 0
A67: 45483 | B67: 6 | C67: ='Chemical Data'!C579 -> DixonAMD1 | E67: ='Chemical Data'!E579 -> Harris St Discharge in Dixon Run report | H67: ='Chemical Data'!H579 -> Hedin/ICCD | J67: =IF(ISNUMBER('Chemical Data'!J579),'Chemical Data'!J579,"") -> 22.7 | K67: M | L67: =IF(ISNUMBER('Chemical Data'!L579),'Chemical Data'!L579,"") -> 2.92 | M67: =IF(ISNUMBER('Chemical Data'!M579),'Chemical Data'!M579,"") -> 3.1 | N67: =IF(ISNUMBER('Chemical Data'!N579),'Chemical Data'!N579,"") -> 1514 | O67: =IF(ISNUMBER('Chemical Data'!O579),'Chemical Data'!O579,"") | P67: =IF(ISNUMBER('Chemical Data'!P579),'Chemical Data'!P579,"") -> 12.4 | Q67: =IF(ISNUMBER('Chemical Data'!Q579),'Chemical Data'!Q579,"") -> 0 | R67: =IF(ISNUMBER('Chemical Data'!R579),'Chemical Data'!R579,"") -> 0 | S67: =IF(ISNUMBER('Chemical Data'!S579),'Chemical Data'!S579,"") -> 328.8 | ... X67: =IF(ISNUMBER('Chemical Data'!X579),'Chemical Data'!X579,"") -> 0.366 | Z67: =IF(ISNUMBER('Chemical Data'!Z579),'Chemical Data'!Z579,"") -> 37.161 | AA67: =IF(ISNUMBER('Chemical Data'!AA579),'Chemical Data'!AA579,"") -> 2.604 | AB67: =IF(ISNUMBER('Chemical Data'!AB579),'Chemical Data'!AB579,"") -> 729.5 | AC67: =IF(ISNUMBER('Chemical Data'!AC579),'Chemical Data'!AC579,"") | AD67: =IF(ISNUMBER('Chemical Data'!AD579),'Chemical Data'!AD579,"") | AE67: =IF(ISNUMBER('Chemical Data'!AE579),'Chemical Data'!AE579,"") | AF67: =IF(ISNUMBER('Chemical Data'!AF579),'Chemical Data'!AF579,"") | AG67: =IF(ISNUMBER('Chemical Data'!AG579),'Chemical Data'!AG579,"") | ... AS67: =IF(ISNUMBER('Chemical Data'!AS579),'Chemical Data'!AS579,"") -> 0
A68: 45527 | C68: ='Chemical Data'!C580 -> DixonAMD1 | E68: ='Chemical Data'!E580 -> Harris St Discharge in Dixon Run report | H68: ='Chemical Data'!H580 -> Hedin/ICCD | J68: =IF(ISNUMBER('Chemical Data'!J580),'Chemical Data'!J580,"") -> 23 | K68: M | L68: =IF(ISNUMBER('Chemical Data'!L580),'Chemical Data'!L580,"") -> 3.3 | M68: =IF(ISNUMBER('Chemical Data'!M580),'Chemical Data'!M580,"") -> 3.1 | N68: =IF(ISNUMBER('Chemical Data'!N580),'Chemical Data'!N580,"") -> 1357 | O68: =IF(ISNUMBER('Chemical Data'!O580),'Chemical Data'!O580,"") | P68: =IF(ISNUMBER('Chemical Data'!P580),'Chemical Data'!P580,"") | Q68: =IF(ISNUMBER('Chemical Data'!Q580),'Chemical Data'!Q580,"") -> 0 | R68: =IF(ISNUMBER('Chemical Data'!R580),'Chemical Data'!R580,"") -> 0 | S68: =IF(ISNUMBER('Chemical Data'!S580),'Chemical Data'!S580,"") -> 368.6 | ... X68: =IF(ISNUMBER('Chemical Data'!X580),'Chemical Data'!X580,"") -> 0.487 | Z68: =IF(ISNUMBER('Chemical Data'!Z580),'Chemical Data'!Z580,"") -> 45.152 | AA68: =IF(ISNUMBER('Chemical Data'!AA580),'Chemical Data'!AA580,"") -> 2.618 | AB68: =IF(ISNUMBER('Chemical Data'!AB580),'Chemical Data'!AB580,"") -> 788.8 | AC68: =IF(ISNUMBER('Chemical Data'!AC580),'Chemical Data'!AC580,"") | AD68: =IF(ISNUMBER('Chemical Data'!AD580),'Chemical Data'!AD580,"") | AE68: =IF(ISNUMBER('Chemical Data'!AE580),'Chemical Data'!AE580,"") | AF68: =IF(ISNUMBER('Chemical Data'!AF580),'Chemical Data'!AF580,"") | AG68: =IF(ISNUMBER('Chemical Data'!AG580),'Chemical Data'!AG580,"") | ... AS68: =IF(ISNUMBER('Chemical Data'!AS580),'Chemical Data'!AS580,"") -> 0
A69: 45547 | C69: ='Chemical Data'!C581 -> DixonAMD1 | E69: ='Chemical Data'!E581 -> Harris St Discharge in Dixon Run report | H69: ='Chemical Data'!H581 -> Hedin/ICCD | J69: =IF(ISNUMBER('Chemical Data'!J581),'Chemical Data'!J581,"") -> 17.82 | K69: M | L69: =IF(ISNUMBER('Chemical Data'!L581),'Chemical Data'!L581,"") -> 2.99 | M69: =IF(ISNUMBER('Chemical Data'!M581),'Chemical Data'!M581,"") -> 3 | N69: =IF(ISNUMBER('Chemical Data'!N581),'Chemical Data'!N581,"") -> 1657 | O69: =IF(ISNUMBER('Chemical Data'!O581),'Chemical Data'!O581,"") | P69: =IF(ISNUMBER('Chemical Data'!P581),'Chemical Data'!P581,"") -> 11.6 | Q69: =IF(ISNUMBER('Chemical Data'!Q581),'Chemical Data'!Q581,"") -> 0 | R69: =IF(ISNUMBER('Chemical Data'!R581),'Chemical Data'!R581,"") -> 0 | S69: =IF(ISNUMBER('Chemical Data'!S581),'Chemical Data'!S581,"") -> 418.4 | ... X69: =IF(ISNUMBER('Chemical Data'!X581),'Chemical Data'!X581,"") -> 0.349 | Z69: =IF(ISNUMBER('Chemical Data'!Z581),'Chemical Data'!Z581,"") -> 48.744 | AA69: =IF(ISNUMBER('Chemical Data'!AA581),'Chemical Data'!AA581,"") -> 2.801 | AB69: =IF(ISNUMBER('Chemical Data'!AB581),'Chemical Data'!AB581,"") -> 805.2 | AC69: =IF(ISNUMBER('Chemical Data'!AC581),'Chemical Data'!AC581,"") | AD69: =IF(ISNUMBER('Chemical Data'!AD581),'Chemical Data'!AD581,"") | AE69: =IF(ISNUMBER('Chemical Data'!AE581),'Chemical Data'!AE581,"") | AF69: =IF(ISNUMBER('Chemical Data'!AF581),'Chemical Data'!AF581,"") | AG69: =IF(ISNUMBER('Chemical Data'!AG581),'Chemical Data'!AG581,"") | ... AS69: =IF(ISNUMBER('Chemical Data'!AS581),'Chemical Data'!AS581,"") -> 0
A70: 45595 | C70: ='Chemical Data'!C582 -> DixonAMD1 | E70: ='Chemical Data'!E582 -> Harris St Discharge in Dixon Run report | H70: ='Chemical Data'!H582 -> Hedin/ICCD | J70: =IF(ISNUMBER('Chemical Data'!J582),'Chemical Data'!J582,"") -> 12.99 | K70: M | L70: =IF(ISNUMBER('Chemical Data'!L582),'Chemical Data'!L582,"") -> 2.69 | M70: =IF(ISNUMBER('Chemical Data'!M582),'Chemical Data'!M582,"") -> 3 | N70: =IF(ISNUMBER('Chemical Data'!N582),'Chemical Data'!N582,"") -> 1711 | O70: =IF(ISNUMBER('Chemical Data'!O582),'Chemical Data'!O582,"") | P70: =IF(ISNUMBER('Chemical Data'!P582),'Chemical Data'!P582,"") -> 11.9 | Q70: =IF(ISNUMBER('Chemical Data'!Q582),'Chemical Data'!Q582,"") -> 0 | R70: =IF(ISNUMBER('Chemical Data'!R582),'Chemical Data'!R582,"") -> 0 | S70: =IF(ISNUMBER('Chemical Data'!S582),'Chemical Data'!S582,"") -> 485.2 | ... X70: =IF(ISNUMBER('Chemical Data'!X582),'Chemical Data'!X582,"") -> 0.418 | Z70: =IF(ISNUMBER('Chemical Data'!Z582),'Chemical Data'!Z582,"") -> 54.698 | AA70: =IF(ISNUMBER('Chemical Data'!AA582),'Chemical Data'!AA582,"") -> 2.941 | AB70: =IF(ISNUMBER('Chemical Data'!AB582),'Chemical Data'!AB582,"") -> 1009.2 | AC70: =IF(ISNUMBER('Chemical Data'!AC582),'Chemical Data'!AC582,"") | AD70: =IF(ISNUMBER('Chemical Data'!AD582),'Chemical Data'!AD582,"") | AE70: =IF(ISNUMBER('Chemical Data'!AE582),'Chemical Data'!AE582,"") | AF70: =IF(ISNUMBER('Chemical Data'!AF582),'Chemical Data'!AF582,"") | AG70: =IF(ISNUMBER('Chemical Data'!AG582),'Chemical Data'!AG582,"") | ... AS70: =IF(ISNUMBER('Chemical Data'!AS582),'Chemical Data'!AS582,"") -> 0
A71: 45617 | C71: ='Chemical Data'!C583 -> DixonAMD1 | E71: ='Chemical Data'!E583 -> Harris St Discharge in Dixon Run report | H71: ='Chemical Data'!H583 -> Hedin/ICCD | J71: =IF(ISNUMBER('Chemical Data'!J583),'Chemical Data'!J583,"") -> 14.62 | K71: M | L71: =IF(ISNUMBER('Chemical Data'!L583),'Chemical Data'!L583,"") -> 2.8 | M71: =IF(ISNUMBER('Chemical Data'!M583),'Chemical Data'!M583,"") -> 3.1 | N71: =IF(ISNUMBER('Chemical Data'!N583),'Chemical Data'!N583,"") -> 1511 | O71: =IF(ISNUMBER('Chemical Data'!O583),'Chemical Data'!O583,"") | P71: =IF(ISNUMBER('Chemical Data'!P583),'Chemical Data'!P583,"") -> 7.8 | Q71: =IF(ISNUMBER('Chemical Data'!Q583),'Chemical Data'!Q583,"") -> 0 | R71: =IF(ISNUMBER('Chemical Data'!R583),'Chemical Data'!R583,"") -> 0 | S71: =IF(ISNUMBER('Chemical Data'!S583),'Chemical Data'!S583,"") -> 427.6 | ... X71: =IF(ISNUMBER('Chemical Data'!X583),'Chemical Data'!X583,"") -> 0.476 | Z71: =IF(ISNUMBER('Chemical Data'!Z583),'Chemical Data'!Z583,"") -> 54.465 | AA71: =IF(ISNUMBER('Chemical Data'!AA583),'Chemical Data'!AA583,"") -> 2.871 | AB71: =IF(ISNUMBER('Chemical Data'!AB583),'Chemical Data'!AB583,"") -> 993.1 | AC71: =IF(ISNUMBER('Chemical Data'!AC583),'Chemical Data'!AC583,"") | AD71: =IF(ISNUMBER('Chemical Data'!AD583),'Chemical Data'!AD583,"") | AE71: =IF(ISNUMBER('Chemical Data'!AE583),'Chemical Data'!AE583,"") | AF71: =IF(ISNUMBER('Chemical Data'!AF583),'Chemical Data'!AF583,"") | AG71: =IF(ISNUMBER('Chemical Data'!AG583),'Chemical Data'!AG583,"") | ... AS71: =IF(ISNUMBER('Chemical Data'!AS583),'Chemical Data'!AS583,"") -> 0
A72: 45644 | C72: ='Chemical Data'!C584 -> DixonAMD1 | E72: ='Chemical Data'!E584 -> Harris St Discharge in Dixon Run report | H72: ='Chemical Data'!H584 -> Hedin | J72: =IF(ISNUMBER('Chemical Data'!J584),'Chemical Data'!J584,"") -> 34.2 | K72: M | L72: =IF(ISNUMBER('Chemical Data'!L584),'Chemical Data'!L584,"") -> 3.15 | M72: =IF(ISNUMBER('Chemical Data'!M584),'Chemical Data'!M584,"") -> 3.3 | N72: =IF(ISNUMBER('Chemical Data'!N584),'Chemical Data'!N584,"") -> 1052 | O72: =IF(ISNUMBER('Chemical Data'!O584),'Chemical Data'!O584,"") | P72: =IF(ISNUMBER('Chemical Data'!P584),'Chemical Data'!P584,"") -> 9.9 | Q72: =IF(ISNUMBER('Chemical Data'!Q584),'Chemical Data'!Q584,"") -> 0 | R72: =IF(ISNUMBER('Chemical Data'!R584),'Chemical Data'!R584,"") -> 0 | S72: =IF(ISNUMBER('Chemical Data'!S584),'Chemical Data'!S584,"") -> 237.6 | ... X72: =IF(ISNUMBER('Chemical Data'!X584),'Chemical Data'!X584,"") -> 0.329 | Z72: =IF(ISNUMBER('Chemical Data'!Z584),'Chemical Data'!Z584,"") -> 28.944 | AA72: =IF(ISNUMBER('Chemical Data'!AA584),'Chemical Data'!AA584,"") -> 1.536 | AB72: =IF(ISNUMBER('Chemical Data'!AB584),'Chemical Data'!AB584,"") -> 521.7 | AC72: =IF(ISNUMBER('Chemical Data'!AC584),'Chemical Data'!AC584,"") | AD72: =IF(ISNUMBER('Chemical Data'!AD584),'Chemical Data'!AD584,"") | AE72: =IF(ISNUMBER('Chemical Data'!AE584),'Chemical Data'!AE584,"") | AF72: =IF(ISNUMBER('Chemical Data'!AF584),'Chemical Data'!AF584,"") | AG72: =IF(ISNUMBER('Chemical Data'!AG584),'Chemical Data'!AG584,"") | ... AS72: =IF(ISNUMBER('Chemical Data'!AS584),'Chemical Data'!AS584,"") -> 0
A73: 45687 | C73: ='Chemical Data'!C585 -> DixonAMD1 | E73: ='Chemical Data'!E585 -> Harris St Discharge in Dixon Run report | H73: ='Chemical Data'!H585 -> Hedin/ICCD | J73: =IF(ISNUMBER('Chemical Data'!J585),'Chemical Data'!J585,"") -> 21.2 | K73: M | L73: =IF(ISNUMBER('Chemical Data'!L585),'Chemical Data'!L585,"") -> 3.04 | M73: =IF(ISNUMBER('Chemical Data'!M585),'Chemical Data'!M585,"") -> 3.2 | N73: =IF(ISNUMBER('Chemical Data'!N585),'Chemical Data'!N585,"") -> 1197 | O73: =IF(ISNUMBER('Chemical Data'!O585),'Chemical Data'!O585,"") | P73: =IF(ISNUMBER('Chemical Data'!P585),'Chemical Data'!P585,"") -> 8.4 | Q73: =IF(ISNUMBER('Chemical Data'!Q585),'Chemical Data'!Q585,"") -> 0 | R73: =IF(ISNUMBER('Chemical Data'!R585),'Chemical Data'!R585,"") -> 0 | S73: =IF(ISNUMBER('Chemical Data'!S585),'Chemical Data'!S585,"") -> 270.6 | ... X73: =IF(ISNUMBER('Chemical Data'!X585),'Chemical Data'!X585,"") -> 0.276 | Z73: =IF(ISNUMBER('Chemical Data'!Z585),'Chemical Data'!Z585,"") -> 30.259 | AA73: =IF(ISNUMBER('Chemical Data'!AA585),'Chemical Data'!AA585,"") -> 1.795 | AB73: =IF(ISNUMBER('Chemical Data'!AB585),'Chemical Data'!AB585,"") -> 592.8 | AC73: =IF(ISNUMBER('Chemical Data'!AC585),'Chemical Data'!AC585,"") | AD73: =IF(ISNUMBER('Chemical Data'!AD585),'Chemical Data'!AD585,"") | AE73: =IF(ISNUMBER('Chemical Data'!AE585),'Chemical Data'!AE585,"") | AF73: =IF(ISNUMBER('Chemical Data'!AF585),'Chemical Data'!AF585,"") | AG73: =IF(ISNUMBER('Chemical Data'!AG585),'Chemical Data'!AG585,"") | ... AS73: =IF(ISNUMBER('Chemical Data'!AS585),'Chemical Data'!AS585,"") -> 0
A74: Average | J74: =AVERAGE(J59:J73) -> 43.327 | K74: =AVERAGE(K59:K73) -> #DIV/0! | L74: =AVERAGE(L59:L73) -> 2.8973333 | M74: =AVERAGE(M59:M73) -> 3.1066667 | N74: =AVERAGE(N59:N73) -> 1238.0667 | O74: =AVERAGE(O59:O73) -> 960.75 | P74: =AVERAGE(P59:P73) -> 10.790909 | Q74: =AVERAGE(Q59:Q73) -> 0 | ... T74: =AVERAGE(T59:T73) -> 286.17134 | W74: =AVERAGE(W59:W73) -> 10.200533 | X74: =AVERAGE(X59:X73) -> 0.46786667 | Z74: =AVERAGE(Z59:Z73) -> 32.383267 | AA74: =AVERAGE(AA59:AA73) -> 2.0369333 | AB74: =AVERAGE(AB59:AB73) -> 630.24933 | AC74: =AVERAGE(AC59:AC73) -> 68.62 | AD74: =AVERAGE(AD59:AD73) -> 30.5975 | AE74: =AVERAGE(AE59:AE73) -> 1.355 | AF74: =AVERAGE(AF59:AF73) -> 1.2375 | AG74: =AVERAGE(AG59:AG73) -> 4 | ... AJ74: =AVERAGE(AJ59:AJ73) -> 0.2 | AL74: =AVERAGE(AL59:AL73) -> 1022 | AN74: =AVERAGE(AN59:AN73) -> 140.25949 | AO74: =AVERAGE(AO59:AO73) -> 7.6889584 | AP74: =AVERAGE(AP59:AP73) -> 14.464727 | AQ74: =AVERAGE(AQ59:AQ73) -> 0.97698981 | AR74: =AVERAGE(AR59:AR73) -> 289.96956 | AS74: =AVERAGE(AS59:AS73) -> 0
A76: ='Chemical Data'!A308 -> 44845 | B76: ='Chemical Data'!B308 -> 005 | C76: ='Chemical Data'!C308 -> KBLDIX | E76: ='Chemical Data'!E308 -> Mouth of Dixon Run | F76: ='Chemical Data'!F308 -> 40.670039 | G76: ='Chemical Data'!G308 -> -79.015269 | H76: ='Chemical Data'!H308 -> Tasker | J76: ='Chemical Data'!J308 -> 1590 | K76: ='Chemical Data'!K308 -> M | L76: ='Chemical Data'!L308 -> 6.61 | M76: ='Chemical Data'!M308 -> 6.6 | N76: ='Chemical Data'!N308 -> 712 | O76: ='Chemical Data'!O308 -> 728 | P76: ='Chemical Data'!P308 -> 9.6 | Q76: ='Chemical Data'!Q308 -> 28.5 | ... X76: ='Chemical Data'!X308 -> 2.058 | Z76: ='Chemical Data'!Z308 -> 4.661 | AA76: ='Chemical Data'!AA308 -> 1.375 | AB76: ='Chemical Data'!AB308 -> 353.21 | AC76: ='Chemical Data'!AC308 -> 85.53 | AD76: ='Chemical Data'!AD308 -> 30.17 | AE76: ='Chemical Data'!AE308 -> 19.39 | AF76: ='Chemical Data'!AF308 -> 2.44 | AG76: ='Chemical Data'!AG308 -> 8.9 | ... AJ76: ='Chemical Data'!AJ308 -> <0.2 | AN76: ='Chemical Data'!AN308 -> 41.976 | AO76: ='Chemical Data'!AO308 -> 128.16036 | AP76: ='Chemical Data'!AP308 -> 88.93188 | AQ76: ='Chemical Data'!AQ308 -> 26.235 | AR76: ='Chemical Data'!AR308 -> 6739.2468 | AS76: ='Chemical Data'!AS308 -> 396.864
A77: ='Chemical Data'!A309 -> 44903 | B77: ='Chemical Data'!B309 -> 005 | C77: ='Chemical Data'!C309 -> KBLDIX | E77: ='Chemical Data'!E309 -> Mouth of Dixon Run | F77: ='Chemical Data'!F309 -> 40.670039 | G77: ='Chemical Data'!G309 -> -79.015269 | H77: ='Chemical Data'!H309 -> Tasker | J77: ='Chemical Data'!J309 -> 5499 | K77: ='Chemical Data'!K309 -> M | L77: ='Chemical Data'!L309 -> 7.21 | M77: ='Chemical Data'!M309 -> 7 | N77: ='Chemical Data'!N309 -> 397.6 | O77: ='Chemical Data'!O309 -> 404 | P77: ='Chemical Data'!P309 -> 8.3 | Q77: ='Chemical Data'!Q309 -> 47 | ... X77: ='Chemical Data'!X309 -> 0.454 | Z77: ='Chemical Data'!Z309 -> 1.521 | AA77: ='Chemical Data'!AA309 -> 0.454 | AC77: ='Chemical Data'!AC309 -> 48.68 | AD77: ='Chemical Data'!AD309 -> 15.5 | AE77: ='Chemical Data'!AE309 -> 9.81 | AF77: ='Chemical Data'!AF309 -> 1.81 | AG77: ='Chemical Data'!AG309 -> 7.7 | AH77: ='Chemical Data'!AH309 -> <0.05 | AI77: ='Chemical Data'!AI309 -> <0.03 | AJ77: ='Chemical Data'!AJ309 -> <0.2 | AN77: ='Chemical Data'!AN309 -> -2203.9992 | AO77: ='Chemical Data'!AO309 -> 171.0409 | AP77: ='Chemical Data'!AP309 -> 100.36775 | AQ77: ='Chemical Data'!AQ309 -> 29.958552
A78: ='Chemical Data'!A310 -> 44964 | B78: ='Chemical Data'!B310 -> 023 | C78: ='Chemical Data'!C310 -> KBLDIX | D78: ='Chemical Data'!D310 -> 60152 | E78: ='Chemical Data'!E310 -> Mouth of Dixon Run | F78: ='Chemical Data'!F310 -> 40.670039 | G78: ='Chemical Data'!G310 -> -79.015269 | H78: ='Chemical Data'!H310 -> Hedin/ICCD | J78: ='Chemical Data'!J310 -> 5689 | K78: ='Chemical Data'!K310 -> M | L78: ='Chemical Data'!L310 -> 6.07 | M78: ='Chemical Data'!M310 -> 6.7 | N78: ='Chemical Data'!N310 -> 467 | O78: ='Chemical Data'!O310 -> 478 | P78: ='Chemical Data'!P310 -> 0 | Q78: ='Chemical Data'!Q310 -> 37 | ... T78: ='Chemical Data'!T310 -> -34.490553 | W78: ='Chemical Data'!W310 -> 3.429 | X78: ='Chemical Data'!X310 -> 0.811 | Z78: ='Chemical Data'!Z310 -> 2.235 | AA78: ='Chemical Data'!AA310 -> 0.564 | AB78: ='Chemical Data'!AB310 -> 184.56 | AC78: ='Chemical Data'!AC310 -> 55.34 | AD78: ='Chemical Data'!AD310 -> 18.45 | AE78: ='Chemical Data'!AE310 -> 10.21 | AF78: ='Chemical Data'!AF310 -> 1.68 | AG78: ='Chemical Data'!AG310 -> 7.6 | ... AJ78: ='Chemical Data'!AJ310 -> <0.2 | AN78: ='Chemical Data'!AN310 -> -1706.7 | AO78: ='Chemical Data'!AO310 -> 234.09097 | AP78: ='Chemical Data'!AP310 -> 152.57898 | AQ78: ='Chemical Data'!AQ310 -> 38.503152 | AR78: ='Chemical Data'!AR310 -> 12599.542 | AS78: ='Chemical Data'!AS310 -> 2908.2168
A79: ='Chemical Data'!A311 -> 45022 | B79: ='Chemical Data'!B311 -> 012 | C79: ='Chemical Data'!C311 -> KBLDIX | D79: ='Chemical Data'!D311 -> 60152 | E79: ='Chemical Data'!E311 -> Mouth of Dixon Run | F79: ='Chemical Data'!F311 -> 40.670039 | G79: ='Chemical Data'!G311 -> -79.015269 | H79: ='Chemical Data'!H311 -> Hedin/ICCD | J79: ='Chemical Data'!J311 -> 8082 | K79: ='Chemical Data'!K311 -> M | L79: ='Chemical Data'!L311 -> 6.85 | M79: ='Chemical Data'!M311 -> 6.3 | N79: ='Chemical Data'!N311 -> 372 | O79: ='Chemical Data'!O311 -> 405 | P79: ='Chemical Data'!P311 -> 11.2 | Q79: =R79 -> 40.4 | R79: ='Chemical Data'!R311 -> 40.4 | S79: ='Chemical Data'!S311 -> -26 | T79: ='Chemical Data'!T311 -> -38.571547 | W79: ='Chemical Data'!W311 -> 3.1 | X79: ='Chemical Data'!X311 -> 0.561 | Z79: ='Chemical Data'!Z311 -> 1.76 | AA79: ='Chemical Data'!AA311 -> 0.454 | AB79: ='Chemical Data'!AB311 -> 145.15 | AC79: ='Chemical Data'!AC311 -> 50 | AD79: ='Chemical Data'!AD311 -> 15.8 | AE79: ='Chemical Data'!AE311 -> 8.9 | AF79: ='Chemical Data'!AF311 -> 1.68 | AG79: ='Chemical Data'!AG311 -> 7 | ... AJ79: ='Chemical Data'!AJ311 -> <0.2 | AN79: ='Chemical Data'!AN311 -> -2521.584 | AO79: ='Chemical Data'!AO311 -> 300.6504 | AP79: ='Chemical Data'!AP311 -> 170.69184 | AQ79: ='Chemical Data'!AQ311 -> 44.030736 | AR79: ='Chemical Data'!AR311 -> 14077.228 | AS79: ='Chemical Data'!AS311 -> 3918.1536
A80: ='Chemical Data'!A312 -> 45098 | B80: ='Chemical Data'!B312 -> 040 | C80: ='Chemical Data'!C312 -> KBLDIX | D80: ='Chemical Data'!D312 -> 60152 | E80: ='Chemical Data'!E312 -> Mouth of Dixon Run | F80: ='Chemical Data'!F312 -> 40.670039 | G80: ='Chemical Data'!G312 -> -79.015269 | H80: ='Chemical Data'!H312 -> SFU/ICCD | J80: ='Chemical Data'!J312 -> 966 | K80: ='Chemical Data'!K312 -> M | L80: ='Chemical Data'!L312 -> 7.26 | M80: ='Chemical Data'!M312 -> 6.2 | N80: ='Chemical Data'!N312 -> 682 | O80: ='Chemical Data'!O312 -> 672 | P80: ='Chemical Data'!P312 -> 0 | Q80: =R80 -> 30.2 | R80: ='Chemical Data'!R312 -> 30.2 | S80: ='Chemical Data'!S312 -> -16.4 | T80: ='Chemical Data'!T312 -> -28.247152 | W80: ='Chemical Data'!W312 -> 2.171 | X80: ='Chemical Data'!X312 -> 0.11 | Z80: ='Chemical Data'!Z312 -> 1.685 | AA80: ='Chemical Data'!AA312 -> 0.974 | AB80: ='Chemical Data'!AB312 -> 302.56 | AC80: ='Chemical Data'!AC312 -> 82.01 | AD80: ='Chemical Data'!AD312 -> 26.75 | AE80: ='Chemical Data'!AE312 -> 16.53 | AF80: ='Chemical Data'!AF312 -> 2.39 | AG80: ='Chemical Data'!AG312 -> 30.4 | ... AJ80: ='Chemical Data'!AJ312 -> 0.2 | AN80: ='Chemical Data'!AN312 -> -190.1088 | AO80: ='Chemical Data'!AO312 -> 25.166232 | AP80: ='Chemical Data'!AP312 -> 19.53252 | AQ80: ='Chemical Data'!AQ312 -> 11.290608 | AR80: ='Chemical Data'!AR312 -> 3507.2755 | AS80: ='Chemical Data'!AS312 -> 350.0784
A81: 45169 | B81: ='Chemical Data'!B313 -> 024 | C81: ='Chemical Data'!C313 -> KBLDIX | D81: ='Chemical Data'!D313 -> 60152 | E81: ='Chemical Data'!E313 -> Mouth of Dixon Run | F81: ='Chemical Data'!F313 -> 40.670039 | G81: ='Chemical Data'!G313 -> -79.015269 | H81: ='Chemical Data'!H313 -> Hedin | J81: ='Chemical Data'!J313 -> 4283.46 | K81: ='Chemical Data'!K313 -> M | L81: ='Chemical Data'!L313 -> 6.77 | M81: ='Chemical Data'!M313 -> 6.7 | N81: ='Chemical Data'!N313 -> 492 | O81: ='Chemical Data'!O313 -> 514 | P81: ='Chemical Data'!P313 -> 15.8 | Q81: ='Chemical Data'!Q313 -> 35 | ... T81: ='Chemical Data'!T313 -> -32.913439 | W81: ='Chemical Data'!W313 -> 3.61 | X81: ='Chemical Data'!X313 -> 0.273 | Z81: ='Chemical Data'!Z313 -> 2.86 | AA81: ='Chemical Data'!AA313 -> 0.883 | AB81: ='Chemical Data'!AB313 -> 205.47 | AC81: ='Chemical Data'!AC313 -> 61.5 | AD81: ='Chemical Data'!AD313 -> 20.1 | AE81: ='Chemical Data'!AE313 -> 11.9 | AF81: ='Chemical Data'!AF313 -> 2.03 | AG81: ='Chemical Data'!AG313 -> 5.9 | ... AJ81: ='Chemical Data'!AJ313 -> 0.2 | AN81: ='Chemical Data'!AN313 -> -1634.5683 | AO81: ='Chemical Data'!AO313 -> 185.55949 | AP81: ='Chemical Data'!AP313 -> 147.00835 | AQ81: ='Chemical Data'!AQ313 -> 45.387542 | AR81: ='Chemical Data'!AR313 -> 10561.47 | AS81: ='Chemical Data'!AS313 -> 2241.1063
A82: ='Chemical Data'!A314 -> 45366 | B82: ='Chemical Data'!B314 -> 0 | C82: ='Chemical Data'!C314 -> KBLDIX | D82: ='Chemical Data'!D314 -> 60152 | E82: ='Chemical Data'!E314 -> Mouth of Dixon Run | F82: ='Chemical Data'!F314 -> 40.670039 | G82: ='Chemical Data'!G314 -> -79.015269 | H82: ='Chemical Data'!H314 -> Hedin/ICCD | J82: ='Chemical Data'!J314 -> 12328.21 | K82: ='Chemical Data'!K314 -> M | M82: ='Chemical Data'!M314 -> 6.5 | R82: ='Chemical Data'!R314 -> 48 | S82: ='Chemical Data'!S314 -> -22.8 | T82: ='Chemical Data'!T314 -> -46.518339 | W82: ='Chemical Data'!W314 -> 2.362 | X82: ='Chemical Data'!X314 -> 0.475 | Z82: ='Chemical Data'!Z314 -> 1.736 | AA82: ='Chemical Data'!AA314 -> 0.342 | AB82: ='Chemical Data'!AB314 -> 121.9 | AN82: ='Chemical Data'!AN314 -> -3372.9983 | AO82: ='Chemical Data'!AO314 -> 349.43078 | AP82: ='Chemical Data'!AP314 -> 256.82127 | AQ82: ='Chemical Data'!AQ314 -> 50.594974 | AR82: ='Chemical Data'!AR314 -> 18033.706 | AS82: ='Chemical Data'!AS314 -> 7101.049
A83: ='Chemical Data'!A315 -> 45527 | B83: ='Chemical Data'!B315 -> 013 | C83: ='Chemical Data'!C315 -> KBLDIX | D83: ='Chemical Data'!D315 -> 60152 | E83: ='Chemical Data'!E315 -> Mouth of Dixon Run | F83: ='Chemical Data'!F315 -> 40.670039 | G83: ='Chemical Data'!G315 -> -79.015269 | H83: ='Chemical Data'!H315 -> Hedin/ICCD | J83: ='Chemical Data'!J315 -> 2486 | K83: ='Chemical Data'!K315 -> M | L83: ='Chemical Data'!L315 -> 7.16 | M83: ='Chemical Data'!M315 -> 6.4 | N83: ='Chemical Data'!N315 -> 556 | P83: ='Chemical Data'!P315 -> 0 | R83: ='Chemical Data'!R315 -> 42.2 | S83: ='Chemical Data'!S315 -> -22.6 | T83: ='Chemical Data'!T315 -> -40.232205 | W83: ='Chemical Data'!W315 -> 3.41 | X83: ='Chemical Data'!X315 -> 0.331 | Z83: ='Chemical Data'!Z315 -> 3.468 | AA83: ='Chemical Data'!AA315 -> 0.753 | AB83: ='Chemical Data'!AB315 -> 267.6 | AK83: ='Chemical Data'!AK315 -> 21 | AL83: ='Chemical Data'!AL315 -> 404 | AN83: ='Chemical Data'!AN315 -> -674.2032 | AO83: ='Chemical Data'!AO315 -> 101.72712 | AP83: ='Chemical Data'!AP315 -> 103.45738 | AQ83: ='Chemical Data'!AQ315 -> 22.463496 | AR83: ='Chemical Data'!AR315 -> 7983.0432 | AS83: ='Chemical Data'!AS315 -> 1258.9104
A84: Average | J84: =AVERAGE(J76:J83) -> 5115.4587 | K84: =AVERAGE(K76:K83) -> #DIV/0! | L84: =AVERAGE(L76:L83) -> 6.8471429 | M84: =AVERAGE(M76:M83) -> 6.55 | N84: =AVERAGE(N76:N83) -> 525.51429 | O84: =AVERAGE(O76:O83) -> 533.5 | P84: =AVERAGE(P76:P83) -> 6.4142857 | Q84: =AVERAGE(Q76:Q83) -> 36.35 | ... T84: =AVERAGE(T76:T83) -> -36.08365 | U84: =AVERAGE(U76:U82) -> 10.09 | V84: =AVERAGE(V76:V82) -> 87.3 | W84: =AVERAGE(W76:W82) -> 3.4258571 | X84: =AVERAGE(X76:X83) -> 0.634125 | Z84: =AVERAGE(Z76:Z83) -> 2.49075 | AA84: =AVERAGE(AA76:AA83) -> 0.724875 | AB84: =AVERAGE(AB76:AB83) -> 225.77857 | AC84: =AVERAGE(AC76:AC83) -> 63.843333 | AD84: =AVERAGE(AD76:AD83) -> 21.128333 | AE84: =AVERAGE(AE76:AE83) -> 12.79 | AF84: =AVERAGE(AF76:AF83) -> 2.005 | AG84: =AVERAGE(AG76:AG83) -> 11.25 | ... AL84: =AVERAGE(AL76:AL83) -> 404 | AN84: =AVERAGE(AN76:AN83) -> -1532.7732 | AO84: =AVERAGE(AO76:AO83) -> 186.97828 | AP84: =AVERAGE(AP76:AP83) -> 129.92375 | AQ84: =AVERAGE(AQ76:AQ83) -> 33.558008 | AR84: =AVERAGE(AR76:AR83) -> 10500.216 | AS84: =AVERAGE(AS76:AS83) -> 2596.3398
A86: 37943 | B86: MP-10 | J86: 100 | K86: E | L86: 2.9 | R86: 0 | W86: =18100/1000 -> 18.1 | Z86: =30000/1000 -> 30 | AA86: =4390/1000 -> 4.39 | AB86: 852.3
A87: 38104 | B87: MP-10 | L87: 3.2 | R87: 0 | W87: =7840/1000 -> 7.84 | Z87: =16300/1000 -> 16.3 | AA87: =2260/1000 -> 2.26 | AB87: 825.5
A88: 38251 | B88: MP-10 | L88: 3.3 | R88: 0 | W88: =8800/1000 -> 8.8 | Z88: =20000/1000 -> 20 | AA88: =4270/1000 -> 4.27 | AB88: 728.4
A89: 38427 | B89: MP-10 | L89: 3.1 | R89: 0 | W89: =20100/1000 -> 20.1 | Z89: =23600/1000 -> 23.6 | AA89: =3760/1000 -> 3.76 | AB89: 854
A90: 38454 | B90: MP-10 | L90: 3.2 | R90: 0 | W90: =15400/1000 -> 15.4 | Z90: =22400/1000 -> 22.4 | AA90: =3420/1000 -> 3.42 | AB90: 854.8
A91: 38489 | B91: MP-10 | L91: 3.1 | R91: 0 | W91: =27100/1000 -> 27.1 | Z91: =23700/1000 -> 23.7 | AA91: =4300/1000 -> 4.3 | AB91: 996.5
A92: 39757 | B92: MP-10 | L92: 3.1 | R92: 0 | W92: =31156/1000 -> 31.156 | Z92: =29884/1000 -> 29.884 | AA92: =4793/1000 -> 4.793 | AB92: 1158.8
A93: 40065 | B93: MP-10 | L93: 2.8 | R93: 0 | W93: =18791/1000 -> 18.791 | Z93: =32509/1000 -> 32.509 | AA93: =4252/1000 -> 4.252 | AB93: 908.4
A94: 40232 | B94: MP-10 | J94: 100 | K94: E | L94: 2.9 | R94: 0 | W94: =14370/1000 -> 14.37 | Z94: =30418/1000 -> 30.418 | AA94: =3762/1000 -> 3.762 | AB94: 907
A95: 40570 | B95: MP-10 | J95: 75 | K95: E | L95: 3 | R95: 0 | W95: =18644/1000 -> 18.644 | Z95: =33695/1000 -> 33.695 | AA95: =4101/1000 -> 4.101 | AB95: 1019.7
A96: 40863 | B96: MP-10 | L96: 2.9 | R96: 0 | W96: =13003/1000 -> 13.003 | Z96: =28421/1000 -> 28.421 | AA96: =3450/1000 -> 3.45 | AB96: 885.9
A97: 41052 | B97: MP-10 | L97: 3 | R97: 0 | W97: =8980/1000 -> 8.98 | Z97: =21343/1000 -> 21.343 | AA97: =2635/1000 -> 2.635 | AB97: 851.6
A98: 41173 | B98: MP-10 | L98: 3 | R98: 0 | W98: =16343/1000 -> 16.343 | Z98: =28360/1000 -> 28.36 | AA98: =3583/1000 -> 3.583 | AB98: 1068.8
A99: 41436 | B99: MP-10 | J99: 50 | K99: E | L99: 3 | R99: 0 | W99: =16957/1000 -> 16.957 | Z99: =25238/1000 -> 25.238 | AA99: =3209/1000 -> 3.209 | AB99: 963.8
A100: 41725 | B100: MP-10 | J100: 35 | K100: E | L100: 3.1 | R100: 0 | W100: =9960/1000 -> 9.96 | Z100: 23.234 | AA100: =2919/1000 -> 2.919 | AB100: 857.1
A101: 42228 | B101: MP-10 | J101: 15 | K101: E | L101: 2.8 | R101: 0 | W101: =10740/1000 -> 10.74 | Z101: =28490/1000 -> 28.49 | AA101: =3191/1000 -> 3.191 | AB101: 858.8
A102: 42486 | B102: MP-10 | L102: 3 | R102: 0 | W102: =12583/1000 -> 12.583 | Z102: =23565/1000 -> 23.565 | AA102: =2782/1000 -> 2.782 | AB102: 803.3

Sheet Sample Run
A1: ='Chemical Data'!A1 -> Upper Two Lick Creek Watershed Assessment Growing Greener Grant to Indiana County Conservation District. Data managed by Hedin Environmental. Contact Ben Hedin (ben.hedin@hedinenv.com) with questions.
A2: ='Chemical Data'!A2 -> n/m = not measured
A4: ='Chemical Data'!A4 -> Date | B4: ='Chemical Data'!B4 -> Sequence # | C4: ='Chemical Data'!C4 -> Project ID | D4: ='Chemical Data'!D4 -> DEP ID # | E4: ='Chemical Data'!E4 -> Description | F4: ='Chemical Data'!F4 -> Lat | G4: ='Chemical Data'!G4 -> Long | H4: ='Chemical Data'!H4 -> Sampler | ... X4: ='Chemical Data'!X4 -> Fe+2 | Y4: ='Chemical Data'!Z4 -> Al | Z4: ='Chemical Data'!AA4 -> Mn | AA4: ='Chemical Data'!AB4 -> SO4 | AB4: ='Chemical Data'!AC4 -> Ca | AC4: ='Chemical Data'!AD4 -> Mg | AD4: ='Chemical Data'!AE4 -> Na | AE4: ='Chemical Data'!AF4 -> K | AF4: ='Chemical Data'!AG4 -> Cl | ... AI4: ='Chemical Data'!AJ4 -> Br | AK4: ='Chemical Data'!AN4 -> Acidity | AL4: ='Chemical Data'!AO4 -> Fe | AM4: ='Chemical Data'!AP4 -> Al | AN4: ='Chemical Data'!AQ4 -> Mn | AO4: ='Chemical Data'!AR4 -> SO4
I5: ='Chemical Data'!I5 -> mile from reservoir | J5: ='Chemical Data'!J5 -> gpm | N5: ='Chemical Data'!N5 -> uS/cm | O5: ='Chemical Data'!O5 -> uS/cm | P5: ='Chemical Data'!P5 -> C | Q5: ='Chemical Data'!Q5 -> mg/L CaCO3 | R5: ='Chemical Data'!R5 -> mg/L CaCO3 | S5: ='Chemical Data'!S5 -> mg/L CaCO3 | T5: ='Chemical Data'!T5 -> mg/L CaCO3 | U5: ='Chemical Data'!U5 -> mg/L | ... X5: ='Chemical Data'!X5 -> mg/L | Y5: ='Chemical Data'!Z5 -> mg/L | Z5: ='Chemical Data'!AA5 -> mg/L | AA5: ='Chemical Data'!AB5 -> mg/L | AB5: ='Chemical Data'!AC5 -> mg/L | AC5: ='Chemical Data'!AD5 -> mg/L | AD5: ='Chemical Data'!AE5 -> mg/L | AE5: ='Chemical Data'!AF5 -> mg/L | AF5: ='Chemical Data'!AG5 -> mg/L | ... AI5: ='Chemical Data'!AJ5 -> mg/L | AK5: ='Chemical Data'!AN5 -> ppd | AL5: ='Chemical Data'!AO5 -> ppd | AM5: ='Chemical Data'!AP5 -> ppd | AN5: ='Chemical Data'!AQ5 -> ppd | AO5: ='Chemical Data'!AR5 -> ppd
A6: ='Chemical Data'!A566 -> 45022 | B6: ='Chemical Data'!B566 -> 011 | C6: ='Chemical Data'!C566 -> Sam 4 | E6: ='Chemical Data'!E566 -> Clean trib parallel to Sample Run | H6: ='Chemical Data'!H566 -> SFU | J6: ='Chemical Data'!J566 -> 23 | K6: ='Chemical Data'!K566 -> M | L6: ='Chemical Data'!L566 -> 6.88 | M6: ='Chemical Data'!M566 -> 6.7 | N6: ='Chemical Data'!N566 -> 245 | O6: ='Chemical Data'!O566 -> 260 | P6: ='Chemical Data'!P566 -> 0 | Q6: ='Chemical Data'!Q566 -> 0 | ... X6: ='Chemical Data'!X566 -> 0.082 | Y6: ='Chemical Data'!Z566 -> 0.63 | Z6: ='Chemical Data'!AA566 -> 0.03 | AA6: ='Chemical Data'!AB566 -> 31.23 | AB6: ='Chemical Data'!AC566 -> 26.9 | AC6: ='Chemical Data'!AD566 -> 6.94 | AD6: ='Chemical Data'!AE566 -> 17 | AE6: ='Chemical Data'!AF566 -> 1.58 | AF6: ='Chemical Data'!AG566 -> 22 | ... AI6: ='Chemical Data'!AJ566 -> <0.2 | AK6: ='Chemical Data'!AN566 -> -14.6832 | AL6: ='Chemical Data'!AO566 -> 0.226596 | AM6: ='Chemical Data'!AP566 -> 0.17388 | AN6: ='Chemical Data'!AQ566 -> 0.00828 | AO6: ='Chemical Data'!AR566 -> 8.61948
A7: ='Chemical Data'!A567 -> 45098 | B7: ='Chemical Data'!B567 -> 023 | C7: ='Chemical Data'!C567 -> Sam 4 | E7: ='Chemical Data'!E567 -> Clean trib parallel to Sample Run | H7: ='Chemical Data'!H567 -> Hedin | J7: ='Chemical Data'!J567 -> 0 | K7: ='Chemical Data'!K567 -> M | L7: ='Chemical Data'!L567 -> 0 | M7: ='Chemical Data'!M567 -> 0 | N7: ='Chemical Data'!N567 -> 0 | O7: ='Chemical Data'!O567 -> 0 | P7: ='Chemical Data'!P567 -> 0 | Q7: ='Chemical Data'!Q567 -> 0
A8: 45169 | B8: ='Chemical Data'!B568 -> 021 | C8: ='Chemical Data'!C568 -> Sam 4 | E8: ='Chemical Data'!E568 -> Clean trib parallel to Sample Run | H8: ='Chemical Data'!H568 -> Hedin | J8: ='Chemical Data'!J568 -> 31.266667 | K8: ='Chemical Data'!K568 -> M | L8: ='Chemical Data'!L568 -> 6.63 | M8: ='Chemical Data'!M568 -> 7 | N8: ='Chemical Data'!N568 -> 321 | O8: ='Chemical Data'!O568 -> 333 | P8: ='Chemical Data'!P568 -> 16.5 | Q8: ='Chemical Data'!Q568 -> 0 | ... X8: ='Chemical Data'!X568 -> 0.05 | Y8: ='Chemical Data'!Z568 -> 0.3 | Z8: ='Chemical Data'!AA568 -> 0.04 | AA8: ='Chemical Data'!AB568 -> 77.3 | AB8: ='Chemical Data'!AC568 -> 45.7 | AC8: ='Chemical Data'!AD568 -> 10.4 | AD8: ='Chemical Data'!AE568 -> 4.03 | AE8: ='Chemical Data'!AF568 -> 1.98 | AF8: ='Chemical Data'!AG568 -> 10.1 | ... AI8: ='Chemical Data'!AJ568 -> 0.2 | AK8: ='Chemical Data'!AN568 -> -20.11072 | AL8: ='Chemical Data'!AO568 -> 0.03752 | AM8: ='Chemical Data'!AP568 -> 0.11256 | AN8: ='Chemical Data'!AQ568 -> 0.015008 | AO8: ='Chemical Data'!AR568 -> 29.00296
A10: ='Chemical Data'!A560 -> 44964 | B10: ='Chemical Data'!B560 -> 053 | C10: ='Chemical Data'!C560 -> Sam3 | D10: ='Chemical Data'!D560 -> 0 | E10: ='Chemical Data'!E560 -> Sample Run upstream of Refuse pile trib | H10: ='Chemical Data'!H560 -> Hedin/ICCD | J10: ='Chemical Data'!J560 -> 49 | K10: ='Chemical Data'!K560 -> M | L10: ='Chemical Data'!L560 -> 3.03 | M10: ='Chemical Data'!M560 -> 3.1 | N10: ='Chemical Data'!N560 -> 1577 | O10: ='Chemical Data'!O560 -> 1586 | P10: ='Chemical Data'!P560 -> 0 | Q10: ='Chemical Data'!Q560 -> 0 | ... X10: ='Chemical Data'!X560 -> 838.025 | Y10: ='Chemical Data'!Z560 -> 87.5 | Z10: ='Chemical Data'!AA560 -> 3.811 | AA10: ='Chemical Data'!AB560 -> 1132.85 | AB10: ='Chemical Data'!AC560 -> 131 | AC10: ='Chemical Data'!AD560 -> 18.54 | AD10: ='Chemical Data'!AE560 -> 3.55 | AE10: ='Chemical Data'!AF560 -> 2.17 | AF10: ='Chemical Data'!AG560 -> 5.1 | ... AI10: ='Chemical Data'!AJ560 -> <0.2 | AK10: ='Chemical Data'!AN560 -> 425.0064 | AL10: ='Chemical Data'!AO560 -> 41.67156 | AM10: ='Chemical Data'!AP560 -> 51.45 | AN10: ='Chemical Data'!AQ560 -> 2.240868 | AO10: ='Chemical Data'!AR560 -> 666.1158
A11: ='Chemical Data'!A561 -> 45022 | B11: ='Chemical Data'!B561 -> 010 | C11: ='Chemical Data'!C561 -> Sam3 | D11: ='Chemical Data'!D561 -> 0 | E11: ='Chemical Data'!E561 -> Sample Run upstream of Refuse pile trib | H11: ='Chemical Data'!H561 -> SFU | J11: ='Chemical Data'!J561 -> 87 | K11: ='Chemical Data'!K561 -> M | L11: ='Chemical Data'!L561 -> 6.57 | M11: ='Chemical Data'!M561 -> 6.4 | N11: ='Chemical Data'!N561 -> 231 | O11: ='Chemical Data'!O561 -> 239 | P11: ='Chemical Data'!P561 -> 0 | Q11: ='Chemical Data'!Q561 -> 0 | ... X11: ='Chemical Data'!X561 -> 0.05 | Y11: ='Chemical Data'!Z561 -> 0.856 | Z11: ='Chemical Data'!AA561 -> 0.092 | AA11: ='Chemical Data'!AB561 -> 57.12 | AB11: ='Chemical Data'!AC561 -> 30.6 | AC11: ='Chemical Data'!AD561 -> 8.12 | AD11: ='Chemical Data'!AE561 -> 3.51 | AE11: ='Chemical Data'!AF561 -> 1.54 | AF11: ='Chemical Data'!AG561 -> 10.2 | ... AI11: ='Chemical Data'!AJ561 -> <0.2 | AK11: ='Chemical Data'!AN561 -> -34.8696 | AL11: ='Chemical Data'!AO561 -> 0.425952 | AM11: ='Chemical Data'!AP561 -> 0.893664 | AN11: ='Chemical Data'!AQ561 -> 0.096048 | AO11: ='Chemical Data'!AR561 -> 59.63328
A12: ='Chemical Data'!A562 -> 45098 | B12: ='Chemical Data'!B562 -> 022 | C12: ='Chemical Data'!C562 -> Sam3 | D12: ='Chemical Data'!D562 -> 0 | E12: ='Chemical Data'!E562 -> Sample Run upstream of Refuse pile trib | H12: ='Chemical Data'!H562 -> Hedin | J12: ='Chemical Data'!J562 -> 11.7 | K12: ='Chemical Data'!K562 -> M | L12: ='Chemical Data'!L562 -> 2.54 | M12: ='Chemical Data'!M562 -> 2.7 | N12: ='Chemical Data'!N562 -> 2913 | O12: ='Chemical Data'!O562 -> 3390 | P12: ='Chemical Data'!P562 -> 17.7 | Q12: ='Chemical Data'!Q562 -> 0 | ... X12: ='Chemical Data'!X562 -> 8.914 | Y12: ='Chemical Data'!Z562 -> 245.6 | Z12: ='Chemical Data'!AA562 -> 11.99 | AA12: ='Chemical Data'!AB562 -> 2967.06 | AB12: ='Chemical Data'!AC562 -> 328.3 | AC12: ='Chemical Data'!AD562 -> 49.82 | AD12: ='Chemical Data'!AE562 -> 5.96 | AE12: ='Chemical Data'!AF562 -> 2.66 | AF12: ='Chemical Data'!AG562 -> 4.1 | ... AI12: ='Chemical Data'!AJ562 -> 0.2 | AK12: ='Chemical Data'!AN562 -> 254.5452 | AL12: ='Chemical Data'!AO562 -> 16.89012 | AM12: ='Chemical Data'!AP562 -> 34.48224 | AN12: ='Chemical Data'!AQ562 -> 1.683396 | AO12: ='Chemical Data'!AR562 -> 416.57522
A13: ='Chemical Data'!A563 -> 45169 | B13: ='Chemical Data'!B563 -> 023 | C13: ='Chemical Data'!C563 -> Sam3 | D13: ='Chemical Data'!D563 -> 0 | E13: ='Chemical Data'!E563 -> Sample Run upstream of Refuse pile trib | H13: ='Chemical Data'!H563 -> Hedin | J13: ='Chemical Data'!J563 -> 33.55 | K13: ='Chemical Data'!K563 -> M | L13: ='Chemical Data'!L563 -> 2.15 | M13: ='Chemical Data'!M563 -> 2.9 | N13: ='Chemical Data'!N563 -> 2066 | O13: ='Chemical Data'!O563 -> 2050 | P13: ='Chemical Data'!P563 -> 16.2 | Q13: ='Chemical Data'!Q563 -> 0 | ... X13: ='Chemical Data'!X563 -> 9.17 | Y13: ='Chemical Data'!Z563 -> 119 | Z13: ='Chemical Data'!AA563 -> 6.27 | AA13: ='Chemical Data'!AB563 -> 1465.83 | AB13: ='Chemical Data'!AC563 -> 179 | AC13: ='Chemical Data'!AD563 -> 25.3 | AD13: ='Chemical Data'!AE563 -> 3.85 | AE13: ='Chemical Data'!AF563 -> 2.57 | AF13: ='Chemical Data'!AG563 -> 4 | ... AI13: ='Chemical Data'!AJ563 -> 0.2 | AK13: ='Chemical Data'!AN563 -> 375.30372 | AL13: ='Chemical Data'!AO563 -> 25.00146 | AM13: ='Chemical Data'!AP563 -> 47.9094 | AN13: ='Chemical Data'!AQ563 -> 2.524302 | AO13: ='Chemical Data'!AR563 -> 590.14316
A15: ='Chemical Data'!A554 -> 44964 | B15: ='Chemical Data'!B554 -> 052 | C15: ='Chemical Data'!C554 -> Sam 2 | D15: ='Chemical Data'!D554 -> 0 | E15: ='Chemical Data'!E554 -> Refuse pile trib | H15: ='Chemical Data'!H554 -> Hedin/ICCD | J15: ='Chemical Data'!J554 -> 8 | K15: ='Chemical Data'!K554 -> M | L15: ='Chemical Data'!L554 -> 2.51 | M15: ='Chemical Data'!M554 -> 2.6 | N15: ='Chemical Data'!N554 -> >4,000 | O15: ='Chemical Data'!O554 -> 4510 | P15: ='Chemical Data'!P554 -> 0 | Q15: ='Chemical Data'!Q554 -> 0 | ... X15: ='Chemical Data'!X554 -> 50.849 | Y15: ='Chemical Data'!Z554 -> 387.9 | Z15: ='Chemical Data'!AA554 -> 5.698 | AA15: ='Chemical Data'!AB554 -> 5877.81 | AB15: ='Chemical Data'!AC554 -> 158.6 | AC15: ='Chemical Data'!AD554 -> 27.99 | AD15: ='Chemical Data'!AE554 -> 3.86 | AE15: ='Chemical Data'!AF554 -> 23.71 | AF15: ='Chemical Data'!AG554 -> 4 | ... AI15: ='Chemical Data'!AJ554 -> <0.2 | AK15: ='Chemical Data'!AN554 -> 485.9136 | AL15: ='Chemical Data'!AO554 -> 148.416 | AM15: ='Chemical Data'!AP554 -> 37.2384 | AN15: ='Chemical Data'!AQ554 -> 0.547008 | AO15: ='Chemical Data'!AR554 -> 564.26976
A16: ='Chemical Data'!A555 -> 45022 | B16: ='Chemical Data'!B555 -> 009 | C16: ='Chemical Data'!C555 -> Sam 2 | D16: ='Chemical Data'!D555 -> 0 | E16: ='Chemical Data'!E555 -> Refuse pile trib | H16: ='Chemical Data'!H555 -> SFU | J16: ='Chemical Data'!J555 -> 109 | K16: ='Chemical Data'!K555 -> M | L16: ='Chemical Data'!L555 -> 3.06 | M16: ='Chemical Data'!M555 -> 3 | N16: ='Chemical Data'!N555 -> 1252 | O16: ='Chemical Data'!O555 -> 1410 | P16: ='Chemical Data'!P555 -> 0 | Q16: ='Chemical Data'!Q555 -> 0 | ... X16: ='Chemical Data'!X555 -> 51.055 | Y16: ='Chemical Data'!Z555 -> 61.6 | Z16: ='Chemical Data'!AA555 -> 2.39 | AA16: ='Chemical Data'!AB555 -> 804.02 | AB16: ='Chemical Data'!AC555 -> 78.6 | AC16: ='Chemical Data'!AD555 -> 13.3 | AD16: ='Chemical Data'!AE555 -> 3.1 | AE16: ='Chemical Data'!AF555 -> 2.49 | AF16: ='Chemical Data'!AG555 -> 5.6 | ... AI16: ='Chemical Data'!AJ555 -> <0.2 | AK16: ='Chemical Data'!AN555 -> 738.4968 | AL16: ='Chemical Data'!AO555 -> 123.0828 | AM16: ='Chemical Data'!AP555 -> 80.5728 | AN16: ='Chemical Data'!AQ555 -> 3.12612 | AO16: ='Chemical Data'!AR555 -> 1051.6582
A17: ='Chemical Data'!A556 -> 45098 | B17: ='Chemical Data'!B556 -> 021 | C17: ='Chemical Data'!C556 -> Sam 2 | D17: ='Chemical Data'!D556 -> 0 | E17: ='Chemical Data'!E556 -> Refuse pile trib | H17: ='Chemical Data'!H556 -> Hedin | J17: ='Chemical Data'!J556 -> 0.71 | K17: ='Chemical Data'!K556 -> M | L17: ='Chemical Data'!L556 -> 2.39 | M17: ='Chemical Data'!M556 -> 2.6 | N17: ='Chemical Data'!N556 -> >4,000 | O17: ='Chemical Data'!O556 -> 5140 | P17: ='Chemical Data'!P556 -> 17.3 | Q17: ='Chemical Data'!Q556 -> 0 | ... X17: ='Chemical Data'!X556 -> 690.628 | Y17: ='Chemical Data'!Z556 -> 473 | Z17: ='Chemical Data'!AA556 -> 6.675 | AA17: ='Chemical Data'!AB556 -> 7101.27 | AB17: ='Chemical Data'!AC556 -> 163.5 | AC17: ='Chemical Data'!AD556 -> 34.66 | AD17: ='Chemical Data'!AE556 -> 3.61 | AE17: ='Chemical Data'!AF556 -> 11.39 | AF17: ='Chemical Data'!AG556 -> 6.2 | ... AI17: ='Chemical Data'!AJ556 -> 0.2 | AK17: ='Chemical Data'!AN556 -> 52.895568 | AL17: ='Chemical Data'!AO556 -> 14.06652 | AM17: ='Chemical Data'!AP556 -> 4.02996 | AN17: ='Chemical Data'!AQ556 -> 0.056871 | AO17: ='Chemical Data'!AR556 -> 60.50282
A18: ='Chemical Data'!A557 -> 45169 | B18: ='Chemical Data'!B557 -> 022 | C18: ='Chemical Data'!C557 -> Sam 2 | D18: ='Chemical Data'!D557 -> 0 | E18: ='Chemical Data'!E557 -> Refuse pile trib | H18: ='Chemical Data'!H557 -> Hedin | J18: ='Chemical Data'!J557 -> 4.8 | K18: ='Chemical Data'!K557 -> M | L18: ='Chemical Data'!L557 -> 1.93 | M18: ='Chemical Data'!M557 -> 2.6 | N18: ='Chemical Data'!N557 -> >4,000 | O18: ='Chemical Data'!O557 -> 4590 | P18: ='Chemical Data'!P557 -> 15.4 | Q18: ='Chemical Data'!Q557 -> 0 | ... X18: ='Chemical Data'!X557 -> 828.022 | Y18: ='Chemical Data'!Z557 -> 350 | Z18: ='Chemical Data'!AA557 -> 6.42 | AA18: ='Chemical Data'!AB557 -> 5461.11 | AB18: ='Chemical Data'!AC557 -> 170 | AC18: ='Chemical Data'!AD557 -> 28.7 | AD18: ='Chemical Data'!AE557 -> 4.19 | AE18: ='Chemical Data'!AF557 -> 19.3 | AF18: ='Chemical Data'!AG557 -> 4 | ... AI18: ='Chemical Data'!AJ557 -> 0.2 | AK18: ='Chemical Data'!AN557 -> 282.14784 | AL18: ='Chemical Data'!AO557 -> 8.62848 | AM18: ='Chemical Data'!AP557 -> 20.16 | AN18: ='Chemical Data'!AQ557 -> 0.369792 | AO18: ='Chemical Data'!AR557 -> 314.55994
A20: ='Chemical Data'!A377 -> 44964 | B20: ='Chemical Data'!B377 -> 003 | C20: ='Chemical Data'!C377 -> KBLSAM | D20: ='Chemical Data'!D377 -> 60151 | E20: ='Chemical Data'!E377 -> Mouth of Sample Run | H20: ='Chemical Data'!H377 -> Hedin/ICCD | J20: ='Chemical Data'!J377 -> 139 | K20: ='Chemical Data'!K377 -> M | L20: ='Chemical Data'!L377 -> 3.26 | M20: ='Chemical Data'!M377 -> 3.2 | N20: ='Chemical Data'!N377 -> 1072 | O20: ='Chemical Data'!O377 -> 1165 | P20: ='Chemical Data'!P377 -> 0 | Q20: ='Chemical Data'!Q377 -> 0 | ... X20: ='Chemical Data'!X377 -> 43.149 | Y20: ='Chemical Data'!Z377 -> 46.38 | Z20: ='Chemical Data'!AA377 -> 1.909 | AA20: ='Chemical Data'!AB377 -> 663.16 | AB20: ='Chemical Data'!AC377 -> 74.08 | AC20: ='Chemical Data'!AD377 -> 13.55 | AD20: ='Chemical Data'!AE377 -> 6.89 | AE20: ='Chemical Data'!AF377 -> 2.44 | AF20: ='Chemical Data'!AG377 -> 10.7 | ... AI20: ='Chemical Data'!AJ377 -> <0.2 | AK20: ='Chemical Data'!AN377 -> 676.5408 | AL20: ='Chemical Data'!AO377 -> 113.7576 | AM20: ='Chemical Data'!AP377 -> 77.36184 | AN20: ='Chemical Data'!AQ377 -> 3.184212 | AO20: ='Chemical Data'!AR377 -> 1106.1509
A21: ='Chemical Data'!A378 -> 45022 | B21: ='Chemical Data'!B378 -> 008 | C21: ='Chemical Data'!C378 -> KBLSAM | D21: ='Chemical Data'!D378 -> 60151 | E21: ='Chemical Data'!E378 -> Mouth of Sample Run | H21: ='Chemical Data'!H378 -> SFU | J21: ='Chemical Data'!J378 -> 390 | K21: ='Chemical Data'!K378 -> M | L21: ='Chemical Data'!L378 -> 3.56 | M21: ='Chemical Data'!M378 -> 3.3 | N21: ='Chemical Data'!N378 -> 656 | O21: ='Chemical Data'!O378 -> 729 | P21: ='Chemical Data'!P378 -> 0 | Q21: ='Chemical Data'!Q378 -> 0 | ... X21: ='Chemical Data'!X378 -> 17.338 | Y21: ='Chemical Data'!Z378 -> 23.2 | Z21: ='Chemical Data'!AA378 -> 1.01 | AA21: ='Chemical Data'!AB378 -> 349.19 | AB21: ='Chemical Data'!AC378 -> 51.1 | AC21: ='Chemical Data'!AD378 -> 9.53 | AD21: ='Chemical Data'!AE378 -> 5.23 | AE21: ='Chemical Data'!AF378 -> 1.86 | AF21: ='Chemical Data'!AG378 -> 9.6 | ... AI21: ='Chemical Data'!AJ378 -> <0.2 | AK21: ='Chemical Data'!AN378 -> 942.552 | AL21: ='Chemical Data'!AO378 -> 146.952 | AM21: ='Chemical Data'!AP378 -> 108.576 | AN21: ='Chemical Data'!AQ378 -> 4.7268 | AO21: ='Chemical Data'!AR378 -> 1634.2092
A22: ='Chemical Data'!A379 -> 45098 | B22: ='Chemical Data'!B379 -> 020 | C22: ='Chemical Data'!C379 -> KBLSAM | D22: ='Chemical Data'!D379 -> 60151 | E22: ='Chemical Data'!E379 -> Mouth of Sample Run | H22: ='Chemical Data'!H379 -> Hedin | J22: ='Chemical Data'!J379 -> 21 | K22: ='Chemical Data'!K379 -> M | L22: ='Chemical Data'!L379 -> 2.79 | M22: ='Chemical Data'!M379 -> 2.8 | N22: ='Chemical Data'!N379 -> 1837 | O22: ='Chemical Data'!O379 -> 2100 | P22: ='Chemical Data'!P379 -> 16.4 | Q22: ='Chemical Data'!Q379 -> 0 | ... X22: ='Chemical Data'!X379 -> 6.189 | Y22: ='Chemical Data'!Z379 -> 12.27 | Z22: ='Chemical Data'!AA379 -> 6.107 | AA22: ='Chemical Data'!AB379 -> 1523.7 | AB22: ='Chemical Data'!AC379 -> 192.4 | AC22: ='Chemical Data'!AD379 -> 31.47 | AD22: ='Chemical Data'!AE379 -> 12.08 | AE22: ='Chemical Data'!AF379 -> 2.7 | AF22: ='Chemical Data'!AG379 -> 16.4 | ... AI22: ='Chemical Data'!AJ379 -> 0.2 | AK22: ='Chemical Data'!AN379 -> 225.1368 | AL22: ='Chemical Data'!AO379 -> 17.2116 | AM22: ='Chemical Data'!AP379 -> 3.09204 | AN22: ='Chemical Data'!AQ379 -> 1.538964 | AO22: ='Chemical Data'!AR379 -> 383.9724
